{"text_format":"1","workbook":"xlsx","n_sheets":30,"sheets":["param","komite","Main","resid","rahnama","moshakhasat","tahsilat","sanavat","rotbe","arzeshyabi","a","b1","b2","b3","g1-1","g1-2","g2-1","g2-2","g3","g4","d1","d2","d3","d4","d5","d8","d9","d10","emtiyaz","souratjalase"],"not_rendered":{"charts":0,"images":3,"macros":1,"external_links":0,"defined_names":27,"comments":0,"pivot_tables":0},"unopened":[],"bounds":{"document_bytes":16777216,"sheet_cells":100000,"rows_first":2000,"rows_last":500,"rows_between":2000,"halvings":0,"cell_chars":16384,"cell_head_chars":4096},"cells_cut":0,"cells_raw":0,"read":"whole","date_system":"1900"}

{"sheet":"param","index":0,"n_rows":195,"n_cols":42,"rows_kept":195,"cut":false,"hidden":false,"merged":[[77,0,77,1],[82,0,82,2],[89,0,89,2],[28,0,28,1],[35,0,35,1],[39,0,39,1],[46,0,46,2],[54,0,54,1],[67,0,67,1]]}
["مدرک تحصیلی","مرتبه درخواستی","مدرک مرتبه","حداقل میانگین ارزشیابی سه سال اخیر","توقف","سابقه","حداقل امتیاز","حداکثر امتیاز ذخیره","حداکثر امتیاز محور الف","حداکثر امتیاز محور الف 1","حداکثر امتیاز محور الف 2","حداکثر امتیاز محور الف 3","حداکثر امتیاز محور الف 4","حداقل امتیاز محور ب","حداکثر امتیاز محور ب","حداکثر امتیاز محور ب 1","حداکثر سال محور ب 1","امتیاز هر سال سابقه","حداکثر امتیاز محور ب 2","حداکثر امتیاز محور ب 3","حداقل امتیاز محور ج","حداکثر امتیاز محور ج","حداکثر امتیاز محور ج 1-1","حداکثر امتیاز محور ج 1-2","حداکثر امتیاز محور ج 2-1","حداکثر امتیاز محور ج 2-2","حداکثر امتیاز محور ج 3","حداکثر امتیاز محور ج 4","حداکثر امتیاز محور د","حداکثر امتیاز محور د 1","حداکثر امتیاز محور د 2","حداکثر امتیاز محور د 3","حداکثر امتیاز محور د 3 الف","حداکثر امتیاز محور د 3 ب","حداکثر امتیاز محور د 4","حداکثر امتیاز محور د 5","حداکثر امتیاز محور د 6","حداکثر امتیاز محور د 7","حداکثر امتیاز محور د 8","حداکثر امتیاز محور د 9","حداکثر امتیاز محور د 10","حداکثر"]
["دکتری یا سطح چهار حوزه","مقدماتی",{"$f":"A2&B2","v":"دکتری یا سطح چهار حوزهمقدماتی"},0,0,null,null,null,350,59,146,58,87,null,null,270,35,24,200,50,null,null,140,10,60,40,100,40,null,20,60,160,80,80,30,40,50,30,50,60,80,"---"]
["کارشناسی ارشد یا سطح سه حوزه","مقدماتی",{"$f":"A3&B3","v":"کارشناسی ارشد یا سطح سه حوزهمقدماتی"},0,0,null,null,null,280,46,117,47,70,null,null,270,35,20,200,50,null,null,140,10,60,40,100,30,null,20,60,160,80,80,30,40,50,30,50,60,80,"---"]
["کارشناسی یا سطح دو حوزه","مقدماتی","کارشناسی یا سطح دو حوزهمقدماتی",0,0,null,null,null,210,35,88,35,52,null,null,270,35,16,200,50,null,null,140,10,60,40,100,25,null,20,60,160,80,80,30,40,50,30,50,60,80,"---"]
["کاردانی یا سطح یک حوزه","مقدماتی","کاردانی یا سطح یک حوزهمقدماتی",0,0,null,null,null,140,25,55,25,35,null,null,270,35,12,200,50,null,null,140,10,60,40,100,15,null,20,60,160,80,80,30,40,50,30,50,60,80,"---"]
["دکتری یا سطح چهار حوزه","مهارتی","دکتری یا سطح چهار حوزهمهارتی",75,3,null,600,30,350,59,146,58,87,60,210,270,35,24,200,50,30,120,140,10,60,40,100,40,120,20,60,160,80,80,30,40,50,30,50,60,80,600]
["کارشناسی ارشد یا سطح سه حوزه","مهارتی","کارشناسی ارشد یا سطح سه حوزهمهارتی",75,4,null,540,30,280,46,117,47,70,60,210,270,35,20,200,50,30,120,140,10,60,40,100,30,120,20,60,160,80,80,30,40,50,30,50,60,80,"---"]
["کارشناسی یا سطح دو حوزه","مهارتی","کارشناسی یا سطح دو حوزهمهارتی",75,5,null,500,30,210,35,88,35,52,60,210,270,35,16,200,50,30,120,140,10,60,40,100,25,120,20,60,160,80,80,30,40,50,30,50,60,80,"---"]
["کاردانی یا سطح یک حوزه","مهارتی","کاردانی یا سطح یک حوزهمهارتی",75,7,null,470,30,140,25,55,25,35,60,210,270,35,12,200,50,30,120,140,10,60,40,100,15,120,20,60,160,80,80,30,40,50,30,50,60,80,"---"]
["دکتری یا سطح چهار حوزه","سه","دکتری یا سطح چهار حوزهسه",80,3,null,850,40,350,59,146,58,87,85,290,270,35,24,200,50,40,170,140,10,60,40,100,40,170,20,60,160,80,80,30,40,50,30,50,60,80,850]
["کارشناسی ارشد یا سطح سه حوزه","سه","کارشناسی ارشد یا سطح سه حوزهسه",80,4,null,770,40,280,46,117,47,70,85,290,270,35,20,200,50,40,170,140,10,60,40,100,30,170,20,60,160,80,80,30,40,50,30,50,60,80,"---"]
["کارشناسی یا سطح دو حوزه","سه","کارشناسی یا سطح دو حوزهسه",80,5,null,720,40,210,35,88,35,52,85,290,270,35,16,200,50,40,170,140,10,60,40,100,25,170,20,60,160,80,80,30,40,50,30,50,60,80,"---"]
["کاردانی یا سطح یک حوزه","سه","کاردانی یا سطح یک حوزهسه",80,9,null,680,40,140,25,55,25,35,85,290,270,35,12,200,50,40,170,140,10,60,40,100,15,170,20,60,160,80,80,30,40,50,30,50,60,80,"---"]
["دکتری یا سطح چهار حوزه","دو","دکتری یا سطح چهار حوزهدو",85,5,null,1100,50,350,59,146,58,87,110,385,270,35,24,200,50,55,220,140,10,60,40,100,40,220,20,60,160,80,80,30,40,50,30,50,60,80,1100]
["کارشناسی ارشد یا سطح سه حوزه","دو","کارشناسی ارشد یا سطح سه حوزهدو",85,5,null,1000,50,280,46,117,47,70,110,385,270,35,20,200,50,55,220,140,10,60,40,100,30,220,20,60,160,80,80,30,40,50,30,50,60,80,"---"]
["کارشناسی یا سطح دو حوزه","دو","کارشناسی یا سطح دو حوزهدو",85,5,null,930,50,210,35,88,35,52,110,385,270,35,16,200,50,55,220,140,10,60,40,100,25,220,20,60,160,80,80,30,40,50,30,50,60,80,"---"]
["کاردانی یا سطح یک حوزه","دو","کاردانی یا سطح یک حوزهدو",85,5,null,820,50,140,25,55,25,35,110,385,270,35,12,200,50,55,220,140,10,60,40,100,15,220,20,60,160,80,80,30,40,50,30,50,60,80,"---"]
["دکتری یا سطح چهار حوزه","یک","دکتری یا سطح چهار حوزهیک",90,5,null,1300,60,350,59,146,58,87,140,490,270,35,24,200,50,70,280,140,10,60,40,100,40,280,20,60,160,80,80,30,40,50,30,50,60,80,1300]
["کارشناسی ارشد یا سطح سه حوزه","یک","کارشناسی ارشد یا سطح سه حوزهیک",90,5,null,1200,60,280,46,117,47,70,140,490,270,35,20,200,50,70,280,140,10,60,40,100,35,280,20,60,160,80,80,30,40,50,30,50,60,80,"---"]
["کارشناسی یا سطح دو حوزه","یک","کارشناسی یا سطح دو حوزهیک",90,5,null,1160,60,210,35,88,35,52,140,490,270,35,20,200,50,70,280,140,10,60,40,100,30,280,20,60,160,80,80,30,40,50,30,50,60,80,"---"]
["دکتری یا سطح چهار حوزه","ممتاز","دکتری یا سطح چهار حوزهممتاز",95,4,null,1600,null,350,59,146,58,87,170,595,270,35,24,200,50,85,340,140,10,60,40,100,40,340,20,60,160,80,80,30,40,50,30,50,60,80,1600]
["کارشناسی ارشد یا سطح سه حوزه","ممتاز","کارشناسی ارشد یا سطح سه حوزهممتاز",95,4,null,1500,null,280,46,117,47,70,170,595,270,35,20,200,50,85,340,140,10,60,40,100,35,340,20,60,160,80,80,30,40,50,30,50,60,80,"---"]
["کارشناسی یا سطح دو حوزه","ممتاز","کارشناسی یا سطح دو حوزهممتاز",95,4,null,1400,null,210,35,88,35,52,170,595,270,35,16,200,50,85,340,140,10,60,40,100,30,340,20,60,160,80,80,30,40,50,30,50,60,80,"---"]
["کاردانی یا سطح یک حوزه",null,null,null,null,null,null,null,null,null,null,null,null,null,null,null,null,12]
["دیپلم و پایین تر",null,null,null,null,null,null,null,null,null,null,null,null,null,null,null,null,8]
["کاردانی یا سطح یک حوزه","یک (موارد خاص)",{"$f":"A26&B26","v":"کاردانی یا سطح یک حوزهیک (موارد خاص)"},90,4,null,1160,60,210,35,88,35,52,140,490,270,35,20,200,50,70,280,140,10,60,40,100,30,280,20,60,160,80,80,30,40,50,30,50,60,80,"---"]
[]
[]
["امتیاز محور ب 2: سوابق اجرایی (هر سال)",null,"مدیریت اداری و پشتیبانی\nارتقای رتبه اعضای غیر هیأت علمی"]
["مدیر",22,"ارتقای رتبه اعضای غیر هیأت علمی"]
["معاون",20]
["رییس اداره",17]
["کارشناس مسئول",12]
["عامل مالی",12]
[]
["امتیاز محور ب 3: عضویت در کمیته ها (هر سال)"]
["رییس دانشگاه و بالاتر",10]
["معاونین دانشگاه",8]
[]
["امتیاز محور ج 3: تسلط به نرم افزار"]
["تخصصی",15]
["شغلی",15]
["طراحی و اجرای نرم افزار شغلی",25]
["بکارگیری نرم افزار",20]
[]
[]
["امتیاز محور د 1: پیشنهاد و ابتکار"]
["سطح","فقط تصویب شده است","مصوب و اجرا شده است"]
["مدیریت/ دانشکده",2,4]
["معاونت",4,8]
["دانشگاه",5,10]
["استان",6,12]
["کشور",10,20]
[]
["امتیاز محور د 2: فعالیت های پژوهشی"]
["اختراع یا اکتشاف تأیید شده در مراجع بین المللی",15]
["اختراع یا اکتشاف تأیید شده در مراجع ملی",15]
["مقاله نمایه شده در ISI",10]
["مقاله علمی پژوهشی",9]
["مقاله نمایه شده در Scopus",8]
["مقاله کامل و خلاصه مقاله همایش بین المللی",3]
["مقاله کامل و خلاصه مقاله همایش ملی",2]
["تألیف کتاب",20]
["ترجمه کتاب",10]
["مجری طرح پژوهشی دارای قرارداد رسمی و تأیید نهایی کارفرما",10]
["همکار طرح پژوهشی دارای قرارداد رسمی و تأیید نهایی کارفرما",4]
[]
["امتیاز محور د 4: لوح تشویق و تقدیر شغلی"]
["رییس جمهور",14]
["معاونین رییس جمهور",12]
["وزراء",10]
["استانداران",8]
["معاونین وزراء",8]
["رییس دانشگاه، معاونین و مدیران استانداری",6]
["معاونین رییس دانشگاه",4]
["مدیران دانشگاه و رؤسای دانشکده ها",2]
[]
["امتیاز محور د 5: کارمند یا مدیر نمونه"]
["کشور",40]
["استان",30]
["دانشگاه",20]
[]
["امتیاز محور د 8: تدوین یا بازنگری آیین نامه"]
["سطح","تدوین","بازنگری"]
["مدیریت/ دانشکده",10,5]
["معاونت",15,7.5]
["دانشگاه",20,10]
["استان یا کشور",25,12.5]
[]
["امتیاز محور د 9: احصا و تدوین فرآیند و اصلاح روشهای موجود"]
["سطح","احصاء و تدوین","احصاء، تدوین و اصلاح روش"]
["مدیریت/ دانشکده",4,6]
["معاونت",6,9]
["دانشگاه",8,12]
["استان یا کشور",10,15]
[]
["رتبه کنونی","رتبه درخواستی","رتبه درخواستی (موارد خاص)"]
["مقدماتی","مهارتی","مهارتی"]
["مهارتی","سه","سه"]
["سه","دو","دو"]
["دو","یک","یک (موارد خاص)"]
["یک","ممتاز"]
["ممتاز"]
["مدرک تحصیلی","مرتبه درخواستی"]
["یکم","مقدماتی"]
["یکم","مهارتی"]
["یکم","سه"]
["یکم","دو"]
["یکم","یک"]
["یکم","ممتاز"]
["دوم","مقدماتی"]
["دوم","مهارتی"]
["دوم","سه"]
["دوم","دو"]
["دوم","یک"]
["دوم","ممتاز"]
["سوم","مقدماتی"]
["سوم","مهارتی"]
["سوم","سه"]
["سوم","دو"]
["سوم","یک"]
["سوم","ممتاز"]
["چهارم","مقدماتی"]
["چهارم","مهارتی"]
["چهارم","سه"]
["چهارم","دو"]
["چهارم","یک (موارد خاص)"]
[]
["پنجم"]
["پنجم"]
["پنجم"]
["پنجم"]
["پنجم"]
["مدرک تحصیلی","کد","کد 2"]
["دکتری یا سطح چهار حوزه","یکم",1]
["کارشناسی ارشد یا سطح سه حوزه","دوم",2]
["کارشناسی یا سطح دو حوزه","سوم",3]
["کاردانی یا سطح یک حوزه","چهارم",4]
["دیپلم و پایین تر",null,5]
[]
[]
["محل اخذ مدرک تحصیلی","درصد"]
["دانشگاه دولتی",1]
["دانشگاه پیام نور مراکز استان",1]
["دانشگاه آزاد اسلامی مراکز استان",1]
["پردیس های مستقر در مراکز استان",1]
["دانشگاه های ممتاز (گروه 1) خارج از کشور",1]
["دانشگاه پیام نور شهرستان",0.8]
["دانشگاه آزاد اسلامی شهرستان",0.8]
["پردیس های مستقر در شهرستان",0.8]
["دانشگاه علمی کاربردی",0.8]
["دانشگاه غیر انتفاعی",0.8]
["دانشگاه های (گروه 2) خارج از کشور",0.8]
[]
["زبان خارجی"]
["انگلیسی"]
["سایر"]
[]
["پاسخ"]
["بله"]
["خیر"]
[]
["نوع استخدام"]
["سربازی"]
["قرارداد شرکتی"]
["قرارداد کار معین"]
["پیمانی"]
["رسمی"]
["قرارداد روزمزدی"]
[]
["نوع گزارش","حداکثر امتیاز"]
["تحلیلی و تحقیقی شغلی",20]
["عملکرد شغلی (سالیانه)",15]
[]
["کارمند/ مدیر"]
["کارمند نمونه"]
["مدیر نمونه"]
[]
["نوع دوره آموزشی"]
["عمومی"]
["تربیت مدیر"]
["بهبود مدیریت"]
[]
["نوع مستندات"]
["الکترونیکی"]
["کاغذی"]
["الکترونیکی/ کاغذی"]
[]
["جنسیت"]
["مرد"]
["زن"]
[]
["مالک/ مجری"]
["مالک"]
["مجری"]

{"sheet":"komite","index":1,"n_rows":9,"n_cols":3,"rows_kept":9,"cut":false,"hidden":false,"merged":[]}
["رج","نام و نام خانوادگی","سمت"]
[{"$f":"ROW()-1","v":1},"ایوب پروینی","دبیر کمیته و مدیر امور اداری و پشتیبانی"]
[{"$f":"ROW()-1","v":2},"اسماعیل عبدالهاشمی","عضو کمیته"]
[3,null,"عضو کمیته"]
[4,"رمضان خوئینی","عضو کمیته"]
[5,"حمید نظری","عضو کمیته"]
[6,"مهدی اسمعیلی","عضو کمیته"]
[7,"علی درودیان","عضو کمیته"]
[8,"بهروز اینانلو","مسئول دبیرخانه کمیته ارتقای کارکنان"]

{"sheet":"Main","index":2,"n_rows":18,"n_cols":4,"rows_kept":18,"cut":false,"hidden":false,"merged":[[0,0,0,7],[4,0,5,7],[1,0,3,7]]}
["دانشگاه بین المللی امام خمینی (ره)"]
[{"$f":"param!C30","v":"ارتقای رتبه اعضای غیر هیأت علمی"}]
[]
[]
["مدیریت توسعه، نیروی انسانی و پشتیبانی"]
[]
[]
[]
[]
[]
[]
[]
[]
[]
[null,null,null,{"$f":"IF(ISBLANK(resid!A1),\"\",resid!A1)","v":""}]
[]
[]
[null,null,null,"نسخه: 7.0.1"]

{"sheet":"resid","index":3,"n_rows":24,"n_cols":14,"rows_kept":24,"cut":false,"hidden":false,"merged":[]}
[null,"بسمه تعالی"]
[null,{"$f":"\"بدینوسیله گواهی می شود؛ فایل درخواست ارتقای «رتبه \"&rotbe!G5&\"»\"&IF(moshakhasat!F5=\"مرد\",\" جناب آقای \",\" سرکار خانم \")&moshakhasat!B5&\" \"&moshakhasat!C5&\"، دارای شماره پرسنلی \"&moshakhasat!G5&\"، در روز  \"&J_WEEKDAY(J_TODAY(),1)&\" مورخ  \"&LEFT(J_TODAY(),4)&\"/\"&MID(J_TODAY(),5,2)&\"/\"&RIGHT(J_TODAY(),2)&\"، تحویل اداره کارگزینی گردید.\"","v":"بدینوسیله گواهی می شود؛ فایل درخواست ارتقای «رتبه مهارتی» سرکار خانم  ، دارای شماره پرسنلی ، در روز  سه شنبه مورخ  1403/07/24، تحویل اداره کارگزینی گردید."}]
[null,{"$f":"N4&M4&L4&K4&J4&I4&H4&G4&F4&E4&D4&C4","v":"140307245314"}]
[null,"این رسید بدون شماره ده رقمی اعتبار ندارد",{"$f":"RANDBETWEEN(0,9)","v":4},{"$f":"RANDBETWEEN(0,9)","v":1},3,5,{"$f":"MID(J_TODAY(),8,1)","v":"4"},{"$f":"MID(J_TODAY(),7,1)","v":"2"},{"$f":"MID(J_TODAY(),6,1)","v":"7"},{"$f":"MID(J_TODAY(),5,1)","v":"0"},{"$f":"MID(J_TODAY(),4,1)","v":"3"},{"$f":"MID(J_TODAY(),3,1)","v":"0"},{"$f":"MID(J_TODAY(),2,1)","v":"4"},{"$f":"LEFT(J_TODAY(),1)","v":"1"}]
[]
[]
[]
[]
[]
[]
[]
[]
[]
[]
[]
[]
[]
[]
[]
[]
[null,"بسمه تعالی"]
[null,{"$f":"\"بدینوسیله گواهی می شود؛ فایل درخواست ارتقای «رتبه \"&rotbe!G5&\"»\"&IF(moshakhasat!F5=\"مرد\",\" جناب آقای \",\" سرکار خانم \")&moshakhasat!B5&\" \"&moshakhasat!C5&\"، دارای شماره پرسنلی \"&moshakhasat!G5&\"، در روز  \"&J_WEEKDAY(J_TODAY(),1)&\" مورخ  \"&LEFT(J_TODAY(),4)&\"/\"&MID(J_TODAY(),5,2)&\"/\"&RIGHT(J_TODAY(),2)&\"، تحویل اداره کارگزینی گردید.\"","v":"بدینوسیله گواهی می شود؛ فایل درخواست ارتقای «رتبه مهارتی» سرکار خانم  ، دارای شماره پرسنلی ، در روز  سه شنبه مورخ  1403/07/24، تحویل اداره کارگزینی گردید."}]
[null,{"$f":"B3","v":"140307245314"}]
[null,"این رسید بدون شماره ده رقمی اعتبار ندارد"]

{"sheet":"rahnama","index":4,"n_rows":43,"n_cols":2,"rows_kept":43,"cut":false,"hidden":false,"merged":[]}
[null,"راهنمای درخواست ارتقای رتبه اعضای غیر هیأت علمی"]
[null,"الف) نکات آیین نامه ای"]
["!","تاریخ ارتقاء به رتبه بالاتر می بایست بعد از  تاریخ «1399/01/01» باشد"]
["!","تاریخ ارتقاء به رتبه بالاتر، تاریخ صدور رسید توسط کارگزینی کارکنان، یا به عبارتی آخرین نسخه تکمیلی این فایل، است."]
["!","کلیه فعالیت های محور ج و د شما از تاریخ ارتقای رتبه فعلی شما تا تاریخی که شما تعیین می کنید، بررسی می شوند."]
["!","اگر تاکنون رتبه دریافت نکرداید کلیه فعالیت های محور ج و د از ابتدای خدمت شما تا تاریخی که تعیین می کنید، بررسی می شوند."]
["!","ایثارگران شامل: آزادگان / جانبازان / فرزندان شهدا / رزمندگان با حداقل شش ماه حضور داوطلبانه"]
["!","جوانی جمعیت: شامل کارکنانی است که بعد از تاریخ 1400/08/19، صاحب فرزند سوم، چهارم و پنجم شده اند."]
[null,"ب) نکات فنی"]
["!","نام این فایل،  باید شماره پرسنلی شما باشد، آن را تغییر ندهید."]
["!","چنانچه ماکروی فایل را فعال نکرده اید، این فایل را ببندید و ابتدا آموزش فعال کردن ماکرو را که به همراه این فایل ارسال شده است، مطالعه نموده و آن را فعال نمایید."]
["!","این فایل ممکن است به روز شود، می بایست همیشه نسخه به روز را از اداره کارگزینی، دریافت نمایید. (شماره نسخه در صفحه اصلی فایل قابل رویت است)"]
["!","جهت جلوگیری از بهم ریختگی فایل، امکان Cut، Copy، Paste، Delete و Insert غیر فعال شده است."]
["!","همه تاریخ ها به صورت 8 رقمی، به طور مثال «13990308» درج شود. از گذاشتن ممیز جداً خودداری شود."]
["!","تاریخ پایان فعالیتی که هنوز ادامه دارد را «خالی» بگذارید."]
[null,"ج) تأییدیه مدیر مربوطه"]
["!","چنانچه در زمان انجام فعالیت های مستند در این فایل، پست سازمانی/شغل شما تغییر نکرده است، نیاز به تأیید مدیر وقت نیست و مدیر کنونی می تواند فعالیت های انجام شده را تأیید نماید."]
["!","ولی اگر در زمان انجام فعالیت های مستند در این فایل، پست سازمانی/شغل شما تغییر کرده است (هرچند بار)، فعالیت های هر پست/ شغل را باید مدیر مربوطه می بایست تأیید نماید."]
["!","فرم «تأیید مستندات درخواست ارتقای رتبه اعضای غیر هیأت علمی» در سامانه اداری دیدگاه (اتوماسیون)، به عنوان الگوی نامه (شماره 26) قرار گرفته  است."]
["!","برای استفاده از فرم «تأیید مستندات درخواست ارتقای رتبه اعضای غیر هیأت علمی» ابتدا باید این فایل را تکمیل نموده باشید."]
["!","فرم «تأیید مستندات درخواست ارتقای رتبه اعضای غیر هیأت علمی» را تکمیل و به صورت پیش نویس جهت تأیید به مدیر مربوطه، ارسال نمایید."]
["!","در تهیه پیش نویس فرم «تأیید مستندات درخواست ارتقای رتبه اعضای غیر هیأت علمی»، معاون محترم «توسعه، مدیریت منابع انسانی و پشتیبانی» را به عنوان «گیرنده اصلی» انتخاب نمایید."]
[null,"د) نحوه ارسال فایل"]
["!","اسکن کلیه مستندات، فقط با فرمت pdf ذخیره شود.                     ################## خیلی مهم ##################"]
["!","اسکن کلیه مستندات، با کمترین حجم ممکن، ذخیره شود."]
["!","فایل های کلیه مستندات را در فولدری که این فایل را  در آن ذخیره می کنید، قرار داده شود."]
["!","در محورها و بندهای مختلف این فایل، فقط ردیف هایی که در آن ستون «مستند» وجود دارد، نیاز به فایل مستند دارند. "]
["!","«نام هر فایلی» که به عنوان مستندات ذخیره می کنید، باید فقط مقدار ستون «مستند» باشد.            مثال: B3_2.pDf"]
["!","کد B3-2 در مثال بالا برای هر فعالیت جداگانه و در ستون «مستند» جداول همین فایل قابل دسترسی است."]
["!","کلیه مستندات باید به صورت دیجیتال (فلش) و در قالب یک فولدر و حضوری به اداره کارگزینی تحویل داده شود."]
["!","قبل از مراجعه حضوری به کارگزینی از طریق ارسال پیام اتوماسیونی، وقت قبلی بگیرید. (برای جلوگیری از ازدحام و اتلاف وقت گرانبهای شما)"]
["!","بدیهی است کلیه مستنداتی را که به صورت دیجیتالی در اختیار دارید (مانند نامه های اتوماسیونی، گزارش هایی که به صورت PDF, worD, excel, powerpoint  و ... ) نیاز به اسکن نداشته و فقط کافی است در فولدر نهایی، با فرمت pDf ذخیره شوند."]
["!","احصای فرآیندها و اصلاح روش های انجام کار، باید به تأیید کارشناس محترم کارگروه مربوطه، برسد."]
[null,"ه) دریافت رسید تحویل فایل از کارگزینی"]
["!","پس از تحویل حضوری این فایل و مستندات همراه، و بررسی های لازم و تأیید آن، «رسید تحویل» از سوی کارگزینی، صادر و به شما تحویل داده می شود."]
["!","رسید صادره، 10 رقمی و یکتا می باشد، در نگهداری آن کوشا باشید."]
[null,"و) نحوه دریافت ساعات دوره های آموزشی از سامانه دیدگاه "]
["!","از منو و با تنظیمات زیر، می توانید جمع کل ساعات دوره های گذارنده شده را از سامانه اداری دیدگاه (اتوماسیون اداری) دریافت و مقدار آن را در این فایل درج نمایید. "]
["!","منو: (پیشخوان>-- گزارشات شخصی >-- سوابق آموزشی شخصی) "]
["!","در فیلد «قابل قبول»، گزینه «بله» را انتخاب کنید"]
["!","در فیلد «تاریخ گواهینامه» تاریخ «ابتدا» و «انتهای» ارتقای رتبه  درخواستی خود را درج نمایید."]
["!","با کلیک بر روی دکمه «گزارش»، گزارش را به صورت PDF دریافت کنید"]
["!","مقدار نمایش داده شده در ردیف آخر جدول و در ستون «جمع کل»، ملاک است."]

{"sheet":"moshakhasat","index":5,"n_rows":10,"n_cols":7,"rows_kept":10,"cut":false,"hidden":false,"merged":[[0,0,0,6],[1,0,1,6],[6,0,6,6],[8,0,8,6],[2,0,2,6]]}
[{"$f":"param!C29","v":"مدیریت اداری و پشتیبانی\nارتقای رتبه اعضای غیر هیأت علمی"}]
[]
["مشخصات متقاضی"]
["شماره ملی","نام","نام خانوادگی","ایثارگر","مشمول جوانی جمعیت","جنسیت","شماره پرسنلی"]
[null,null,null,"خیر","خیر"]
[]
[{"$f":"IF(D5=\"بله\",\"ایثارگران شامل: آزادگان / جانبازان / فرزندان شهدا / رزمندگان با حداقل شش ماه حضور داوطلبانه\",\"\")","v":""}]
[{"$f":"IF(D5=\"بله\",1,0)","v":0}]
["بعد از تاریخ 1400/08/19 صاحب فرزند سوم، چهارم و پنجم شده ام"]
[{"$f":"IF(E5=\"بله\",1,0)","v":0}]

{"sheet":"tahsilat","index":6,"n_rows":18,"n_cols":6,"rows_kept":18,"cut":false,"hidden":false,"merged":[[2,0,2,3],[0,0,0,5],[1,0,1,5]]}
[{"$f":"param!C29","v":"مدیریت اداری و پشتیبانی\nارتقای رتبه اعضای غیر هیأت علمی"}]
[]
["مقاطع تحصیلی",null,null,null,null,"آخرین مقطع تحصیلی"]
["رج","مقطع تحصیلی","تاریخ اخذ مدرک تحصیلی","رشته تحصیلی",null,{"$f":"IF(C5>13000101,B5,IF(C6>13000101,B6,IF(C7>13000101,B7,IF(C8>13000101,B8,IF(C9>13000101,B9,B10)))))","v":0}]
[1,"دکتری یا سطح چهار حوزه"]
[2,"کارشناسی ارشد یا سطح سه حوزه",null,null,null,{"$f":"IF(moshakhasat!D5=\"بله\",\"مقطع تحصیلی محاسبه شده  برای ایثارگران در محور الف\",\"\")","v":""}]
[3,"کارشناسی یا سطح دو حوزه",null,null,null,{"$f":"IF(moshakhasat!D5=\"بله\",IF(C6>13000101,B5,IF(C7>13000101,B6,IF(C8>13000101,B7,B8))),\"\")","v":""}]
[4,"کاردانی یا سطح یک حوزه"]
[5,"دیپلم و پایین تر"]
[6]
[]
[]
[]
[]
[]
[]
[]
[null,null,null,""]

{"sheet":"sanavat","index":7,"n_rows":29,"n_cols":7,"rows_kept":29,"cut":false,"hidden":false,"merged":[[2,0,2,6],[0,0,0,6],[1,0,1,6]]}
[{"$f":"param!C29","v":"مدیریت اداری و پشتیبانی\nارتقای رتبه اعضای غیر هیأت علمی"}]
[]
["سنوات خدمتی"]
["رج","تاریخ شروع","تاریخ پایان","محل استخدام","نوع استخدام","مدرک تحصیلی","مدت (روز)"]
[null,null,null,null,null,null,{"$f":"IF(ISBLANK(B5),0,IF(ISBLANK(C5),+J_DIFF(B5,rotbe!$H$5),J_DIFF(B5,C5)))","v":0}]
[null,null,null,null,null,null,{"$f":"IF(ISBLANK(B6),0,IF(ISBLANK(C6),+J_DIFF(B6,rotbe!$H$5),J_DIFF(B6,C6)))","v":0}]
[null,null,null,null,null,null,{"$f":"IF(ISBLANK(B7),0,IF(ISBLANK(C7),+J_DIFF(B7,rotbe!$H$5),J_DIFF(B7,C7)))","v":0}]
[null,null,null,null,null,null,{"$f":"IF(ISBLANK(B8),0,IF(ISBLANK(C8),+J_DIFF(B8,rotbe!$H$5),J_DIFF(B8,C8)))","v":0}]
[null,null,null,null,null,null,{"$f":"IF(ISBLANK(B9),0,IF(ISBLANK(C9),+J_DIFF(B9,rotbe!$H$5),J_DIFF(B9,C9)))","v":0}]
[null,null,null,null,null,null,{"$f":"IF(ISBLANK(B10),0,IF(ISBLANK(C10),+J_DIFF(B10,rotbe!$H$5),J_DIFF(B10,C10)))","v":0}]
[null,null,null,null,null,null,{"$f":"IF(ISBLANK(B11),0,IF(ISBLANK(C11),+J_DIFF(B11,rotbe!$H$5),J_DIFF(B11,C11)))","v":0}]
[null,null,null,null,null,null,{"$f":"IF(ISBLANK(B12),0,IF(ISBLANK(C12),+J_DIFF(B12,rotbe!$H$5),J_DIFF(B12,C12)))","v":0}]
[null,null,null,null,null,null,{"$f":"IF(ISBLANK(B13),0,IF(ISBLANK(C13),+J_DIFF(B13,rotbe!$H$5),J_DIFF(B13,C13)))","v":0}]
[null,null,null,null,null,null,{"$f":"IF(ISBLANK(B14),0,IF(ISBLANK(C14),+J_DIFF(B14,rotbe!$H$5),J_DIFF(B14,C14)))","v":0}]
[null,null,null,null,null,null,{"$f":"IF(ISBLANK(B15),0,IF(ISBLANK(C15),+J_DIFF(B15,rotbe!$H$5),J_DIFF(B15,C15)))","v":0}]
[null,null,null,null,null,null,{"$f":"IF(ISBLANK(B16),0,IF(ISBLANK(C16),+J_DIFF(B16,rotbe!$H$5),J_DIFF(B16,C16)))","v":0}]
[null,null,null,null,null,null,{"$f":"IF(ISBLANK(B17),0,IF(ISBLANK(C17),+J_DIFF(B17,rotbe!$H$5),J_DIFF(B17,C17)))","v":0}]
[null,null,null,null,null,null,{"$f":"IF(ISBLANK(B18),0,IF(ISBLANK(C18),+J_DIFF(B18,rotbe!$H$5),J_DIFF(B18,C18)))","v":0}]
[null,null,null,null,null,null,{"$f":"IF(ISBLANK(B19),0,IF(ISBLANK(C19),+J_DIFF(B19,rotbe!$H$5),J_DIFF(B19,C19)))","v":0}]
[null,null,null,null,null,null,{"$f":"IF(ISBLANK(B20),0,IF(ISBLANK(C20),+J_DIFF(B20,rotbe!$H$5),J_DIFF(B20,C20)))","v":0}]
[null,null,null,null,null,null,{"$f":"IF(ISBLANK(B21),0,IF(ISBLANK(C21),+J_DIFF(B21,rotbe!$H$5),J_DIFF(B21,C21)))","v":0}]
[null,null,null,null,null,null,{"$f":"IF(ISBLANK(B22),0,IF(ISBLANK(C22),+J_DIFF(B22,rotbe!$H$5),J_DIFF(B22,C22)))","v":0}]
[null,null,null,null,null,null,{"$f":"IF(ISBLANK(B23),0,IF(ISBLANK(C23),+J_DIFF(B23,rotbe!$H$5),J_DIFF(B23,C23)))","v":0}]
[null,null,null,null,null,null,{"$f":"IF(ISBLANK(B24),0,IF(ISBLANK(C24),+J_DIFF(B24,rotbe!$H$5),J_DIFF(B24,C24)))","v":0}]
[null,null,null,null,null,null,{"$f":"IF(ISBLANK(B25),0,IF(ISBLANK(C25),+J_DIFF(B25,rotbe!$H$5),J_DIFF(B25,C25)))","v":0}]
[null,null,null,null,null,null,{"$f":"IF(ISBLANK(B26),0,IF(ISBLANK(C26),+J_DIFF(B26,rotbe!$H$5),J_DIFF(B26,C26)))","v":0}]
[null,null,null,null,null,null,{"$f":"IF(ISBLANK(B27),0,IF(ISBLANK(C27),+J_DIFF(B27,rotbe!$H$5),J_DIFF(B27,C27)))","v":0}]
[null,null,null,null,null,null,{"$f":"IF(ISBLANK(B28),0,IF(ISBLANK(C28),+J_DIFF(B28,rotbe!$H$5),J_DIFF(B28,C28)))","v":0}]
[null,null,null,null,null,null,{"$f":"IF(ISBLANK(B29),0,IF(ISBLANK(C29),+J_DIFF(B29,rotbe!$H$5),J_DIFF(B29,C29)))","v":0}]

{"sheet":"rotbe","index":8,"n_rows":22,"n_cols":9,"rows_kept":22,"cut":false,"hidden":false,"merged":[[6,0,6,7],[2,0,2,7],[0,0,0,7],[1,0,1,7],[5,0,5,7]]}
[{"$f":"param!C29","v":"مدیریت اداری و پشتیبانی\nارتقای رتبه اعضای غیر هیأت علمی"}]
[]
["میزان توقف در رتبه کنونی برای رتبه بالاتر (سال)"]
["توقف در رتبه کنونی (سال)","توقف مورد نیاز (سال)","سنوات خدمتی (سال)","سنوات خدمتی مورد نیاز","رتبه کنونی","تاریخ دریافت رتبه کنونی","رتبه درخواستی","تاریخ درخواست رتبه بالاتر"]
[{"$f":"IFERROR(J_DIFF(F5,H5)/365,\"\")","v":""},{"$f":"IF(OR(moshakhasat!$D$5=\"بله\",moshakhasat!$E$5=\"بله\"),B22-1,B22)","v":""},{"$f":"SUM('b1'!G:G)/365","v":0},{"$f":"IFERROR(VLOOKUP(tahsilat!$F$4&$G$5,param!$C$1:$AO$28,4,FALSE),\"\")","v":""},"مقدماتی",null,{"$f":"IFERROR(IF(tahsilat!F4=\"کاردانی یا سطح یک حوزه\",VLOOKUP(E5,param!A98:C101,3,FALSE),+VLOOKUP(E5,param!A98:B102,2,FALSE)),\"\")","v":"مهارتی"}]
[{"$f":"IF(F5>13000101,\"\",\"اگر تاکنون پرونده شما بررسی و رتبه بندی نشده است، در قسمت «تاریخ دریافت رتبه کنونی»، تاریخ آغاز خدمت دولتی خود را وارد نمایید.\")","v":"اگر تاکنون پرونده شما بررسی و رتبه بندی نشده است، در قسمت «تاریخ دریافت رتبه کنونی»، تاریخ آغاز خدمت دولتی خود را وارد نمایید."}]
[{"$f":"IFERROR(IF(OR(A5=B5,A5>B5),\"مجاز به ارسال درخواست می باشید\",\"مجاز به ارسال درخواست نمی باشید\"),\"\")","v":"مجاز به ارسال درخواست می باشید"}]
[]
[null,null,null,null,null,"کد مدرک تحصیلی زمان دریافت رتبه قبل",null,"کد مدرک تحصیلی زمان درخواست رتبه"]
[null,null,null,null,null,{"$f":"IF(OR(tahsilat!C5>F5,ISBLANK(tahsilat!C5)),IF(OR(tahsilat!C6>F5,ISBLANK(tahsilat!C6)),+IF(OR(tahsilat!C7>F5,ISBLANK(tahsilat!C7)),IF(OR(tahsilat!C8>F5,ISBLANK(tahsilat!C8)),IF(OR(tahsilat!C9>F5,ISBLANK(tahsilat!C9)),\"\",5),4),3),2),1)","v":""},null,{"$f":"IF(AND(tahsilat!C5<H5,tahsilat!C5>F5),1,IF(AND(tahsilat!C6<H5,tahsilat!C6>F5),2,IF(AND(tahsilat!C7<H5,tahsilat!C7>F5),3,IF(AND(tahsilat!C8<H5,tahsilat!C8>F5),4,IF(AND(tahsilat!C9<H5,tahsilat!C9>F5),5,IF(AND(tahsilat!C10<H5,tahsilat!C10>F5),6,+VLOOKUP(tahsilat!$F$4,param!A135:C138,3,FALSE)))))))","v":{"$error":"#N/A"}}]
[null,null,null,null,null,"مدرک تحصیلی زمان دریافت رتبه قبل",null,"مدرک تحصیلی زمان درخواست رتبه"]
["مدت توقف با مدرک قبل (روز)","تاریخ اخذ مدرک جدید","مدت توقف با مدرک جدید (روز)","توقف در رتبه کنونی (روز)",null,{"$f":"IFERROR(VLOOKUP(rotbe!H10,tahsilat!$A$5:$C$10,2,FALSE),\"\")","v":""},null,{"$f":"IFERROR(VLOOKUP(rotbe!H10,tahsilat!$A$5:$C$10,2,FALSE),\"\")","v":""},"کاردانی یا سطح یک حوزه"]
[{"$f":"IFERROR(J_DIFF(F5,B13),\"\")","v":""},{"$f":"IFERROR(VLOOKUP($H$10,tahsilat!$A$5:$C$10,3,FALSE),\"\")","v":""},{"$f":"IFERROR(J_DIFF(B13,H5),\"\")","v":""},{"$f":"IFERROR(A13+C13*G16,\"\")","v":""},null,"حداقل توقف مورد نیاز با مدرک تحصیلی زمان دریافت رتبه قبل",null,"حداقل توقف مورد نیاز با مدرک تحصیلی زمان درخواست رتبه"]
[null,null,null,null,null,{"$f":"IFERROR(VLOOKUP(F12&$G$5,param!$C$1:$E$28,3,FALSE),\"\")","v":""},null,{"$f":"IFERROR(VLOOKUP(H12&$G$5,param!$C$1:$E$28,3,FALSE),\"\")","v":""}]
["مدت توقف با مدرک قبل (سال)",null,"مدت توقف با مدرک جدید (سال)","توقف در رتبه کنونی (سال)",null,null,{"$f":"\"نسبت \"&H14&\" به \"&F14","v":"نسبت  به "}]
[{"$f":"IFERROR(A13/365,\"\")","v":""},null,{"$f":"IFERROR(C13/365,\"\")","v":""},{"$f":"IFERROR(D13/365,\"\")","v":""},null,null,{"$f":"IFERROR(H14/F14,\"\")","v":""}]
[]
[]
[]
[]
[null,"توقف مورد نیاز (سال)","میزان توقف باقیمانده با مدرک تحصیلی قبل (روز)"]
[null,{"$f":"IF(G16<1,H14-(C22/365),H14)","v":""},{"$f":"(H14*365)-J_DIFF(F5,B13)","v":{"$error":"#VALUE!"}}]

{"sheet":"arzeshyabi","index":9,"n_rows":6,"n_cols":5,"rows_kept":6,"cut":false,"hidden":false,"merged":[[2,0,2,4],[5,0,5,4],[0,0,0,4],[1,0,1,4]]}
[{"$f":"param!C29","v":"مدیریت اداری و پشتیبانی\nارتقای رتبه اعضای غیر هیأت علمی"}]
[]
["نمرات ارزشیابی سالیانه (سه سال اخیر)"]
[{"$f":"IFERROR(\"سال \"&LEFT(rotbe!H5,4)-3,\"\")","v":""},{"$f":"IFERROR(\"سال \"&LEFT(rotbe!H5,4)-2,\"\")","v":""},{"$f":"IFERROR(\"سال \"&LEFT(rotbe!H5,4)-1,\"\")","v":""},"میانگین","میانگین مورد نیاز"]
[null,null,null,{"$f":"IF(AND(A5>0,B5>0,C5>0),AVERAGE(A5:C5),0)","v":0},{"$f":"IFERROR(VLOOKUP(rotbe!G5,param!$B$2:$D$28,3,FALSE),\"\")","v":75}]
[{"$f":"IF(OR(AND(D5>0,D5=E5),AND(D5>0,D5>E5)),\"مجاز به ارسال درخواست می باشید\",\"مجاز به ارسال درخواست نمی باشید\")","v":"مجاز به ارسال درخواست نمی باشید"}]

{"sheet":"a","index":10,"n_rows":8,"n_cols":10,"rows_kept":8,"cut":false,"hidden":false,"merged":[[0,0,0,9],[2,0,2,9],[5,1,5,2],[5,3,5,4],[5,5,5,7],[5,8,5,9],[4,0,4,9],[3,0,3,9],[1,0,1,9]]}
[{"$f":"param!C29","v":"مدیریت اداری و پشتیبانی\nارتقای رتبه اعضای غیر هیأت علمی"}]
[]
["محور الف: سوابق تحصیلی"]
[{"$f":"IFERROR(\"امتیاز متقاضی: \"&(C8+E8+H8+J8)&\"  | حداکثر امتیاز: \"&VLOOKUP(IF(moshakhasat!$D$5=\"بله\",tahsilat!$F$7,tahsilat!$F$4)&rotbe!$G$5,param!$C$2:$AO$28,7,FALSE)&\"  | امتیاز قابل محاسبه: \"&MIN((C8+E8+H8+J8),VLOOKUP(IF(moshakhasat!$D$5=\"بله\",tahsilat!$F$7,tahsilat!$F$4)&rotbe!$G$5,param!$C$2:$AO$28,7,FALSE)),\"\")","v":""}]
["آخرین مدرک تحصیلی"]
[null,"الف 1: مقطع تحصیلی",null,"الف 2: ارتباط مدرک تحصیلی",null,"الف 3: محل اخذ مدرک",null,null,"الف 4: معدل"]
["تاریخ اخذ مدرک تحصیلی","مقطع تحصیلی","امتیاز","میزان ارتباط مدرک تحصیلی با شغل مورد تصدی","امتیاز","محل اخذ مدرک تحصیلی","نوع محل اخذ مدرک تحصیلی","امتیاز","معدل مدرک تحصیلی","امتیاز"]
[{"$f":"IFERROR(VLOOKUP(B8,tahsilat!B5:C10,2,FALSE),\"\")","v":""},{"$f":"tahsilat!F4","v":0},{"$f":"IFERROR(VLOOKUP(IF(moshakhasat!$D$5=\"بله\",tahsilat!$F$7,tahsilat!$F$4),param!$A$1:$M$6,10,FALSE),\"\")","v":""},null,{"$f":"IFERROR(VLOOKUP(IF(moshakhasat!$D$5=\"بله\",tahsilat!$F$7,tahsilat!$F$4),param!$A$1:$M$5,11,FALSE),\"\")","v":""},null,null,{"$f":"IFERROR(VLOOKUP(IF(moshakhasat!$D$5=\"بله\",tahsilat!$F$7,tahsilat!$F$4),param!$A$1:$M$6,12,FALSE)*VLOOKUP(G8,param!A139:B149,2,FALSE),\"\")","v":""},null,{"$f":"IFERROR(IF(OR(I8=15,I8>15),+VLOOKUP(IF(moshakhasat!$D$5=\"بله\",tahsilat!$F$7,tahsilat!$F$4),param!$A$1:$M$6,13,FALSE),+VLOOKUP(IF(moshakhasat!$D$5=\"بله\",tahsilat!$F$7,tahsilat!$F$4),param!$A$1:$M$6,13,FALSE)*0.8),\"\")","v":""}]

{"sheet":"b1","index":11,"n_rows":31,"n_cols":8,"rows_kept":31,"cut":false,"hidden":false,"merged":[[2,0,2,7],[0,0,0,7],[3,0,3,7],[1,0,1,7]]}
[{"$f":"param!C29","v":"مدیریت اداری و پشتیبانی\nارتقای رتبه اعضای غیر هیأت علمی"}]
[]
["ب1: سنوات خدمتی"]
[{"$f":"IFERROR(\"امتیاز متقاضی: \"&ROUND(SUM(H:H),2)-E5&\"  | حداکثر امتیاز: \"&VLOOKUP(tahsilat!$F$4&rotbe!$G$5,param!$C$2:$AO$28,14,FALSE)&\"  | امتیاز قابل محاسبه: \"&MIN(ROUND(SUM(H:H),2),VLOOKUP(tahsilat!$F$4&rotbe!$G$5,param!$C$2:$AO$28,14,FALSE)),\"\")","v":""}]
[null,null,null,"امتیاز منفی کسر کار (بدون حقوق، غیبت، تعلیق و ...):"]
["رج","تاریخ شروع","تاریخ پایان","محل استخدام","نوع استخدام","مدرک تحصیلی","مدت (روز)","امتیاز"]
[{"$f":"sanavat!A5","v":0},{"$f":"sanavat!B5","v":0},{"$f":"sanavat!C5","v":0},{"$f":"sanavat!D5","v":0},{"$f":"sanavat!E5","v":0},{"$f":"sanavat!F5","v":0},{"$f":"sanavat!G5","v":0},{"$f":"IFERROR(G7*VLOOKUP(F7,param!$A$21:$R$28,18,FALSE)/365,0)","v":0}]
[{"$f":"sanavat!A6","v":0},{"$f":"sanavat!B6","v":0},{"$f":"sanavat!C6","v":0},{"$f":"sanavat!D6","v":0},{"$f":"sanavat!E6","v":0},{"$f":"sanavat!F6","v":0},{"$f":"sanavat!G6","v":0},{"$f":"IFERROR(G8*VLOOKUP(F8,param!$A$21:$R$28,18,FALSE)/365,0)","v":0}]
[{"$f":"sanavat!A7","v":0},{"$f":"sanavat!B7","v":0},{"$f":"sanavat!C7","v":0},{"$f":"sanavat!D7","v":0},{"$f":"sanavat!E7","v":0},{"$f":"sanavat!F7","v":0},{"$f":"sanavat!G7","v":0},{"$f":"IFERROR(G9*VLOOKUP(F9,param!$A$21:$R$28,18,FALSE)/365,0)","v":0}]
[{"$f":"sanavat!A8","v":0},{"$f":"sanavat!B8","v":0},{"$f":"sanavat!C8","v":0},{"$f":"sanavat!D8","v":0},{"$f":"sanavat!E8","v":0},{"$f":"sanavat!F8","v":0},{"$f":"sanavat!G8","v":0},{"$f":"IFERROR(G10*VLOOKUP(F10,param!$A$21:$R$28,18,FALSE)/365,0)","v":0}]
[{"$f":"sanavat!A9","v":0},{"$f":"sanavat!B9","v":0},{"$f":"sanavat!C9","v":0},{"$f":"sanavat!D9","v":0},{"$f":"sanavat!E9","v":0},{"$f":"sanavat!F9","v":0},{"$f":"sanavat!G9","v":0},{"$f":"IFERROR(G11*VLOOKUP(F11,param!$A$21:$R$28,18,FALSE)/365,0)","v":0}]
[{"$f":"sanavat!A10","v":0},{"$f":"sanavat!B10","v":0},{"$f":"sanavat!C10","v":0},{"$f":"sanavat!D10","v":0},{"$f":"sanavat!E10","v":0},{"$f":"sanavat!F10","v":0},{"$f":"sanavat!G10","v":0},{"$f":"IFERROR(G12*VLOOKUP(F12,param!$A$21:$R$28,18,FALSE)/365,0)","v":0}]
[{"$f":"sanavat!A11","v":0},{"$f":"sanavat!B11","v":0},{"$f":"sanavat!C11","v":0},{"$f":"sanavat!D11","v":0},{"$f":"sanavat!E11","v":0},{"$f":"sanavat!F11","v":0},{"$f":"sanavat!G11","v":0},{"$f":"IFERROR(G13*VLOOKUP(F13,param!$A$21:$R$28,18,FALSE)/365,0)","v":0}]
[{"$f":"sanavat!A12","v":0},{"$f":"sanavat!B12","v":0},{"$f":"sanavat!C12","v":0},{"$f":"sanavat!D12","v":0},{"$f":"sanavat!E12","v":0},{"$f":"sanavat!F12","v":0},{"$f":"sanavat!G12","v":0},{"$f":"IFERROR(G14*VLOOKUP(F14,param!$A$21:$R$28,18,FALSE)/365,0)","v":0}]
[{"$f":"sanavat!A13","v":0},{"$f":"sanavat!B13","v":0},{"$f":"sanavat!C13","v":0},{"$f":"sanavat!D13","v":0},{"$f":"sanavat!E13","v":0},{"$f":"sanavat!F13","v":0},{"$f":"sanavat!G13","v":0},{"$f":"IFERROR(G15*VLOOKUP(F15,param!$A$21:$R$28,18,FALSE)/365,0)","v":0}]
[{"$f":"sanavat!A14","v":0},{"$f":"sanavat!B14","v":0},{"$f":"sanavat!C14","v":0},{"$f":"sanavat!D14","v":0},{"$f":"sanavat!E14","v":0},{"$f":"sanavat!F14","v":0},{"$f":"sanavat!G14","v":0},{"$f":"IFERROR(G16*VLOOKUP(F16,param!$A$21:$R$28,18,FALSE)/365,0)","v":0}]
[{"$f":"sanavat!A15","v":0},{"$f":"sanavat!B15","v":0},{"$f":"sanavat!C15","v":0},{"$f":"sanavat!D15","v":0},{"$f":"sanavat!E15","v":0},{"$f":"sanavat!F15","v":0},{"$f":"sanavat!G15","v":0},{"$f":"IFERROR(G17*VLOOKUP(F17,param!$A$21:$R$28,18,FALSE)/365,0)","v":0}]
[{"$f":"sanavat!A16","v":0},{"$f":"sanavat!B16","v":0},{"$f":"sanavat!C16","v":0},{"$f":"sanavat!D16","v":0},{"$f":"sanavat!E16","v":0},{"$f":"sanavat!F16","v":0},{"$f":"sanavat!G16","v":0},{"$f":"IFERROR(G18*VLOOKUP(F18,param!$A$21:$R$28,18,FALSE)/365,0)","v":0}]
[{"$f":"sanavat!A17","v":0},{"$f":"sanavat!B17","v":0},{"$f":"sanavat!C17","v":0},{"$f":"sanavat!D17","v":0},{"$f":"sanavat!E17","v":0},{"$f":"sanavat!F17","v":0},{"$f":"sanavat!G17","v":0},{"$f":"IFERROR(G19*VLOOKUP(F19,param!$A$21:$R$28,18,FALSE)/365,0)","v":0}]
[{"$f":"sanavat!A18","v":0},{"$f":"sanavat!B18","v":0},{"$f":"sanavat!C18","v":0},{"$f":"sanavat!D18","v":0},{"$f":"sanavat!E18","v":0},{"$f":"sanavat!F18","v":0},{"$f":"sanavat!G18","v":0},{"$f":"IFERROR(G20*VLOOKUP(F20,param!$A$21:$R$28,18,FALSE)/365,0)","v":0}]
[{"$f":"sanavat!A19","v":0},{"$f":"sanavat!B19","v":0},{"$f":"sanavat!C19","v":0},{"$f":"sanavat!D19","v":0},{"$f":"sanavat!E19","v":0},{"$f":"sanavat!F19","v":0},{"$f":"sanavat!G19","v":0},{"$f":"IFERROR(G21*VLOOKUP(F21,param!$A$21:$R$28,18,FALSE)/365,0)","v":0}]
[{"$f":"sanavat!A20","v":0},{"$f":"sanavat!B20","v":0},{"$f":"sanavat!C20","v":0},{"$f":"sanavat!D20","v":0},{"$f":"sanavat!E20","v":0},{"$f":"sanavat!F20","v":0},{"$f":"sanavat!G20","v":0},{"$f":"IFERROR(G22*VLOOKUP(F22,param!$A$21:$R$28,18,FALSE)/365,0)","v":0}]
[{"$f":"sanavat!A21","v":0},{"$f":"sanavat!B21","v":0},{"$f":"sanavat!C21","v":0},{"$f":"sanavat!D21","v":0},{"$f":"sanavat!E21","v":0},{"$f":"sanavat!F21","v":0},{"$f":"sanavat!G21","v":0},{"$f":"IFERROR(G23*VLOOKUP(F23,param!$A$21:$R$28,18,FALSE)/365,0)","v":0}]
[{"$f":"sanavat!A22","v":0},{"$f":"sanavat!B22","v":0},{"$f":"sanavat!C22","v":0},{"$f":"sanavat!D22","v":0},{"$f":"sanavat!E22","v":0},{"$f":"sanavat!F22","v":0},{"$f":"sanavat!G22","v":0},{"$f":"IFERROR(G24*VLOOKUP(F24,param!$A$21:$R$28,18,FALSE)/365,0)","v":0}]
[{"$f":"sanavat!A23","v":0},{"$f":"sanavat!B23","v":0},{"$f":"sanavat!C23","v":0},{"$f":"sanavat!D23","v":0},{"$f":"sanavat!E23","v":0},{"$f":"sanavat!F23","v":0},{"$f":"sanavat!G23","v":0},{"$f":"IFERROR(G25*VLOOKUP(F25,param!$A$21:$R$28,18,FALSE)/365,0)","v":0}]
[{"$f":"sanavat!A24","v":0},{"$f":"sanavat!B24","v":0},{"$f":"sanavat!C24","v":0},{"$f":"sanavat!D24","v":0},{"$f":"sanavat!E24","v":0},{"$f":"sanavat!F24","v":0},{"$f":"sanavat!G24","v":0},{"$f":"IFERROR(G26*VLOOKUP(F26,param!$A$21:$R$28,18,FALSE)/365,0)","v":0}]
[{"$f":"sanavat!A25","v":0},{"$f":"sanavat!B25","v":0},{"$f":"sanavat!C25","v":0},{"$f":"sanavat!D25","v":0},{"$f":"sanavat!E25","v":0},{"$f":"sanavat!F25","v":0},{"$f":"sanavat!G25","v":0},{"$f":"IFERROR(G27*VLOOKUP(F27,param!$A$21:$R$28,18,FALSE)/365,0)","v":0}]
[{"$f":"sanavat!A26","v":0},{"$f":"sanavat!B26","v":0},{"$f":"sanavat!C26","v":0},{"$f":"sanavat!D26","v":0},{"$f":"sanavat!E26","v":0},{"$f":"sanavat!F26","v":0},{"$f":"sanavat!G26","v":0},{"$f":"IFERROR(G28*VLOOKUP(F28,param!$A$21:$R$28,18,FALSE)/365,0)","v":0}]
[{"$f":"sanavat!A27","v":0},{"$f":"sanavat!B27","v":0},{"$f":"sanavat!C27","v":0},{"$f":"sanavat!D27","v":0},{"$f":"sanavat!E27","v":0},{"$f":"sanavat!F27","v":0},{"$f":"sanavat!G27","v":0},{"$f":"IFERROR(G29*VLOOKUP(F29,param!$A$21:$R$28,18,FALSE)/365,0)","v":0}]
[{"$f":"sanavat!A28","v":0},{"$f":"sanavat!B28","v":0},{"$f":"sanavat!C28","v":0},{"$f":"sanavat!D28","v":0},{"$f":"sanavat!E28","v":0},{"$f":"sanavat!F28","v":0},{"$f":"sanavat!G28","v":0},{"$f":"IFERROR(G30*VLOOKUP(F30,param!$A$21:$R$28,18,FALSE)/365,0)","v":0}]
[{"$f":"sanavat!A29","v":0},{"$f":"sanavat!B29","v":0},{"$f":"sanavat!C29","v":0},{"$f":"sanavat!D29","v":0},{"$f":"sanavat!E29","v":0},{"$f":"sanavat!F29","v":0},{"$f":"sanavat!G29","v":0},{"$f":"IFERROR(G31*VLOOKUP(F31,param!$A$21:$R$28,18,FALSE)/365,0)","v":0}]

{"sheet":"b2","index":12,"n_rows":24,"n_cols":9,"rows_kept":24,"cut":false,"hidden":false,"merged":[[2,0,2,8],[3,0,3,8],[0,0,0,8],[1,0,1,8]]}
[{"$f":"param!C29","v":"مدیریت اداری و پشتیبانی\nارتقای رتبه اعضای غیر هیأت علمی"}]
[]
["ب 2: سوابق اجرایی، مدیریتی و سرپرستی"]
[{"$f":"IFERROR(\"امتیاز متقاضی: \"&ROUND(SUM(H$3:H$14),2)&\"  | حداکثر امتیاز: \"&VLOOKUP(tahsilat!$F$4&rotbe!$G$5,param!$C$2:$AO$28,17,FALSE)&\"  | امتیاز قابل محاسبه: \"&MIN(ROUND(SUM(H$3:H$14),2),VLOOKUP(tahsilat!$F$4&rotbe!$G$5,param!$C$2:$AO$28,17,FALSE)),\"\")","v":""}]
["ردیف","عنوان خدمت","سطح خدمت","تاریخ شروع","تاریخ پایان","شماره ابلاغ/ حکم","مقام امضاکننده/ ابلاغ کننده","امتیاز","مستند"]
[null,null,null,null,null,null,null,{"$f":"IFERROR(IF(A6>0,(J_DIFF(D6,IF(E6>13000101,E6,rotbe!$H$5)))*VLOOKUP(C6,param!$A$30:$B$34,2,FALSE)/365,\"\"),\"\")","v":""},{"$f":"IF(A6>0,\"B2_1\",\"\")","v":""}]
[null,null,null,null,null,null,null,{"$f":"IFERROR(IF(A7>0,(J_DIFF(D7,IF(E7>13000101,E7,rotbe!$H$5)))*VLOOKUP(C7,param!$A$30:$B$34,2,FALSE)/365,\"\"),\"\")","v":""},{"$f":"IF(A7>0,\"B2_2\",\"\")","v":""}]
[null,null,null,null,null,null,null,{"$f":"IFERROR(IF(A8>0,(J_DIFF(D8,IF(E8>13000101,E8,rotbe!$H$5)))*VLOOKUP(C8,param!$A$30:$B$34,2,FALSE)/365,\"\"),\"\")","v":""},{"$f":"IF(A8>0,\"B2_3\",\"\")","v":""}]
[null,null,null,null,null,null,null,{"$f":"IFERROR(IF(A9>0,(J_DIFF(D9,IF(E9>13000101,E9,rotbe!$H$5)))*VLOOKUP(C9,param!$A$30:$B$34,2,FALSE)/365,\"\"),\"\")","v":""},{"$f":"IF(A9>0,\"B2_4\",\"\")","v":""}]
[null,null,null,null,null,null,null,{"$f":"IFERROR(IF(A10>0,(J_DIFF(D10,IF(E10>13000101,E10,rotbe!$H$5)))*VLOOKUP(C10,param!$A$30:$B$34,2,FALSE)/365,\"\"),\"\")","v":""},{"$f":"IF(A10>0,\"B2_5\",\"\")","v":""}]
[null,null,null,null,null,null,null,{"$f":"IFERROR(IF(A11>0,(J_DIFF(D11,IF(E11>13000101,E11,rotbe!$H$5)))*VLOOKUP(C11,param!$A$30:$B$34,2,FALSE)/365,\"\"),\"\")","v":""},{"$f":"IF(A11>0,\"B2_6\",\"\")","v":""}]
[null,null,null,null,null,null,null,{"$f":"IFERROR(IF(A12>0,(J_DIFF(D12,IF(E12>13000101,E12,rotbe!$H$5)))*VLOOKUP(C12,param!$A$30:$B$34,2,FALSE)/365,\"\"),\"\")","v":""},{"$f":"IF(A12>0,\"B2_7\",\"\")","v":""}]
[null,null,null,null,null,null,null,{"$f":"IFERROR(IF(A13>0,(J_DIFF(D13,IF(E13>13000101,E13,rotbe!$H$5)))*VLOOKUP(C13,param!$A$30:$B$34,2,FALSE)/365,\"\"),\"\")","v":""},{"$f":"IF(A13>0,\"B2_8\",\"\")","v":""}]
[null,null,null,null,null,null,null,{"$f":"IFERROR(IF(A14>0,(J_DIFF(D14,IF(E14>13000101,E14,rotbe!$H$5)))*VLOOKUP(C14,param!$A$30:$B$34,2,FALSE)/365,\"\"),\"\")","v":""},{"$f":"IF(A14>0,\"B2_9\",\"\")","v":""}]
[null,null,null,null,null,null,null,{"$f":"IFERROR(IF(A15>0,(J_DIFF(D15,IF(E15>13000101,E15,rotbe!$H$5)))*VLOOKUP(C15,param!$A$30:$B$34,2,FALSE)/365,\"\"),\"\")","v":""},{"$f":"IF(A15>0,\"B2_10\",\"\")","v":""}]
[null,null,null,null,null,null,null,{"$f":"IFERROR(IF(A16>0,(J_DIFF(D16,IF(E16>13000101,E16,rotbe!$H$5)))*VLOOKUP(C16,param!$A$30:$B$34,2,FALSE)/365,\"\"),\"\")","v":""},{"$f":"IF(A16>0,\"B2_11\",\"\")","v":""}]
[null,null,null,null,null,null,null,{"$f":"IFERROR(IF(A17>0,(J_DIFF(D17,IF(E17>13000101,E17,rotbe!$H$5)))*VLOOKUP(C17,param!$A$30:$B$34,2,FALSE)/365,\"\"),\"\")","v":""},{"$f":"IF(A17>0,\"B2_12\",\"\")","v":""}]
[null,null,null,null,null,null,null,{"$f":"IFERROR(IF(A18>0,(J_DIFF(D18,IF(E18>13000101,E18,rotbe!$H$5)))*VLOOKUP(C18,param!$A$30:$B$34,2,FALSE)/365,\"\"),\"\")","v":""},{"$f":"IF(A18>0,\"B2_13\",\"\")","v":""}]
[null,null,null,null,null,null,null,{"$f":"IFERROR(IF(A19>0,(J_DIFF(D19,IF(E19>13000101,E19,rotbe!$H$5)))*VLOOKUP(C19,param!$A$30:$B$34,2,FALSE)/365,\"\"),\"\")","v":""},{"$f":"IF(A19>0,\"B2_14\",\"\")","v":""}]
[null,null,null,null,null,null,null,{"$f":"IFERROR(IF(A20>0,(J_DIFF(D20,IF(E20>13000101,E20,rotbe!$H$5)))*VLOOKUP(C20,param!$A$30:$B$34,2,FALSE)/365,\"\"),\"\")","v":""},{"$f":"IF(A20>0,\"B2_15\",\"\")","v":""}]
[null,null,null,null,null,null,null,{"$f":"IFERROR(IF(A21>0,(J_DIFF(D21,IF(E21>13000101,E21,rotbe!$H$5)))*VLOOKUP(C21,param!$A$30:$B$34,2,FALSE)/365,\"\"),\"\")","v":""},{"$f":"IF(A21>0,\"B2_16\",\"\")","v":""}]
[null,null,null,null,null,null,null,{"$f":"IFERROR(IF(A22>0,(J_DIFF(D22,IF(E22>13000101,E22,rotbe!$H$5)))*VLOOKUP(C22,param!$A$30:$B$34,2,FALSE)/365,\"\"),\"\")","v":""},{"$f":"IF(A22>0,\"B2_17\",\"\")","v":""}]
[null,null,null,null,null,null,null,{"$f":"IFERROR(IF(A23>0,(J_DIFF(D23,IF(E23>13000101,E23,rotbe!$H$5)))*VLOOKUP(C23,param!$A$30:$B$34,2,FALSE)/365,\"\"),\"\")","v":""},{"$f":"IF(A23>0,\"B2_18\",\"\")","v":""}]
[null,null,null,null,null,null,null,{"$f":"IFERROR(IF(A24>0,(J_DIFF(D24,IF(E24>13000101,E24,rotbe!$H$5)))*VLOOKUP(C24,param!$A$30:$B$34,2,FALSE)/365,\"\"),\"\")","v":""},{"$f":"IF(A24>0,\"B2_19\",\"\")","v":""}]

{"sheet":"b3","index":13,"n_rows":25,"n_cols":7,"rows_kept":25,"cut":false,"hidden":false,"merged":[[2,0,2,6],[3,0,3,6],[0,0,0,6],[1,0,1,6]]}
[{"$f":"param!C29","v":"مدیریت اداری و پشتیبانی\nارتقای رتبه اعضای غیر هیأت علمی"}]
[]
["ب 3: عضویت در کمیته ها، شوراها"]
[{"$f":"IFERROR(\"امتیاز متقاضی: \"&ROUND(SUM(F$3:F$14),2)&\"  | حداکثر امتیاز: \"&VLOOKUP(tahsilat!$F$4&rotbe!$G$5,param!$C$2:$AO$28,18,FALSE)&\"  | امتیاز قابل محاسبه: \"&MIN(ROUND(SUM(F$3:F$14),2),VLOOKUP(tahsilat!$F$4&rotbe!$G$5,param!$C$2:$AO$28,18,FALSE)),\"\")","v":""}]
["ردیف","عنوان کمیته، هیأت، شورا","مقام ابلاغ کننده","تاریخ شروع","تاریخ پایان","امتیاز","مستند"]
[null,null,null,null,null,{"$f":"IFERROR(IF(A6>0,(J_DIFF(D6,IF(E6>13000101,E6,rotbe!$H$5)))*VLOOKUP(C6,param!$A$37:$B$38,2,FALSE)/365,\"\"),\"\")","v":""},{"$f":"IF(A6>0,\"B3_1\",\"\")","v":""}]
[null,null,null,null,null,{"$f":"IFERROR(IF(A7>0,(J_DIFF(D7,IF(E7>13000101,E7,rotbe!$H$5)))*VLOOKUP(C7,param!$A$37:$B$38,2,FALSE)/365,\"\"),\"\")","v":""},{"$f":"IF(A7>0,\"B3_2\",\"\")","v":""}]
[null,null,null,null,null,{"$f":"IFERROR(IF(A8>0,(J_DIFF(D8,IF(E8>13000101,E8,rotbe!$H$5)))*VLOOKUP(C8,param!$A$37:$B$38,2,FALSE)/365,\"\"),\"\")","v":""},{"$f":"IF(A8>0,\"B3_3\",\"\")","v":""}]
[null,null,null,null,null,{"$f":"IFERROR(IF(A9>0,(J_DIFF(D9,IF(E9>13000101,E9,rotbe!$H$5)))*VLOOKUP(C9,param!$A$37:$B$38,2,FALSE)/365,\"\"),\"\")","v":""},{"$f":"IF(A9>0,\"B3_4\",\"\")","v":""}]
[null,null,null,null,null,{"$f":"IFERROR(IF(A10>0,(J_DIFF(D10,IF(E10>13000101,E10,rotbe!$H$5)))*VLOOKUP(C10,param!$A$37:$B$38,2,FALSE)/365,\"\"),\"\")","v":""},{"$f":"IF(A10>0,\"B3_5\",\"\")","v":""}]
[null,null,null,null,null,{"$f":"IFERROR(IF(A11>0,(J_DIFF(D11,IF(E11>13000101,E11,rotbe!$H$5)))*VLOOKUP(C11,param!$A$37:$B$38,2,FALSE)/365,\"\"),\"\")","v":""},{"$f":"IF(A11>0,\"B3_6\",\"\")","v":""}]
[null,null,null,null,null,{"$f":"IFERROR(IF(A12>0,(J_DIFF(D12,IF(E12>13000101,E12,rotbe!$H$5)))*VLOOKUP(C12,param!$A$37:$B$38,2,FALSE)/365,\"\"),\"\")","v":""},{"$f":"IF(A12>0,\"B3_7\",\"\")","v":""}]
[null,null,null,null,null,{"$f":"IFERROR(IF(A13>0,(J_DIFF(D13,IF(E13>13000101,E13,rotbe!$H$5)))*VLOOKUP(C13,param!$A$37:$B$38,2,FALSE)/365,\"\"),\"\")","v":""},{"$f":"IF(A13>0,\"B3_8\",\"\")","v":""}]
[null,null,null,null,null,{"$f":"IFERROR(IF(A14>0,(J_DIFF(D14,IF(E14>13000101,E14,rotbe!$H$5)))*VLOOKUP(C14,param!$A$37:$B$38,2,FALSE)/365,\"\"),\"\")","v":""},{"$f":"IF(A14>0,\"B3_9\",\"\")","v":""}]
[null,null,null,null,null,{"$f":"IFERROR(IF(A15>0,(J_DIFF(D15,IF(E15>13000101,E15,rotbe!$H$5)))*VLOOKUP(C15,param!$A$37:$B$38,2,FALSE)/365,\"\"),\"\")","v":""},{"$f":"IF(A15>0,\"B3_10\",\"\")","v":""}]
[null,null,null,null,null,{"$f":"IFERROR(IF(A16>0,(J_DIFF(D16,IF(E16>13000101,E16,rotbe!$H$5)))*VLOOKUP(C16,param!$A$37:$B$38,2,FALSE)/365,\"\"),\"\")","v":""},{"$f":"IF(A16>0,\"B3_11\",\"\")","v":""}]
[null,null,null,null,null,{"$f":"IFERROR(IF(A17>0,(J_DIFF(D17,IF(E17>13000101,E17,rotbe!$H$5)))*VLOOKUP(C17,param!$A$37:$B$38,2,FALSE)/365,\"\"),\"\")","v":""},{"$f":"IF(A17>0,\"B3_12\",\"\")","v":""}]
[null,null,null,null,null,{"$f":"IFERROR(IF(A18>0,(J_DIFF(D18,IF(E18>13000101,E18,rotbe!$H$5)))*VLOOKUP(C18,param!$A$37:$B$38,2,FALSE)/365,\"\"),\"\")","v":""},{"$f":"IF(A18>0,\"B3_13\",\"\")","v":""}]
[null,null,null,null,null,{"$f":"IFERROR(IF(A19>0,(J_DIFF(D19,IF(E19>13000101,E19,rotbe!$H$5)))*VLOOKUP(C19,param!$A$37:$B$38,2,FALSE)/365,\"\"),\"\")","v":""},{"$f":"IF(A19>0,\"B3_14\",\"\")","v":""}]
[null,null,null,null,null,{"$f":"IFERROR(IF(A20>0,(J_DIFF(D20,IF(E20>13000101,E20,rotbe!$H$5)))*VLOOKUP(C20,param!$A$37:$B$38,2,FALSE)/365,\"\"),\"\")","v":""},{"$f":"IF(A20>0,\"B3_15\",\"\")","v":""}]
[null,null,null,null,null,{"$f":"IFERROR(IF(A21>0,(J_DIFF(D21,IF(E21>13000101,E21,rotbe!$H$5)))*VLOOKUP(C21,param!$A$37:$B$38,2,FALSE)/365,\"\"),\"\")","v":""},{"$f":"IF(A21>0,\"B3_16\",\"\")","v":""}]
[null,null,null,null,null,{"$f":"IFERROR(IF(A22>0,(J_DIFF(D22,IF(E22>13000101,E22,rotbe!$H$5)))*VLOOKUP(C22,param!$A$37:$B$38,2,FALSE)/365,\"\"),\"\")","v":""},{"$f":"IF(A22>0,\"B3_17\",\"\")","v":""}]
[null,null,null,null,null,{"$f":"IFERROR(IF(A23>0,(J_DIFF(D23,IF(E23>13000101,E23,rotbe!$H$5)))*VLOOKUP(C23,param!$A$37:$B$38,2,FALSE)/365,\"\"),\"\")","v":""},{"$f":"IF(A23>0,\"B3_18\",\"\")","v":""}]
[null,null,null,null,null,{"$f":"IFERROR(IF(A24>0,(J_DIFF(D24,IF(E24>13000101,E24,rotbe!$H$5)))*VLOOKUP(C24,param!$A$37:$B$38,2,FALSE)/365,\"\"),\"\")","v":""},{"$f":"IF(A24>0,\"B3_19\",\"\")","v":""}]
[null,null,null,null,null,{"$f":"IFERROR(IF(A25>0,(J_DIFF(D25,IF(E25>13000101,E25,rotbe!$H$5)))*VLOOKUP(C25,param!$A$37:$B$38,2,FALSE)/365,\"\"),\"\")","v":""},{"$f":"IF(A25>0,\"B3_20\",\"\")","v":""}]

{"sheet":"g1-1","index":14,"n_rows":6,"n_cols":6,"rows_kept":6,"cut":false,"hidden":false,"merged":[[7,0,7,5],[5,0,5,2],[2,0,2,5],[3,0,3,5],[0,0,0,5],[1,0,1,5],[4,0,4,2]]}
[{"$f":"param!C29","v":"مدیریت اداری و پشتیبانی\nارتقای رتبه اعضای غیر هیأت علمی"}]
[]
["ج 1-1: دوره های آموزشی"]
[{"$f":"IFERROR(\"امتیاز متقاضی: \"&ROUND(SUM(E:E),2)&\"  | حداکثر امتیاز: \"&VLOOKUP(tahsilat!$F$4&rotbe!$G$5,param!$C$2:$AO$28,21,FALSE)&\"  | امتیاز قابل محاسبه: \"&MIN(ROUND(SUM(E:E),2),VLOOKUP(tahsilat!$F$4&rotbe!$G$5,param!$C$2:$AO$28,21,FALSE)),\"\")","v":""}]
["عنوان",null,null,"ساعت","امتیاز","مستند"]
["مجموع کل ساعت های دوره های گذرانده شده و دوره های متفرقه را در ستون ساعت، درج نمایید.",null,null,null,{"$f":"IF(D6>0,D6/5,\"\")","v":""},{"$f":"IF(D6>0,\"G1-1_1\",\"\")","v":""}]

{"sheet":"g1-2","index":15,"n_rows":44,"n_cols":4,"rows_kept":44,"cut":false,"hidden":false,"merged":[[2,0,2,3],[0,0,0,3],[3,0,3,3],[1,0,1,3]]}
[{"$f":"param!C29","v":"مدیریت اداری و پشتیبانی\nارتقای رتبه اعضای غیر هیأت علمی"}]
[]
["ج 1-2: شرکت در کارگاه ها و همایش های آموزشی"]
[{"$f":"IFERROR(\"امتیاز متقاضی: \"&ROUND(SUM(C:C),2)&\"  | حداکثر امتیاز: \"&VLOOKUP(tahsilat!$F$4&rotbe!$G$5,param!$C$2:$AO$28,22,FALSE)&\"  | امتیاز قابل محاسبه: \"&MIN(ROUND(SUM(C:C),2),VLOOKUP(tahsilat!$F$4&rotbe!$G$5,param!$C$2:$AO$28,22,FALSE)),\"\")","v":""}]
["ردیف","عنوان","امتیاز","مستند"]
[null,null,{"$f":"IF(A6>0,2,\"\")","v":""},{"$f":"IF(A6>0,\"G1-2_1\",\"\")","v":""}]
[null,null,{"$f":"IF(A7>0,2,\"\")","v":""},{"$f":"IF(A7>0,\"G1-2_2\",\"\")","v":""}]
[null,null,"",{"$f":"IF(A8>0,\"G1-2_3\",\"\")","v":""}]
[null,null,"",{"$f":"IF(A9>0,\"G1-2_4\",\"\")","v":""}]
[null,null,"",{"$f":"IF(A10>0,\"G1-2_5\",\"\")","v":""}]
[null,null,"",{"$f":"IF(A11>0,\"G1-2_6\",\"\")","v":""}]
[null,null,"",{"$f":"IF(A12>0,\"G1-2_7\",\"\")","v":""}]
[null,null,"",{"$f":"IF(A13>0,\"G1-2_8\",\"\")","v":""}]
[null,null,"",{"$f":"IF(A14>0,\"G1-2_9\",\"\")","v":""}]
[null,null,"",{"$f":"IF(A15>0,\"G1-2_10\",\"\")","v":""}]
[null,null,"",{"$f":"IF(A16>0,\"G1-2_11\",\"\")","v":""}]
[null,null,"",{"$f":"IF(A17>0,\"G1-2_12\",\"\")","v":""}]
[null,null,"",{"$f":"IF(A18>0,\"G1-2_13\",\"\")","v":""}]
[null,null,"",{"$f":"IF(A19>0,\"G1-2_14\",\"\")","v":""}]
[null,null,"",{"$f":"IF(A20>0,\"G1-2_15\",\"\")","v":""}]
[null,null,"",{"$f":"IF(A21>0,\"G1-2_16\",\"\")","v":""}]
[null,null,"",{"$f":"IF(A22>0,\"G1-2_17\",\"\")","v":""}]
[null,null,"",{"$f":"IF(A23>0,\"G1-2_18\",\"\")","v":""}]
[null,null,"",{"$f":"IF(A24>0,\"G1-2_19\",\"\")","v":""}]
[null,null,{"$f":"IF(A25>0,2,\"\")","v":""},{"$f":"IF(A25>0,\"G1-2_20\",\"\")","v":""}]
[null,null,"",{"$f":"IF(A26>0,\"G1-2_21\",\"\")","v":""}]
[null,null,"",{"$f":"IF(A27>0,\"G1-2_22\",\"\")","v":""}]
[null,null,"",{"$f":"IF(A28>0,\"G1-2_23\",\"\")","v":""}]
[null,null,"",{"$f":"IF(A29>0,\"G1-2_24\",\"\")","v":""}]
[null,null,"",{"$f":"IF(A30>0,\"G1-2_25\",\"\")","v":""}]
[null,null,"",{"$f":"IF(A31>0,\"G1-2_26\",\"\")","v":""}]
[null,null,"",{"$f":"IF(A32>0,\"G1-2_27\",\"\")","v":""}]
[null,null,"",{"$f":"IF(A33>0,\"G1-2_28\",\"\")","v":""}]
[null,null,"",{"$f":"IF(A34>0,\"G1-2_29\",\"\")","v":""}]
[null,null,"",{"$f":"IF(A35>0,\"G1-2_30\",\"\")","v":""}]
[null,null,"",{"$f":"IF(A36>0,\"G1-2_31\",\"\")","v":""}]
[null,null,"",{"$f":"IF(A37>0,\"G1-2_32\",\"\")","v":""}]
[null,null,"",{"$f":"IF(A38>0,\"G1-2_33\",\"\")","v":""}]
[null,null,"",{"$f":"IF(A39>0,\"G1-2_34\",\"\")","v":""}]
[null,null,"",{"$f":"IF(A40>0,\"G1-2_35\",\"\")","v":""}]
[null,null,"",{"$f":"IF(A41>0,\"G1-2_36\",\"\")","v":""}]
[null,null,"",{"$f":"IF(A42>0,\"G1-2_37\",\"\")","v":""}]
[null,null,"",{"$f":"IF(A43>0,\"G1-2_38\",\"\")","v":""}]
[null,null,"",{"$f":"IF(A44>0,\"G1-2_39\",\"\")","v":""}]

{"sheet":"g2-1","index":16,"n_rows":9,"n_cols":4,"rows_kept":9,"cut":false,"hidden":false,"merged":[[7,0,7,3],[5,0,5,1],[0,0,0,3],[2,0,2,3],[3,0,3,3],[1,0,1,3],[4,0,4,1]]}
[{"$f":"param!C29","v":"مدیریت اداری و پشتیبانی\nارتقای رتبه اعضای غیر هیأت علمی"}]
[]
["ج 2-1: آموزش به همکاران"]
[{"$f":"IFERROR(\"امتیاز متقاضی: \"&IF(SUM('b1'!G7:G31)>2919,ROUND(C6,2),0)&\"  | حداکثر امتیاز: \"&VLOOKUP(tahsilat!$F$4&rotbe!$G$5,param!$C$2:$AO$28,23,FALSE)&\"  | امتیاز قابل محاسبه: \"&MIN(IF(SUM('b1'!G7:G31)>2919,ROUND(C6,2),0),VLOOKUP(tahsilat!$F$4&rotbe!$G$5,param!$C$2:$AO$28,23,FALSE)),\"\")","v":""}]
["نوع آموزش",null,"امتیاز","مستند"]
["امتیاز فرم آموزش به همکار که به تأیید اداره آموزش کارکنان رسانده اید را در ستون امتیاز، درج نمایید",null,null,{"$f":"IF(C6>0,\"G2-1\",\"\")","v":""}]
[]
[{"$f":"IF(AND(SUM('b1'!G7:G31)>0,SUM('b1'!G7:G31)<2555),\"این امتیاز برای کارکنانی که بالای هفت (7) سال، سابقه دارند، محاسبه می شود.\",\"\")","v":""}]
[{"$f":"IF(AND(SUM('b1'!G7:G31)>0,SUM('b1'!G7:G31)<2555),0,1)","v":1}]

{"sheet":"g2-2","index":17,"n_rows":25,"n_cols":4,"rows_kept":25,"cut":false,"hidden":false,"merged":[[2,0,2,3],[3,0,3,3],[0,0,0,3],[1,0,1,3]]}
[{"$f":"param!C29","v":"مدیریت اداری و پشتیبانی\nارتقای رتبه اعضای غیر هیأت علمی"}]
[]
["ج 2-2: تدریس به همکاران"]
[{"$f":"IFERROR(\"امتیاز متقاضی: \"&ROUND(SUM($C:$C),2)&\"  | حداکثر امتیاز: \"&VLOOKUP(tahsilat!$F$4&rotbe!$G$5,param!$C$2:$AO$28,24,FALSE)&\"  | امتیاز قابل محاسبه: \"&MIN(ROUND(SUM($C:$C),2),VLOOKUP(tahsilat!$F$4&rotbe!$G$5,param!$C$2:$AO$28,24,FALSE)),\"\")","v":""}]
["ردیف","عنوان دوره آموزش","امتیاز","مستند"]
[null,null,null,{"$f":"IF(A6>0,\"G2-2_1\",\"\")","v":""}]
[null,null,null,{"$f":"IF(A7>0,\"G2-2_2\",\"\")","v":""}]
[null,null,null,{"$f":"IF(A8>0,\"G2-2_3\",\"\")","v":""}]
[null,null,null,{"$f":"IF(A9>0,\"G2-2_4\",\"\")","v":""}]
[null,null,null,{"$f":"IF(A10>0,\"G2-2_5\",\"\")","v":""}]
[null,null,null,{"$f":"IF(A11>0,\"G2-2_6\",\"\")","v":""}]
[null,null,null,{"$f":"IF(A12>0,\"G2-2_7\",\"\")","v":""}]
[null,null,null,{"$f":"IF(A13>0,\"G2-2_8\",\"\")","v":""}]
[null,null,null,{"$f":"IF(A14>0,\"G2-2_9\",\"\")","v":""}]
[null,null,null,{"$f":"IF(A15>0,\"G2-2_10\",\"\")","v":""}]
[null,null,null,{"$f":"IF(A16>0,\"G2-2_11\",\"\")","v":""}]
[null,null,null,{"$f":"IF(A17>0,\"G2-2_12\",\"\")","v":""}]
[null,null,null,{"$f":"IF(A18>0,\"G2-2_13\",\"\")","v":""}]
[null,null,null,{"$f":"IF(A19>0,\"G2-2_14\",\"\")","v":""}]
[null,null,null,{"$f":"IF(A20>0,\"G2-2_15\",\"\")","v":""}]
[null,null,null,{"$f":"IF(A21>0,\"G2-2_16\",\"\")","v":""}]
[null,null,null,{"$f":"IF(A22>0,\"G2-2_17\",\"\")","v":""}]
[null,null,null,{"$f":"IF(A23>0,\"G2-2_18\",\"\")","v":""}]
[null,null,null,{"$f":"IF(A24>0,\"G2-2_19\",\"\")","v":""}]
[null,null,null,{"$f":"IF(A25>0,\"G2-2_20\",\"\")","v":""}]

{"sheet":"g3","index":18,"n_rows":52,"n_cols":6,"rows_kept":52,"cut":false,"hidden":false,"merged":[[0,0,0,5],[2,0,2,5],[3,0,3,5],[1,0,1,5]]}
[{"$f":"param!C29","v":"مدیریت اداری و پشتیبانی\nارتقای رتبه اعضای غیر هیأت علمی"}]
[]
["ج 3: تسلط به نرم افزار"]
[{"$f":"IFERROR(\"امتیاز متقاضی: \"&ROUND(SUM(D:D),2)&\"  | حداکثر امتیاز: \"&VLOOKUP(tahsilat!$F$4&rotbe!$G$5,param!$C$2:$AO$28,25,FALSE)&\"  | امتیاز قابل محاسبه: \"&MIN(ROUND(SUM(D:D),2),VLOOKUP(tahsilat!$F$4&rotbe!$G$5,param!$C$2:$AO$28,25,FALSE)),\"\")","v":""}]
["رج","عنوان","نوع دوره","امتیاز","حداکثر امتیاز","مستند"]
[1,"مهارت اول: مفاهیم ابتدایی در فناوری اطلاعات","ICDL",null,3,{"$f":"IF(D6>0,\"G3_1\",\"\")","v":""}]
[2,"مهارت دوم: آشنایی با مفهوم WinDows","ICDL",null,3,{"$f":"IF(D7>0,\"G3_2\",\"\")","v":""}]
[3,"مهارت سوم: واژه پردازی WorD","ICDL",null,4,{"$f":"IF(D8>0,\"G3_3\",\"\")","v":""}]
[4,"مهارت چهارم: صفحه گسترده ها Excel","ICDL",null,4,{"$f":"IF(D9>0,\"G3_4\",\"\")","v":""}]
[5,"مهارت پنجم: بانک های اطلاعاتی Access","ICDL",null,4,{"$f":"IF(D10>0,\"G3_5\",\"\")","v":""}]
[6,"مهارت ششم: ارائه مطالب Power Point","ICDL",null,4,{"$f":"IF(D11>0,\"G3_6\",\"\")","v":""}]
[7,"مهارت هفتم: اطلاعات و ارتباطات Internet","ICDL",null,3,{"$f":"IF(D12>0,\"G3_7\",\"\")","v":""}]
[8,"نرم افزار دیدگاه","شغلی",15,{"$f":"IFERROR(VLOOKUP('g3'!C13,param!$A$41:$B$44,2,FALSE),\"\")","v":15}]
[9,"نرم افزار گلستان","تخصصی",15,{"$f":"IFERROR(VLOOKUP('g3'!C14,param!$A$41:$B$44,2,FALSE),\"\")","v":15}]
[null,null,null,null,{"$f":"IFERROR(VLOOKUP('g3'!C15,param!$A$41:$B$44,2,FALSE),\"\")","v":""},{"$f":"IF(A15>0,\"G3_10\",\"\")","v":""}]
[null,null,null,null,{"$f":"IFERROR(VLOOKUP('g3'!C16,param!$A$41:$B$44,2,FALSE),\"\")","v":""},{"$f":"IF(A16>0,\"G3_11\",\"\")","v":""}]
[null,null,null,null,{"$f":"IFERROR(VLOOKUP('g3'!C17,param!$A$41:$B$44,2,FALSE),\"\")","v":""},{"$f":"IF(A17>0,\"G3_12\",\"\")","v":""}]
[null,null,null,null,{"$f":"IFERROR(VLOOKUP('g3'!C18,param!$A$41:$B$44,2,FALSE),\"\")","v":""},{"$f":"IF(A18>0,\"G3_13\",\"\")","v":""}]
[null,null,null,null,{"$f":"IFERROR(VLOOKUP('g3'!C19,param!$A$41:$B$44,2,FALSE),\"\")","v":""},{"$f":"IF(A19>0,\"G3_14\",\"\")","v":""}]
[null,null,null,null,{"$f":"IFERROR(VLOOKUP('g3'!C20,param!$A$41:$B$44,2,FALSE),\"\")","v":""},{"$f":"IF(A20>0,\"G3_15\",\"\")","v":""}]
[null,null,null,null,{"$f":"IFERROR(VLOOKUP('g3'!C21,param!$A$41:$B$44,2,FALSE),\"\")","v":""},{"$f":"IF(A21>0,\"G3_16\",\"\")","v":""}]
[null,null,null,null,{"$f":"IFERROR(VLOOKUP('g3'!C22,param!$A$41:$B$44,2,FALSE),\"\")","v":""},{"$f":"IF(A22>0,\"G3_17\",\"\")","v":""}]
[null,null,null,null,{"$f":"IFERROR(VLOOKUP('g3'!C23,param!$A$41:$B$44,2,FALSE),\"\")","v":""},{"$f":"IF(A23>0,\"G3_18\",\"\")","v":""}]
[null,null,null,null,{"$f":"IFERROR(VLOOKUP('g3'!C24,param!$A$41:$B$44,2,FALSE),\"\")","v":""},{"$f":"IF(A24>0,\"G3_19\",\"\")","v":""}]
[null,null,null,null,{"$f":"IFERROR(VLOOKUP('g3'!C25,param!$A$41:$B$44,2,FALSE),\"\")","v":""},{"$f":"IF(A25>0,\"G3_20\",\"\")","v":""}]
[null,null,null,null,{"$f":"IFERROR(VLOOKUP('g3'!C26,param!$A$41:$B$44,2,FALSE),\"\")","v":""},{"$f":"IF(A26>0,\"G3_21\",\"\")","v":""}]
[null,null,null,null,{"$f":"IFERROR(VLOOKUP('g3'!C27,param!$A$41:$B$44,2,FALSE),\"\")","v":""},{"$f":"IF(A27>0,\"G3_22\",\"\")","v":""}]
[null,null,null,null,{"$f":"IFERROR(VLOOKUP('g3'!C28,param!$A$41:$B$44,2,FALSE),\"\")","v":""},{"$f":"IF(A28>0,\"G3_23\",\"\")","v":""}]
[null,null,null,null,{"$f":"IFERROR(VLOOKUP('g3'!C29,param!$A$41:$B$44,2,FALSE),\"\")","v":""},{"$f":"IF(A29>0,\"G3_24\",\"\")","v":""}]
[null,null,null,null,{"$f":"IFERROR(VLOOKUP('g3'!C30,param!$A$41:$B$44,2,FALSE),\"\")","v":""},{"$f":"IF(A30>0,\"G3_25\",\"\")","v":""}]
[null,null,null,null,{"$f":"IFERROR(VLOOKUP('g3'!C31,param!$A$41:$B$44,2,FALSE),\"\")","v":""},{"$f":"IF(A31>0,\"G3_26\",\"\")","v":""}]
[null,null,null,null,{"$f":"IFERROR(VLOOKUP('g3'!C32,param!$A$41:$B$44,2,FALSE),\"\")","v":""},{"$f":"IF(A32>0,\"G3_27\",\"\")","v":""}]
[null,null,null,null,{"$f":"IFERROR(VLOOKUP('g3'!C33,param!$A$41:$B$44,2,FALSE),\"\")","v":""},{"$f":"IF(A33>0,\"G3_28\",\"\")","v":""}]
[null,null,null,null,{"$f":"IFERROR(VLOOKUP('g3'!C34,param!$A$41:$B$44,2,FALSE),\"\")","v":""},{"$f":"IF(A34>0,\"G3_29\",\"\")","v":""}]
[null,null,null,null,{"$f":"IFERROR(VLOOKUP('g3'!C35,param!$A$41:$B$44,2,FALSE),\"\")","v":""},{"$f":"IF(A35>0,\"G3_30\",\"\")","v":""}]
[null,null,null,null,{"$f":"IFERROR(VLOOKUP('g3'!C36,param!$A$41:$B$44,2,FALSE),\"\")","v":""},{"$f":"IF(A36>0,\"G3_31\",\"\")","v":""}]
[null,null,null,null,{"$f":"IFERROR(VLOOKUP('g3'!C37,param!$A$41:$B$44,2,FALSE),\"\")","v":""},{"$f":"IF(A37>0,\"G3_32\",\"\")","v":""}]
[null,null,null,null,{"$f":"IFERROR(VLOOKUP('g3'!C38,param!$A$41:$B$44,2,FALSE),\"\")","v":""},{"$f":"IF(A38>0,\"G3_33\",\"\")","v":""}]
[null,null,null,null,{"$f":"IFERROR(VLOOKUP('g3'!C39,param!$A$41:$B$44,2,FALSE),\"\")","v":""},{"$f":"IF(A39>0,\"G3_34\",\"\")","v":""}]
[null,null,null,null,{"$f":"IFERROR(VLOOKUP('g3'!C40,param!$A$41:$B$44,2,FALSE),\"\")","v":""},{"$f":"IF(A40>0,\"G3_35\",\"\")","v":""}]
[null,null,null,null,{"$f":"IFERROR(VLOOKUP('g3'!C41,param!$A$41:$B$44,2,FALSE),\"\")","v":""},{"$f":"IF(A41>0,\"G3_36\",\"\")","v":""}]
[null,null,null,null,{"$f":"IFERROR(VLOOKUP('g3'!C42,param!$A$41:$B$44,2,FALSE),\"\")","v":""},{"$f":"IF(A42>0,\"G3_37\",\"\")","v":""}]
[null,null,null,null,{"$f":"IFERROR(VLOOKUP('g3'!C43,param!$A$41:$B$44,2,FALSE),\"\")","v":""},{"$f":"IF(A43>0,\"G3_38\",\"\")","v":""}]
[null,null,null,null,{"$f":"IFERROR(VLOOKUP('g3'!C44,param!$A$41:$B$44,2,FALSE),\"\")","v":""},{"$f":"IF(A44>0,\"G3_39\",\"\")","v":""}]
[null,null,null,null,{"$f":"IFERROR(VLOOKUP('g3'!C45,param!$A$41:$B$44,2,FALSE),\"\")","v":""},{"$f":"IF(A45>0,\"G3_40\",\"\")","v":""}]
[null,null,null,null,{"$f":"IFERROR(VLOOKUP('g3'!C46,param!$A$41:$B$44,2,FALSE),\"\")","v":""},{"$f":"IF(A46>0,\"G3_41\",\"\")","v":""}]
[null,null,null,null,{"$f":"IFERROR(VLOOKUP('g3'!C47,param!$A$41:$B$44,2,FALSE),\"\")","v":""},{"$f":"IF(A47>0,\"G3_42\",\"\")","v":""}]
[null,null,null,null,{"$f":"IFERROR(VLOOKUP('g3'!C48,param!$A$41:$B$44,2,FALSE),\"\")","v":""},{"$f":"IF(A48>0,\"G3_43\",\"\")","v":""}]
[null,null,null,null,{"$f":"IFERROR(VLOOKUP('g3'!C49,param!$A$41:$B$44,2,FALSE),\"\")","v":""},{"$f":"IF(A49>0,\"G3_44\",\"\")","v":""}]
[null,null,null,null,{"$f":"IFERROR(VLOOKUP('g3'!C50,param!$A$41:$B$44,2,FALSE),\"\")","v":""},{"$f":"IF(A50>0,\"G3_45\",\"\")","v":""}]
[null,null,null,null,{"$f":"IFERROR(VLOOKUP('g3'!C51,param!$A$41:$B$44,2,FALSE),\"\")","v":""},{"$f":"IF(A51>0,\"G3_46\",\"\")","v":""}]
[null,null,null,null,{"$f":"IFERROR(VLOOKUP('g3'!C52,param!$A$41:$B$44,2,FALSE),\"\")","v":""},{"$f":"IF(A52>0,\"G3_47\",\"\")","v":""}]

{"sheet":"g4","index":19,"n_rows":7,"n_cols":4,"rows_kept":7,"cut":false,"hidden":false,"merged":[[0,0,0,3],[2,0,2,3],[3,0,3,3],[1,0,1,3]]}
[{"$f":"param!C29","v":"مدیریت اداری و پشتیبانی\nارتقای رتبه اعضای غیر هیأت علمی"}]
[]
["ج 4: تسلط به زبان خارجی"]
[{"$f":"IFERROR(\"امتیاز متقاضی: \"&MAX(IF(C7=\"بله\",50,0),VLOOKUP(tahsilat!F4,param!A2:AB6,28,FALSE))&\"  | حداکثر امتیاز: \"&50&\"  | امتیاز قابل محاسبه: \"&MAX(IF(C7=\"بله\",50,0),VLOOKUP(tahsilat!F4,param!A2:AB6,28,FALSE)),\"\")","v":""}]
["ردیف","شرح",null,"مستند"]
[1,"زبان خارجی خود را انتخاب کنید","انگلیسی",{"$f":"IF($C$6=\"سایر\",\"G4_1\",\"\")","v":""}]
[2,"آیا یکی از دو گواهی TOFEL یا IElTS را دارید؟","خیر",{"$f":"IF($C$7=\"بله\",\"G4_2\",\"\")","v":""}]

{"sheet":"d1","index":20,"n_rows":42,"n_cols":8,"rows_kept":42,"cut":false,"hidden":false,"merged":[[0,0,0,7],[2,0,2,7],[3,0,3,7],[1,0,1,7]]}
[{"$f":"param!C29","v":"مدیریت اداری و پشتیبانی\nارتقای رتبه اعضای غیر هیأت علمی"}]
[]
["د 1: ارائه پیشنهادات نو و ابتکاری"]
[{"$f":"IFERROR(\"امتیاز متقاضی: \"&ROUND(SUM(F:F),2)&\"  | حداکثر امتیاز: \"&VLOOKUP(tahsilat!$F$4&rotbe!$G$5,param!$C$2:$AO$28,28,FALSE)&\"  | امتیاز قابل محاسبه: \"&MIN(ROUND(SUM(F:F),2),VLOOKUP(tahsilat!$F$4&rotbe!$G$5,param!$C$2:$AO$28,28,FALSE)),\"\")","v":""}]
["ردیف","عنوان","سطح پیشنهاد","مرجع تصویب کننده","وضعیت اجرایی","امتیاز","حداکثر امتیاز","مستند"]
[null,null,null,null,null,null,{"$f":"IFERROR(IF(E6=\"مصوب و اجرا شده است\",+VLOOKUP(C6,param!$A$49:$C$53,3,FALSE),VLOOKUP(C6,param!$A$49:$C$53,2,FALSE)),\"\")","v":""},{"$f":"IF($A6>0,\"D1_1\",\"\")","v":""}]
[null,null,null,null,null,null,{"$f":"IFERROR(IF(E7=\"مصوب و اجرا شده است\",+VLOOKUP(C7,param!$A$49:$C$53,3,FALSE),VLOOKUP(C7,param!$A$49:$C$53,2,FALSE)),\"\")","v":""},{"$f":"IF($A7>0,\"D1_2\",\"\")","v":""}]
[null,null,null,null,null,null,{"$f":"IFERROR(IF(E8=\"مصوب و اجرا شده است\",+VLOOKUP(C8,param!$A$49:$C$53,3,FALSE),VLOOKUP(C8,param!$A$49:$C$53,2,FALSE)),\"\")","v":""},{"$f":"IF($A8>0,\"D1_3\",\"\")","v":""}]
[null,null,null,null,null,null,{"$f":"IFERROR(IF(E9=\"مصوب و اجرا شده است\",+VLOOKUP(C9,param!$A$49:$C$53,3,FALSE),VLOOKUP(C9,param!$A$49:$C$53,2,FALSE)),\"\")","v":""},{"$f":"IF($A9>0,\"D1_4\",\"\")","v":""}]
[null,null,null,null,null,null,{"$f":"IFERROR(IF(E10=\"مصوب و اجرا شده است\",+VLOOKUP(C10,param!$A$49:$C$53,3,FALSE),VLOOKUP(C10,param!$A$49:$C$53,2,FALSE)),\"\")","v":""},{"$f":"IF($A10>0,\"D1_5\",\"\")","v":""}]
[null,null,null,null,null,null,{"$f":"IFERROR(IF(E11=\"مصوب و اجرا شده است\",+VLOOKUP(C11,param!$A$49:$C$53,3,FALSE),VLOOKUP(C11,param!$A$49:$C$53,2,FALSE)),\"\")","v":""},{"$f":"IF($A11>0,\"D1_6\",\"\")","v":""}]
[null,null,null,null,null,null,{"$f":"IFERROR(IF(E12=\"مصوب و اجرا شده است\",+VLOOKUP(C12,param!$A$49:$C$53,3,FALSE),VLOOKUP(C12,param!$A$49:$C$53,2,FALSE)),\"\")","v":""},{"$f":"IF($A12>0,\"D1_7\",\"\")","v":""}]
[null,null,null,null,null,null,{"$f":"IFERROR(IF(E13=\"مصوب و اجرا شده است\",+VLOOKUP(C13,param!$A$49:$C$53,3,FALSE),VLOOKUP(C13,param!$A$49:$C$53,2,FALSE)),\"\")","v":""},{"$f":"IF($A13>0,\"D1_8\",\"\")","v":""}]
[null,null,null,null,null,null,{"$f":"IFERROR(IF(E14=\"مصوب و اجرا شده است\",+VLOOKUP(C14,param!$A$49:$C$53,3,FALSE),VLOOKUP(C14,param!$A$49:$C$53,2,FALSE)),\"\")","v":""},{"$f":"IF($A14>0,\"D1_9\",\"\")","v":""}]
[null,null,null,null,null,null,{"$f":"IFERROR(IF(E15=\"مصوب و اجرا شده است\",+VLOOKUP(C15,param!$A$49:$C$53,3,FALSE),VLOOKUP(C15,param!$A$49:$C$53,2,FALSE)),\"\")","v":""},{"$f":"IF($A15>0,\"D1_10\",\"\")","v":""}]
[null,null,null,null,null,null,{"$f":"IFERROR(IF(E16=\"مصوب و اجرا شده است\",+VLOOKUP(C16,param!$A$49:$C$53,3,FALSE),VLOOKUP(C16,param!$A$49:$C$53,2,FALSE)),\"\")","v":""},{"$f":"IF($A16>0,\"D1_11\",\"\")","v":""}]
[null,null,null,null,null,null,{"$f":"IFERROR(IF(E17=\"مصوب و اجرا شده است\",+VLOOKUP(C17,param!$A$49:$C$53,3,FALSE),VLOOKUP(C17,param!$A$49:$C$53,2,FALSE)),\"\")","v":""},{"$f":"IF($A17>0,\"D1_12\",\"\")","v":""}]
[null,null,null,null,null,null,{"$f":"IFERROR(IF(E18=\"مصوب و اجرا شده است\",+VLOOKUP(C18,param!$A$49:$C$53,3,FALSE),VLOOKUP(C18,param!$A$49:$C$53,2,FALSE)),\"\")","v":""},{"$f":"IF($A18>0,\"D1_13\",\"\")","v":""}]
[null,null,null,null,null,null,{"$f":"IFERROR(IF(E19=\"مصوب و اجرا شده است\",+VLOOKUP(C19,param!$A$49:$C$53,3,FALSE),VLOOKUP(C19,param!$A$49:$C$53,2,FALSE)),\"\")","v":""},{"$f":"IF($A19>0,\"D1_14\",\"\")","v":""}]
[null,null,null,null,null,null,{"$f":"IFERROR(IF(E20=\"مصوب و اجرا شده است\",+VLOOKUP(C20,param!$A$49:$C$53,3,FALSE),VLOOKUP(C20,param!$A$49:$C$53,2,FALSE)),\"\")","v":""},{"$f":"IF($A20>0,\"D1_15\",\"\")","v":""}]
[null,null,null,null,null,null,{"$f":"IFERROR(IF(E21=\"مصوب و اجرا شده است\",+VLOOKUP(C21,param!$A$49:$C$53,3,FALSE),VLOOKUP(C21,param!$A$49:$C$53,2,FALSE)),\"\")","v":""},{"$f":"IF($A21>0,\"D1_16\",\"\")","v":""}]
[null,null,null,null,null,null,{"$f":"IFERROR(IF(E22=\"مصوب و اجرا شده است\",+VLOOKUP(C22,param!$A$49:$C$53,3,FALSE),VLOOKUP(C22,param!$A$49:$C$53,2,FALSE)),\"\")","v":""},{"$f":"IF($A22>0,\"D1_17\",\"\")","v":""}]
[null,null,null,null,null,null,{"$f":"IFERROR(IF(E23=\"مصوب و اجرا شده است\",+VLOOKUP(C23,param!$A$49:$C$53,3,FALSE),VLOOKUP(C23,param!$A$49:$C$53,2,FALSE)),\"\")","v":""},{"$f":"IF($A23>0,\"D1_18\",\"\")","v":""}]
[null,null,null,null,null,null,{"$f":"IFERROR(IF(E24=\"مصوب و اجرا شده است\",+VLOOKUP(C24,param!$A$49:$C$53,3,FALSE),VLOOKUP(C24,param!$A$49:$C$53,2,FALSE)),\"\")","v":""},{"$f":"IF($A24>0,\"D1_19\",\"\")","v":""}]
[null,null,null,null,null,null,{"$f":"IFERROR(IF(E25=\"مصوب و اجرا شده است\",+VLOOKUP(C25,param!$A$49:$C$53,3,FALSE),VLOOKUP(C25,param!$A$49:$C$53,2,FALSE)),\"\")","v":""},{"$f":"IF($A25>0,\"D1_20\",\"\")","v":""}]
[null,null,null,null,null,null,{"$f":"IFERROR(IF(E26=\"مصوب و اجرا شده است\",+VLOOKUP(C26,param!$A$49:$C$53,3,FALSE),VLOOKUP(C26,param!$A$49:$C$53,2,FALSE)),\"\")","v":""},{"$f":"IF($A26>0,\"D1_21\",\"\")","v":""}]
[null,null,null,null,null,null,{"$f":"IFERROR(IF(E27=\"مصوب و اجرا شده است\",+VLOOKUP(C27,param!$A$49:$C$53,3,FALSE),VLOOKUP(C27,param!$A$49:$C$53,2,FALSE)),\"\")","v":""},{"$f":"IF($A27>0,\"D1_22\",\"\")","v":""}]
[null,null,null,null,null,null,{"$f":"IFERROR(IF(E28=\"مصوب و اجرا شده است\",+VLOOKUP(C28,param!$A$49:$C$53,3,FALSE),VLOOKUP(C28,param!$A$49:$C$53,2,FALSE)),\"\")","v":""},{"$f":"IF($A28>0,\"D1_23\",\"\")","v":""}]
[null,null,null,null,null,null,{"$f":"IFERROR(IF(E29=\"مصوب و اجرا شده است\",+VLOOKUP(C29,param!$A$49:$C$53,3,FALSE),VLOOKUP(C29,param!$A$49:$C$53,2,FALSE)),\"\")","v":""},{"$f":"IF($A29>0,\"D1_24\",\"\")","v":""}]
[null,null,null,null,null,null,{"$f":"IFERROR(IF(E30=\"مصوب و اجرا شده است\",+VLOOKUP(C30,param!$A$49:$C$53,3,FALSE),VLOOKUP(C30,param!$A$49:$C$53,2,FALSE)),\"\")","v":""},{"$f":"IF($A30>0,\"D1_25\",\"\")","v":""}]
[null,null,null,null,null,null,{"$f":"IFERROR(IF(E31=\"مصوب و اجرا شده است\",+VLOOKUP(C31,param!$A$49:$C$53,3,FALSE),VLOOKUP(C31,param!$A$49:$C$53,2,FALSE)),\"\")","v":""},{"$f":"IF($A31>0,\"D1_26\",\"\")","v":""}]
[null,null,null,null,null,null,{"$f":"IFERROR(IF(E32=\"مصوب و اجرا شده است\",+VLOOKUP(C32,param!$A$49:$C$53,3,FALSE),VLOOKUP(C32,param!$A$49:$C$53,2,FALSE)),\"\")","v":""},{"$f":"IF($A32>0,\"D1_27\",\"\")","v":""}]
[null,null,null,null,null,null,{"$f":"IFERROR(IF(E33=\"مصوب و اجرا شده است\",+VLOOKUP(C33,param!$A$49:$C$53,3,FALSE),VLOOKUP(C33,param!$A$49:$C$53,2,FALSE)),\"\")","v":""},{"$f":"IF($A33>0,\"D1_28\",\"\")","v":""}]
[null,null,null,null,null,null,{"$f":"IFERROR(IF(E34=\"مصوب و اجرا شده است\",+VLOOKUP(C34,param!$A$49:$C$53,3,FALSE),VLOOKUP(C34,param!$A$49:$C$53,2,FALSE)),\"\")","v":""},{"$f":"IF($A34>0,\"D1_29\",\"\")","v":""}]
[null,null,null,null,null,null,{"$f":"IFERROR(IF(E35=\"مصوب و اجرا شده است\",+VLOOKUP(C35,param!$A$49:$C$53,3,FALSE),VLOOKUP(C35,param!$A$49:$C$53,2,FALSE)),\"\")","v":""},{"$f":"IF($A35>0,\"D1_30\",\"\")","v":""}]
[null,null,null,null,null,null,{"$f":"IFERROR(IF(E36=\"مصوب و اجرا شده است\",+VLOOKUP(C36,param!$A$49:$C$53,3,FALSE),VLOOKUP(C36,param!$A$49:$C$53,2,FALSE)),\"\")","v":""},{"$f":"IF($A36>0,\"D1_31\",\"\")","v":""}]
[null,null,null,null,null,null,{"$f":"IFERROR(IF(E37=\"مصوب و اجرا شده است\",+VLOOKUP(C37,param!$A$49:$C$53,3,FALSE),VLOOKUP(C37,param!$A$49:$C$53,2,FALSE)),\"\")","v":""},{"$f":"IF($A37>0,\"D1_32\",\"\")","v":""}]
[null,null,null,null,null,null,{"$f":"IFERROR(IF(E38=\"مصوب و اجرا شده است\",+VLOOKUP(C38,param!$A$49:$C$53,3,FALSE),VLOOKUP(C38,param!$A$49:$C$53,2,FALSE)),\"\")","v":""},{"$f":"IF($A38>0,\"D1_33\",\"\")","v":""}]
[null,null,null,null,null,null,{"$f":"IFERROR(IF(E39=\"مصوب و اجرا شده است\",+VLOOKUP(C39,param!$A$49:$C$53,3,FALSE),VLOOKUP(C39,param!$A$49:$C$53,2,FALSE)),\"\")","v":""},{"$f":"IF($A39>0,\"D1_34\",\"\")","v":""}]
[null,null,null,null,null,null,{"$f":"IFERROR(IF(E40=\"مصوب و اجرا شده است\",+VLOOKUP(C40,param!$A$49:$C$53,3,FALSE),VLOOKUP(C40,param!$A$49:$C$53,2,FALSE)),\"\")","v":""},{"$f":"IF($A40>0,\"D1_35\",\"\")","v":""}]
[null,null,null,null,null,null,{"$f":"IFERROR(IF(E41=\"مصوب و اجرا شده است\",+VLOOKUP(C41,param!$A$49:$C$53,3,FALSE),VLOOKUP(C41,param!$A$49:$C$53,2,FALSE)),\"\")","v":""},{"$f":"IF($A41>0,\"D1_36\",\"\")","v":""}]
[null,null,null,null,null,null,{"$f":"IFERROR(IF(E42=\"مصوب و اجرا شده است\",+VLOOKUP(C42,param!$A$49:$C$53,3,FALSE),VLOOKUP(C42,param!$A$49:$C$53,2,FALSE)),\"\")","v":""},{"$f":"IF($A42>0,\"D1_37\",\"\")","v":""}]

{"sheet":"d2","index":21,"n_rows":43,"n_cols":7,"rows_kept":43,"cut":false,"hidden":false,"merged":[[3,0,3,6],[0,0,0,6],[2,0,2,6],[1,0,1,6]]}
[{"$f":"param!C29","v":"مدیریت اداری و پشتیبانی\nارتقای رتبه اعضای غیر هیأت علمی"}]
[]
["د 2: فعالیت های پژوهشی"]
[{"$f":"IFERROR(\"امتیاز متقاضی: \"&ROUND(SUM(E:E),2)&\"  | حداکثر امتیاز: \"&VLOOKUP(tahsilat!$F$4&rotbe!$G$5,param!$C$2:$AO$28,29,FALSE)&\"  | امتیاز قابل محاسبه: \"&MIN(ROUND(SUM(E:E),2),VLOOKUP(tahsilat!$F$4&rotbe!$G$5,param!$C$2:$AO$28,29,FALSE)),\"\")","v":""}]
["ردیف","عنوان فعالیت","نوع فعالیت","محل ارائه یا چاپ","امتیاز","حداکثر امتیاز","مستند"]
[null,null,null,null,null,{"$f":"IFERROR(VLOOKUP(C6,param!$A$56:$B$66,2,FALSE),\"\")","v":""},{"$f":"IF($A6>0,\"D2_1\",\"\")","v":""}]
[null,null,null,null,null,{"$f":"IFERROR(VLOOKUP(C7,param!$A$56:$B$66,2,FALSE),\"\")","v":""},{"$f":"IF($A7>0,\"D2_2\",\"\")","v":""}]
[null,null,null,null,null,{"$f":"IFERROR(VLOOKUP(C8,param!$A$56:$B$66,2,FALSE),\"\")","v":""},{"$f":"IF($A8>0,\"D2_3\",\"\")","v":""}]
[null,null,null,null,null,{"$f":"IFERROR(VLOOKUP(C9,param!$A$56:$B$66,2,FALSE),\"\")","v":""},{"$f":"IF($A9>0,\"D2_4\",\"\")","v":""}]
[null,null,null,null,null,{"$f":"IFERROR(VLOOKUP(C10,param!$A$56:$B$66,2,FALSE),\"\")","v":""},{"$f":"IF($A10>0,\"D2_5\",\"\")","v":""}]
[null,null,null,null,null,{"$f":"IFERROR(VLOOKUP(C11,param!$A$56:$B$66,2,FALSE),\"\")","v":""},{"$f":"IF($A11>0,\"D2_6\",\"\")","v":""}]
[null,null,null,null,null,{"$f":"IFERROR(VLOOKUP(C12,param!$A$56:$B$66,2,FALSE),\"\")","v":""},{"$f":"IF($A12>0,\"D2_7\",\"\")","v":""}]
[null,null,null,null,null,{"$f":"IFERROR(VLOOKUP(C13,param!$A$56:$B$66,2,FALSE),\"\")","v":""},{"$f":"IF($A13>0,\"D2_8\",\"\")","v":""}]
[null,null,null,null,null,{"$f":"IFERROR(VLOOKUP(C14,param!$A$56:$B$66,2,FALSE),\"\")","v":""},{"$f":"IF($A14>0,\"D2_9\",\"\")","v":""}]
[null,null,null,null,null,{"$f":"IFERROR(VLOOKUP(C15,param!$A$56:$B$66,2,FALSE),\"\")","v":""},{"$f":"IF($A15>0,\"D2_10\",\"\")","v":""}]
[null,null,null,null,null,{"$f":"IFERROR(VLOOKUP(C16,param!$A$56:$B$66,2,FALSE),\"\")","v":""},{"$f":"IF($A16>0,\"D2_11\",\"\")","v":""}]
[null,null,null,null,null,{"$f":"IFERROR(VLOOKUP(C17,param!$A$56:$B$66,2,FALSE),\"\")","v":""},{"$f":"IF($A17>0,\"D2_12\",\"\")","v":""}]
[null,null,null,null,null,{"$f":"IFERROR(VLOOKUP(C18,param!$A$56:$B$66,2,FALSE),\"\")","v":""},{"$f":"IF($A18>0,\"D2_13\",\"\")","v":""}]
[null,null,null,null,null,{"$f":"IFERROR(VLOOKUP(C19,param!$A$56:$B$66,2,FALSE),\"\")","v":""},{"$f":"IF($A19>0,\"D2_14\",\"\")","v":""}]
[null,null,null,null,null,{"$f":"IFERROR(VLOOKUP(C20,param!$A$56:$B$66,2,FALSE),\"\")","v":""},{"$f":"IF($A20>0,\"D2_15\",\"\")","v":""}]
[null,null,null,null,null,{"$f":"IFERROR(VLOOKUP(C21,param!$A$56:$B$66,2,FALSE),\"\")","v":""},{"$f":"IF($A21>0,\"D2_16\",\"\")","v":""}]
[null,null,null,null,null,{"$f":"IFERROR(VLOOKUP(C22,param!$A$56:$B$66,2,FALSE),\"\")","v":""},{"$f":"IF($A22>0,\"D2_17\",\"\")","v":""}]
[null,null,null,null,null,{"$f":"IFERROR(VLOOKUP(C23,param!$A$56:$B$66,2,FALSE),\"\")","v":""},{"$f":"IF($A23>0,\"D2_18\",\"\")","v":""}]
[null,null,null,null,null,{"$f":"IFERROR(VLOOKUP(C24,param!$A$56:$B$66,2,FALSE),\"\")","v":""},{"$f":"IF($A24>0,\"D2_19\",\"\")","v":""}]
[null,null,null,null,null,{"$f":"IFERROR(VLOOKUP(C25,param!$A$56:$B$66,2,FALSE),\"\")","v":""},{"$f":"IF($A25>0,\"D2_20\",\"\")","v":""}]
[null,null,null,null,null,{"$f":"IFERROR(VLOOKUP(C26,param!$A$56:$B$66,2,FALSE),\"\")","v":""},{"$f":"IF($A26>0,\"D2_21\",\"\")","v":""}]
[null,null,null,null,null,{"$f":"IFERROR(VLOOKUP(C27,param!$A$56:$B$66,2,FALSE),\"\")","v":""},{"$f":"IF($A27>0,\"D2_22\",\"\")","v":""}]
[null,null,null,null,null,{"$f":"IFERROR(VLOOKUP(C28,param!$A$56:$B$66,2,FALSE),\"\")","v":""},{"$f":"IF($A28>0,\"D2_23\",\"\")","v":""}]
[null,null,null,null,null,{"$f":"IFERROR(VLOOKUP(C29,param!$A$56:$B$66,2,FALSE),\"\")","v":""},{"$f":"IF($A29>0,\"D2_24\",\"\")","v":""}]
[null,null,null,null,null,{"$f":"IFERROR(VLOOKUP(C30,param!$A$56:$B$66,2,FALSE),\"\")","v":""},{"$f":"IF($A30>0,\"D2_25\",\"\")","v":""}]
[null,null,null,null,null,{"$f":"IFERROR(VLOOKUP(C31,param!$A$56:$B$66,2,FALSE),\"\")","v":""},{"$f":"IF($A31>0,\"D2_26\",\"\")","v":""}]
[null,null,null,null,null,{"$f":"IFERROR(VLOOKUP(C32,param!$A$56:$B$66,2,FALSE),\"\")","v":""},{"$f":"IF($A32>0,\"D2_27\",\"\")","v":""}]
[null,null,null,null,null,{"$f":"IFERROR(VLOOKUP(C33,param!$A$56:$B$66,2,FALSE),\"\")","v":""},{"$f":"IF($A33>0,\"D2_28\",\"\")","v":""}]
[null,null,null,null,null,{"$f":"IFERROR(VLOOKUP(C34,param!$A$56:$B$66,2,FALSE),\"\")","v":""},{"$f":"IF($A34>0,\"D2_29\",\"\")","v":""}]
[null,null,null,null,null,{"$f":"IFERROR(VLOOKUP(C35,param!$A$56:$B$66,2,FALSE),\"\")","v":""},{"$f":"IF($A35>0,\"D2_30\",\"\")","v":""}]
[null,null,null,null,null,{"$f":"IFERROR(VLOOKUP(C36,param!$A$56:$B$66,2,FALSE),\"\")","v":""},{"$f":"IF($A36>0,\"D2_31\",\"\")","v":""}]
[null,null,null,null,null,{"$f":"IFERROR(VLOOKUP(C37,param!$A$56:$B$66,2,FALSE),\"\")","v":""},{"$f":"IF($A37>0,\"D2_32\",\"\")","v":""}]
[null,null,null,null,null,{"$f":"IFERROR(VLOOKUP(C38,param!$A$56:$B$66,2,FALSE),\"\")","v":""},{"$f":"IF($A38>0,\"D2_33\",\"\")","v":""}]
[null,null,null,null,null,{"$f":"IFERROR(VLOOKUP(C39,param!$A$56:$B$66,2,FALSE),\"\")","v":""},{"$f":"IF($A39>0,\"D2_34\",\"\")","v":""}]
[null,null,null,null,null,{"$f":"IFERROR(VLOOKUP(C40,param!$A$56:$B$66,2,FALSE),\"\")","v":""},{"$f":"IF($A40>0,\"D2_35\",\"\")","v":""}]
[null,null,null,null,null,{"$f":"IFERROR(VLOOKUP(C41,param!$A$56:$B$66,2,FALSE),\"\")","v":""},{"$f":"IF($A41>0,\"D2_36\",\"\")","v":""}]
[null,null,null,null,null,{"$f":"IFERROR(VLOOKUP(C42,param!$A$56:$B$66,2,FALSE),\"\")","v":""},{"$f":"IF($A42>0,\"D2_37\",\"\")","v":""}]
[null,null,null,null,null,{"$f":"IFERROR(VLOOKUP(C43,param!$A$56:$B$66,2,FALSE),\"\")","v":""},{"$f":"IF($A43>0,\"D2_38\",\"\")","v":""}]

{"sheet":"d3","index":22,"n_rows":38,"n_cols":7,"rows_kept":38,"cut":false,"hidden":false,"merged":[[4,0,4,6],[0,0,0,6],[2,0,2,6],[1,0,1,6],[3,0,3,6]]}
[{"$f":"param!C29","v":"مدیریت اداری و پشتیبانی\nارتقای رتبه اعضای غیر هیأت علمی"}]
[]
["د 3: ارائه گزارش های تحلیلی و عملکردی"]
["گزارش هایی قابل امتیازدهی هستند که: (1) دارای نامه اداری ثبت شده در سامانه اتوماسیون اداری باشد. یا (2) خروجی سامانه های اداری با دسترسی کاربری متقاضی باشد."]
[{"$f":"IFERROR(\"امتیاز متقاضی: \"&SUM(E$7:E$1048576)&\"  | حداکثر امتیاز: \"&VLOOKUP(tahsilat!$F$4&rotbe!$G$5,param!$C$2:$AO$27,30,FALSE)&\"  | امتیاز قابل محاسبه: \"&MIN(SUM(E$7:E$1048576),VLOOKUP(tahsilat!$F$4&rotbe!$G$5,param!$C$2:$AO$28,30,FALSE)),\"\")","v":""}]
["ردیف","عنوان فعالیت","نوع گزارش","ارائه شده به","امتیاز","حداکثر امتیاز","مستند"]
[null,null,null,null,null,{"$f":"IFERROR(VLOOKUP(C7,param!$A$172:$B$173,2,FALSE),\"\")","v":""},{"$f":"IF($A7>0,\"D3_1\",\"\")","v":""}]
[null,null,null,null,null,{"$f":"IFERROR(VLOOKUP(C8,param!$A$172:$B$173,2,FALSE),\"\")","v":""},{"$f":"IF($A8>0,\"D3_2\",\"\")","v":""}]
[null,null,null,null,null,{"$f":"IFERROR(VLOOKUP(C9,param!$A$172:$B$173,2,FALSE),\"\")","v":""},{"$f":"IF($A9>0,\"D3_3\",\"\")","v":""}]
[null,null,null,null,null,{"$f":"IFERROR(VLOOKUP(C10,param!$A$172:$B$173,2,FALSE),\"\")","v":""},{"$f":"IF($A10>0,\"D3_4\",\"\")","v":""}]
[null,null,null,null,null,{"$f":"IFERROR(VLOOKUP(C11,param!$A$172:$B$173,2,FALSE),\"\")","v":""},{"$f":"IF($A11>0,\"D3_5\",\"\")","v":""}]
[null,null,null,null,null,{"$f":"IFERROR(VLOOKUP(C12,param!$A$172:$B$173,2,FALSE),\"\")","v":""},{"$f":"IF($A12>0,\"D3_6\",\"\")","v":""}]
[null,null,null,null,null,{"$f":"IFERROR(VLOOKUP(C13,param!$A$172:$B$173,2,FALSE),\"\")","v":""},{"$f":"IF($A13>0,\"D3_7\",\"\")","v":""}]
[null,null,null,null,null,{"$f":"IFERROR(VLOOKUP(C14,param!$A$172:$B$173,2,FALSE),\"\")","v":""},{"$f":"IF($A14>0,\"D3_8\",\"\")","v":""}]
[null,null,null,null,null,{"$f":"IFERROR(VLOOKUP(C15,param!$A$172:$B$173,2,FALSE),\"\")","v":""},{"$f":"IF($A15>0,\"D3_9\",\"\")","v":""}]
[null,null,null,null,null,{"$f":"IFERROR(VLOOKUP(C16,param!$A$172:$B$173,2,FALSE),\"\")","v":""},{"$f":"IF($A16>0,\"D3_10\",\"\")","v":""}]
[null,null,null,null,null,{"$f":"IFERROR(VLOOKUP(C17,param!$A$172:$B$173,2,FALSE),\"\")","v":""},{"$f":"IF($A17>0,\"D3_11\",\"\")","v":""}]
[null,null,null,null,null,{"$f":"IFERROR(VLOOKUP(C18,param!$A$172:$B$173,2,FALSE),\"\")","v":""},{"$f":"IF($A18>0,\"D3_12\",\"\")","v":""}]
[null,null,null,null,null,{"$f":"IFERROR(VLOOKUP(C19,param!$A$172:$B$173,2,FALSE),\"\")","v":""},{"$f":"IF($A19>0,\"D3_13\",\"\")","v":""}]
[null,null,null,null,null,{"$f":"IFERROR(VLOOKUP(C20,param!$A$172:$B$173,2,FALSE),\"\")","v":""},{"$f":"IF($A20>0,\"D3_14\",\"\")","v":""}]
[null,null,null,null,null,{"$f":"IFERROR(VLOOKUP(C21,param!$A$172:$B$173,2,FALSE),\"\")","v":""},{"$f":"IF($A21>0,\"D3_15\",\"\")","v":""}]
[null,null,null,null,null,{"$f":"IFERROR(VLOOKUP(C22,param!$A$172:$B$173,2,FALSE),\"\")","v":""},{"$f":"IF($A22>0,\"D3_16\",\"\")","v":""}]
[null,null,null,null,null,{"$f":"IFERROR(VLOOKUP(C23,param!$A$172:$B$173,2,FALSE),\"\")","v":""},{"$f":"IF($A23>0,\"D3_17\",\"\")","v":""}]
[null,null,null,null,null,{"$f":"IFERROR(VLOOKUP(C24,param!$A$172:$B$173,2,FALSE),\"\")","v":""},{"$f":"IF($A24>0,\"D3_18\",\"\")","v":""}]
[null,null,null,null,null,{"$f":"IFERROR(VLOOKUP(C25,param!$A$172:$B$173,2,FALSE),\"\")","v":""},{"$f":"IF($A25>0,\"D3_19\",\"\")","v":""}]
[null,null,null,null,null,{"$f":"IFERROR(VLOOKUP(C26,param!$A$172:$B$173,2,FALSE),\"\")","v":""},{"$f":"IF($A26>0,\"D3_20\",\"\")","v":""}]
[null,null,null,null,null,{"$f":"IFERROR(VLOOKUP(C27,param!$A$172:$B$173,2,FALSE),\"\")","v":""},{"$f":"IF($A27>0,\"D3_21\",\"\")","v":""}]
[null,null,null,null,null,{"$f":"IFERROR(VLOOKUP(C28,param!$A$172:$B$173,2,FALSE),\"\")","v":""},{"$f":"IF($A28>0,\"D3_22\",\"\")","v":""}]
[null,null,null,null,null,{"$f":"IFERROR(VLOOKUP(C29,param!$A$172:$B$173,2,FALSE),\"\")","v":""},{"$f":"IF($A29>0,\"D3_23\",\"\")","v":""}]
[null,null,null,null,null,{"$f":"IFERROR(VLOOKUP(C30,param!$A$172:$B$173,2,FALSE),\"\")","v":""},{"$f":"IF($A30>0,\"D3_24\",\"\")","v":""}]
[null,null,null,null,null,{"$f":"IFERROR(VLOOKUP(C31,param!$A$172:$B$173,2,FALSE),\"\")","v":""},{"$f":"IF($A31>0,\"D3_25\",\"\")","v":""}]
[null,null,null,null,null,{"$f":"IFERROR(VLOOKUP(C32,param!$A$172:$B$173,2,FALSE),\"\")","v":""},{"$f":"IF($A32>0,\"D3_26\",\"\")","v":""}]
[null,null,null,null,null,{"$f":"IFERROR(VLOOKUP(C33,param!$A$172:$B$173,2,FALSE),\"\")","v":""},{"$f":"IF($A33>0,\"D3_27\",\"\")","v":""}]
[null,null,null,null,null,{"$f":"IFERROR(VLOOKUP(C34,param!$A$172:$B$173,2,FALSE),\"\")","v":""},{"$f":"IF($A34>0,\"D3_28\",\"\")","v":""}]
[null,null,null,null,null,{"$f":"IFERROR(VLOOKUP(C35,param!$A$172:$B$173,2,FALSE),\"\")","v":""},{"$f":"IF($A35>0,\"D3_29\",\"\")","v":""}]
[null,null,null,null,null,{"$f":"IFERROR(VLOOKUP(C36,param!$A$172:$B$173,2,FALSE),\"\")","v":""},{"$f":"IF($A36>0,\"D3_30\",\"\")","v":""}]
[null,null,null,null,null,{"$f":"IFERROR(VLOOKUP(C37,param!$A$172:$B$173,2,FALSE),\"\")","v":""},{"$f":"IF($A37>0,\"D3_31\",\"\")","v":""}]
[null,null,null,null,null,{"$f":"IFERROR(VLOOKUP(C38,param!$A$172:$B$173,2,FALSE),\"\")","v":""},{"$f":"IF($A38>0,\"D3_32\",\"\")","v":""}]

{"sheet":"d4","index":23,"n_rows":33,"n_cols":7,"rows_kept":33,"cut":false,"hidden":false,"merged":[[4,0,4,6],[2,0,2,6],[0,0,0,6],[1,0,1,6],[3,0,3,6]]}
[{"$f":"param!C29","v":"مدیریت اداری و پشتیبانی\nارتقای رتبه اعضای غیر هیأت علمی"}]
[]
["د 4: دریافت لوح تقدیر و تشویق"]
["فقط تقدیرنامه های کاری درج شوند و از درج تقدیرنامه های مناسبتی خودداری نمایید."]
[{"$f":"IFERROR(\"امتیاز متقاضی: \"&SUM(F:F)&\"  | حداکثر امتیاز: \"&VLOOKUP(tahsilat!$F$4&rotbe!$G$5,param!$C$2:$AO$28,33,FALSE)&\"  | امتیاز قابل محاسبه: \"&MIN(SUM(F:F),VLOOKUP(tahsilat!$F$4&rotbe!$G$5,param!$C$2:$AO$28,33,FALSE)),\"\")","v":""}]
["ردیف","عنوان فعالیت","تاریخ","شماره","مقام امضاء کننده","امتیاز","مستند"]
[null,null,null,null,null,{"$f":"IFERROR(VLOOKUP(E7,param!$A$69:$B$76,2,FALSE),\"\")","v":""},{"$f":"IF($A7>0,\"D4_1\",\"\")","v":""}]
[null,null,null,null,null,{"$f":"IFERROR(VLOOKUP(E8,param!$A$69:$B$76,2,FALSE),\"\")","v":""},{"$f":"IF($A8>0,\"D4_2\",\"\")","v":""}]
[null,null,null,null,null,{"$f":"IFERROR(VLOOKUP(E9,param!$A$69:$B$76,2,FALSE),\"\")","v":""},{"$f":"IF($A9>0,\"D4_3\",\"\")","v":""}]
[null,null,null,null,null,{"$f":"IFERROR(VLOOKUP(E10,param!$A$69:$B$76,2,FALSE),\"\")","v":""},{"$f":"IF($A10>0,\"D4_4\",\"\")","v":""}]
[null,null,null,null,null,{"$f":"IFERROR(VLOOKUP(E11,param!$A$69:$B$76,2,FALSE),\"\")","v":""},{"$f":"IF($A11>0,\"D4_5\",\"\")","v":""}]
[null,null,null,null,null,{"$f":"IFERROR(VLOOKUP(E12,param!$A$69:$B$76,2,FALSE),\"\")","v":""},{"$f":"IF($A12>0,\"D4_6\",\"\")","v":""}]
[null,null,null,null,null,{"$f":"IFERROR(VLOOKUP(E13,param!$A$69:$B$76,2,FALSE),\"\")","v":""},{"$f":"IF($A13>0,\"D4_7\",\"\")","v":""}]
[null,null,null,null,null,{"$f":"IFERROR(VLOOKUP(E14,param!$A$69:$B$76,2,FALSE),\"\")","v":""},{"$f":"IF($A14>0,\"D4_8\",\"\")","v":""}]
[null,null,null,null,null,{"$f":"IFERROR(VLOOKUP(E15,param!$A$69:$B$76,2,FALSE),\"\")","v":""},{"$f":"IF($A15>0,\"D4_9\",\"\")","v":""}]
[null,null,null,null,null,{"$f":"IFERROR(VLOOKUP(E16,param!$A$69:$B$76,2,FALSE),\"\")","v":""},{"$f":"IF($A16>0,\"D4_10\",\"\")","v":""}]
[null,null,null,null,null,{"$f":"IFERROR(VLOOKUP(E17,param!$A$69:$B$76,2,FALSE),\"\")","v":""},{"$f":"IF($A17>0,\"D4_11\",\"\")","v":""}]
[null,null,null,null,null,{"$f":"IFERROR(VLOOKUP(E18,param!$A$69:$B$76,2,FALSE),\"\")","v":""},{"$f":"IF($A18>0,\"D4_12\",\"\")","v":""}]
[null,null,null,null,null,{"$f":"IFERROR(VLOOKUP(E19,param!$A$69:$B$76,2,FALSE),\"\")","v":""},{"$f":"IF($A19>0,\"D4_13\",\"\")","v":""}]
[null,null,null,null,null,{"$f":"IFERROR(VLOOKUP(E20,param!$A$69:$B$76,2,FALSE),\"\")","v":""},{"$f":"IF($A20>0,\"D4_14\",\"\")","v":""}]
[null,null,null,null,null,{"$f":"IFERROR(VLOOKUP(E21,param!$A$69:$B$76,2,FALSE),\"\")","v":""},{"$f":"IF($A21>0,\"D4_15\",\"\")","v":""}]
[null,null,null,null,null,{"$f":"IFERROR(VLOOKUP(E22,param!$A$69:$B$76,2,FALSE),\"\")","v":""},{"$f":"IF($A22>0,\"D4_16\",\"\")","v":""}]
[null,null,null,null,null,{"$f":"IFERROR(VLOOKUP(E23,param!$A$69:$B$76,2,FALSE),\"\")","v":""},{"$f":"IF($A23>0,\"D4_17\",\"\")","v":""}]
[null,null,null,null,null,{"$f":"IFERROR(VLOOKUP(E24,param!$A$69:$B$76,2,FALSE),\"\")","v":""},{"$f":"IF($A24>0,\"D4_18\",\"\")","v":""}]
[null,null,null,null,null,{"$f":"IFERROR(VLOOKUP(E25,param!$A$69:$B$76,2,FALSE),\"\")","v":""},{"$f":"IF($A25>0,\"D4_19\",\"\")","v":""}]
[null,null,null,null,null,{"$f":"IFERROR(VLOOKUP(E26,param!$A$69:$B$76,2,FALSE),\"\")","v":""},{"$f":"IF($A26>0,\"D4_20\",\"\")","v":""}]
[null,null,null,null,null,{"$f":"IFERROR(VLOOKUP(E27,param!$A$69:$B$76,2,FALSE),\"\")","v":""},{"$f":"IF($A27>0,\"D4_21\",\"\")","v":""}]
[null,null,null,null,null,{"$f":"IFERROR(VLOOKUP(E28,param!$A$69:$B$76,2,FALSE),\"\")","v":""},{"$f":"IF($A28>0,\"D4_22\",\"\")","v":""}]
[null,null,null,null,null,{"$f":"IFERROR(VLOOKUP(E29,param!$A$69:$B$76,2,FALSE),\"\")","v":""},{"$f":"IF($A29>0,\"D4_23\",\"\")","v":""}]
[null,null,null,null,null,{"$f":"IFERROR(VLOOKUP(E30,param!$A$69:$B$76,2,FALSE),\"\")","v":""},{"$f":"IF($A30>0,\"D4_24\",\"\")","v":""}]
[null,null,null,null,null,{"$f":"IFERROR(VLOOKUP(E31,param!$A$69:$B$76,2,FALSE),\"\")","v":""},{"$f":"IF($A31>0,\"D4_25\",\"\")","v":""}]
[null,null,null,null,null,{"$f":"IFERROR(VLOOKUP(E32,param!$A$69:$B$76,2,FALSE),\"\")","v":""},{"$f":"IF($A32>0,\"D4_26\",\"\")","v":""}]
[null,null,null,null,null,{"$f":"IFERROR(VLOOKUP(E33,param!$A$69:$B$76,2,FALSE),\"\")","v":""},{"$f":"IF($A33>0,\"D4_27\",\"\")","v":""}]

{"sheet":"d5","index":24,"n_rows":14,"n_cols":8,"rows_kept":14,"cut":false,"hidden":false,"merged":[[0,0,0,7],[2,0,2,7],[3,0,3,7],[1,0,1,7]]}
[{"$f":"param!C29","v":"مدیریت اداری و پشتیبانی\nارتقای رتبه اعضای غیر هیأت علمی"}]
[]
["د 5: کسب عنوان «کارمند یا مدیر نمونه»"]
[{"$f":"IFERROR(\"امتیاز متقاضی: \"&SUM(G:G)&\"  | حداکثر امتیاز: \"&VLOOKUP(tahsilat!$F$4&rotbe!$G$5,param!$C$2:$AO$28,34,FALSE)&\"  | امتیاز قابل محاسبه: \"&MIN(SUM(G:G),VLOOKUP(tahsilat!$F$4&rotbe!$G$5,param!$C$2:$AO$28,34,FALSE)),\"\")","v":""}]
["ردیف","کارمند نمونه/ مدیر نمونه","سطح انتخاب","سال انتخاب","تاریخ","شماره","امتیاز","مستند"]
[null,null,null,null,null,null,{"$f":"IFERROR(VLOOKUP(C6,param!$A$79:$B$81,2,FALSE),\"\")","v":""},{"$f":"IF($A6>0,\"D5_1\",\"\")","v":""}]
[null,null,null,null,null,null,{"$f":"IFERROR(VLOOKUP(C7,param!$A$79:$B$81,2,FALSE),\"\")","v":""},{"$f":"IF($A7>0,\"D5_2\",\"\")","v":""}]
[null,null,null,null,null,null,{"$f":"IFERROR(VLOOKUP(C8,param!$A$79:$B$81,2,FALSE),\"\")","v":""},{"$f":"IF($A8>0,\"D5_3\",\"\")","v":""}]
[null,null,null,null,null,null,{"$f":"IFERROR(VLOOKUP(C9,param!$A$79:$B$81,2,FALSE),\"\")","v":""},{"$f":"IF($A9>0,\"D5_4\",\"\")","v":""}]
[null,null,null,null,null,null,{"$f":"IFERROR(VLOOKUP(C10,param!$A$79:$B$81,2,FALSE),\"\")","v":""},{"$f":"IF($A10>0,\"D5_5\",\"\")","v":""}]
[null,null,null,null,null,null,{"$f":"IFERROR(VLOOKUP(C11,param!$A$79:$B$81,2,FALSE),\"\")","v":""},{"$f":"IF($A11>0,\"D5_6\",\"\")","v":""}]
[null,null,null,null,null,null,{"$f":"IFERROR(VLOOKUP(C12,param!$A$79:$B$81,2,FALSE),\"\")","v":""},{"$f":"IF($A12>0,\"D5_7\",\"\")","v":""}]
[null,null,null,null,null,null,{"$f":"IFERROR(VLOOKUP(C13,param!$A$79:$B$81,2,FALSE),\"\")","v":""},{"$f":"IF($A13>0,\"D5_8\",\"\")","v":""}]
[null,null,null,null,null,null,{"$f":"IFERROR(VLOOKUP(C14,param!$A$79:$B$81,2,FALSE),\"\")","v":""},{"$f":"IF($A14>0,\"D5_9\",\"\")","v":""}]

{"sheet":"d8","index":25,"n_rows":45,"n_cols":9,"rows_kept":45,"cut":false,"hidden":false,"merged":[[2,0,2,8],[3,0,3,8],[0,0,0,8],[1,0,1,8]]}
[{"$f":"param!C29","v":"مدیریت اداری و پشتیبانی\nارتقای رتبه اعضای غیر هیأت علمی"}]
[]
["د 8: تدوین یا بازنگری آیین نامه ها، دستورالعمل ها و مجموعه مقررات جاری"]
[{"$f":"IFERROR(\"امتیاز متقاضی: \"&SUM(G:G)&\"  | حداکثر امتیاز: \"&VLOOKUP(tahsilat!$F$4&rotbe!$G$5,param!$C$2:$AO$28,37,FALSE)&\"  | امتیاز قابل محاسبه: \"&MIN(SUM(G:G),VLOOKUP(tahsilat!$F$4&rotbe!$G$5,param!$C$2:$AO$28,37,FALSE)),\"\")","v":""}]
["ردیف","عنوان","تاریخ","شماره","سطح اجرایی","تدوین یا بازنگری","امتیاز","حداکثر امتیاز","مستند"]
[null,null,null,null,null,null,null,{"$f":"IFERROR(IF(F6=\"تدوین\",+VLOOKUP(E6,param!$A$85:$C$88,2,FALSE),+VLOOKUP(E6,param!$A$85:$C$88,3,FALSE)),\"\")","v":""},{"$f":"IF($A6>0,\"D8_1\",\"\")","v":""}]
[null,null,null,null,null,null,null,{"$f":"IFERROR(IF(F7=\"تدوین\",+VLOOKUP(E7,param!$A$85:$C$88,2,FALSE),+VLOOKUP(E7,param!$A$85:$C$88,3,FALSE)),\"\")","v":""},{"$f":"IF($A7>0,\"D8_2\",\"\")","v":""}]
[null,null,null,null,null,null,null,{"$f":"IFERROR(IF(F8=\"تدوین\",+VLOOKUP(E8,param!$A$85:$C$88,2,FALSE),+VLOOKUP(E8,param!$A$85:$C$88,3,FALSE)),\"\")","v":""},{"$f":"IF($A8>0,\"D8_3\",\"\")","v":""}]
[null,null,null,null,null,null,null,{"$f":"IFERROR(IF(F9=\"تدوین\",+VLOOKUP(E9,param!$A$85:$C$88,2,FALSE),+VLOOKUP(E9,param!$A$85:$C$88,3,FALSE)),\"\")","v":""},{"$f":"IF($A9>0,\"D8_4\",\"\")","v":""}]
[null,null,null,null,null,null,null,{"$f":"IFERROR(IF(F10=\"تدوین\",+VLOOKUP(E10,param!$A$85:$C$88,2,FALSE),+VLOOKUP(E10,param!$A$85:$C$88,3,FALSE)),\"\")","v":""},{"$f":"IF($A10>0,\"D8_5\",\"\")","v":""}]
[null,null,null,null,null,null,null,{"$f":"IFERROR(IF(F11=\"تدوین\",+VLOOKUP(E11,param!$A$85:$C$88,2,FALSE),+VLOOKUP(E11,param!$A$85:$C$88,3,FALSE)),\"\")","v":""},{"$f":"IF($A11>0,\"D8_6\",\"\")","v":""}]
[null,null,null,null,null,null,null,{"$f":"IFERROR(IF(F12=\"تدوین\",+VLOOKUP(E12,param!$A$85:$C$88,2,FALSE),+VLOOKUP(E12,param!$A$85:$C$88,3,FALSE)),\"\")","v":""},{"$f":"IF($A12>0,\"D8_7\",\"\")","v":""}]
[null,null,null,null,null,null,null,{"$f":"IFERROR(IF(F13=\"تدوین\",+VLOOKUP(E13,param!$A$85:$C$88,2,FALSE),+VLOOKUP(E13,param!$A$85:$C$88,3,FALSE)),\"\")","v":""},{"$f":"IF($A13>0,\"D8_8\",\"\")","v":""}]
[null,null,null,null,null,null,null,{"$f":"IFERROR(IF(F14=\"تدوین\",+VLOOKUP(E14,param!$A$85:$C$88,2,FALSE),+VLOOKUP(E14,param!$A$85:$C$88,3,FALSE)),\"\")","v":""},{"$f":"IF($A14>0,\"D8_9\",\"\")","v":""}]
[null,null,null,null,null,null,null,{"$f":"IFERROR(IF(F15=\"تدوین\",+VLOOKUP(E15,param!$A$85:$C$88,2,FALSE),+VLOOKUP(E15,param!$A$85:$C$88,3,FALSE)),\"\")","v":""},{"$f":"IF($A15>0,\"D8_10\",\"\")","v":""}]
[null,null,null,null,null,null,null,{"$f":"IFERROR(IF(F16=\"تدوین\",+VLOOKUP(E16,param!$A$85:$C$88,2,FALSE),+VLOOKUP(E16,param!$A$85:$C$88,3,FALSE)),\"\")","v":""},{"$f":"IF($A16>0,\"D8_11\",\"\")","v":""}]
[null,null,null,null,null,null,null,{"$f":"IFERROR(IF(F17=\"تدوین\",+VLOOKUP(E17,param!$A$85:$C$88,2,FALSE),+VLOOKUP(E17,param!$A$85:$C$88,3,FALSE)),\"\")","v":""},{"$f":"IF($A17>0,\"D8_12\",\"\")","v":""}]
[null,null,null,null,null,null,null,{"$f":"IFERROR(IF(F18=\"تدوین\",+VLOOKUP(E18,param!$A$85:$C$88,2,FALSE),+VLOOKUP(E18,param!$A$85:$C$88,3,FALSE)),\"\")","v":""},{"$f":"IF($A18>0,\"D8_13\",\"\")","v":""}]
[null,null,null,null,null,null,null,{"$f":"IFERROR(IF(F19=\"تدوین\",+VLOOKUP(E19,param!$A$85:$C$88,2,FALSE),+VLOOKUP(E19,param!$A$85:$C$88,3,FALSE)),\"\")","v":""},{"$f":"IF($A19>0,\"D8_14\",\"\")","v":""}]
[null,null,null,null,null,null,null,{"$f":"IFERROR(IF(F20=\"تدوین\",+VLOOKUP(E20,param!$A$85:$C$88,2,FALSE),+VLOOKUP(E20,param!$A$85:$C$88,3,FALSE)),\"\")","v":""},{"$f":"IF($A20>0,\"D8_15\",\"\")","v":""}]
[null,null,null,null,null,null,null,{"$f":"IFERROR(IF(F21=\"تدوین\",+VLOOKUP(E21,param!$A$85:$C$88,2,FALSE),+VLOOKUP(E21,param!$A$85:$C$88,3,FALSE)),\"\")","v":""},{"$f":"IF($A21>0,\"D8_16\",\"\")","v":""}]
[null,null,null,null,null,null,null,{"$f":"IFERROR(IF(F22=\"تدوین\",+VLOOKUP(E22,param!$A$85:$C$88,2,FALSE),+VLOOKUP(E22,param!$A$85:$C$88,3,FALSE)),\"\")","v":""},{"$f":"IF($A22>0,\"D8_17\",\"\")","v":""}]
[null,null,null,null,null,null,null,{"$f":"IFERROR(IF(F23=\"تدوین\",+VLOOKUP(E23,param!$A$85:$C$88,2,FALSE),+VLOOKUP(E23,param!$A$85:$C$88,3,FALSE)),\"\")","v":""},{"$f":"IF($A23>0,\"D8_18\",\"\")","v":""}]
[null,null,null,null,null,null,null,{"$f":"IFERROR(IF(F24=\"تدوین\",+VLOOKUP(E24,param!$A$85:$C$88,2,FALSE),+VLOOKUP(E24,param!$A$85:$C$88,3,FALSE)),\"\")","v":""},{"$f":"IF($A24>0,\"D8_19\",\"\")","v":""}]
[null,null,null,null,null,null,null,{"$f":"IFERROR(IF(F25=\"تدوین\",+VLOOKUP(E25,param!$A$85:$C$88,2,FALSE),+VLOOKUP(E25,param!$A$85:$C$88,3,FALSE)),\"\")","v":""},{"$f":"IF($A25>0,\"D8_20\",\"\")","v":""}]
[null,null,null,null,null,null,null,{"$f":"IFERROR(IF(F26=\"تدوین\",+VLOOKUP(E26,param!$A$85:$C$88,2,FALSE),+VLOOKUP(E26,param!$A$85:$C$88,3,FALSE)),\"\")","v":""},{"$f":"IF($A26>0,\"D8_21\",\"\")","v":""}]
[null,null,null,null,null,null,null,{"$f":"IFERROR(IF(F27=\"تدوین\",+VLOOKUP(E27,param!$A$85:$C$88,2,FALSE),+VLOOKUP(E27,param!$A$85:$C$88,3,FALSE)),\"\")","v":""},{"$f":"IF($A27>0,\"D8_22\",\"\")","v":""}]
[null,null,null,null,null,null,null,{"$f":"IFERROR(IF(F28=\"تدوین\",+VLOOKUP(E28,param!$A$85:$C$88,2,FALSE),+VLOOKUP(E28,param!$A$85:$C$88,3,FALSE)),\"\")","v":""},{"$f":"IF($A28>0,\"D8_23\",\"\")","v":""}]
[null,null,null,null,null,null,null,{"$f":"IFERROR(IF(F29=\"تدوین\",+VLOOKUP(E29,param!$A$85:$C$88,2,FALSE),+VLOOKUP(E29,param!$A$85:$C$88,3,FALSE)),\"\")","v":""},{"$f":"IF($A29>0,\"D8_24\",\"\")","v":""}]
[null,null,null,null,null,null,null,{"$f":"IFERROR(IF(F30=\"تدوین\",+VLOOKUP(E30,param!$A$85:$C$88,2,FALSE),+VLOOKUP(E30,param!$A$85:$C$88,3,FALSE)),\"\")","v":""},{"$f":"IF($A30>0,\"D8_25\",\"\")","v":""}]
[null,null,null,null,null,null,null,{"$f":"IFERROR(IF(F31=\"تدوین\",+VLOOKUP(E31,param!$A$85:$C$88,2,FALSE),+VLOOKUP(E31,param!$A$85:$C$88,3,FALSE)),\"\")","v":""},{"$f":"IF($A31>0,\"D8_26\",\"\")","v":""}]
[null,null,null,null,null,null,null,{"$f":"IFERROR(IF(F32=\"تدوین\",+VLOOKUP(E32,param!$A$85:$C$88,2,FALSE),+VLOOKUP(E32,param!$A$85:$C$88,3,FALSE)),\"\")","v":""},{"$f":"IF($A32>0,\"D8_27\",\"\")","v":""}]
[null,null,null,null,null,null,null,{"$f":"IFERROR(IF(F33=\"تدوین\",+VLOOKUP(E33,param!$A$85:$C$88,2,FALSE),+VLOOKUP(E33,param!$A$85:$C$88,3,FALSE)),\"\")","v":""},{"$f":"IF($A33>0,\"D8_28\",\"\")","v":""}]
[null,null,null,null,null,null,null,{"$f":"IFERROR(IF(F34=\"تدوین\",+VLOOKUP(E34,param!$A$85:$C$88,2,FALSE),+VLOOKUP(E34,param!$A$85:$C$88,3,FALSE)),\"\")","v":""},{"$f":"IF($A34>0,\"D8_29\",\"\")","v":""}]
[null,null,null,null,null,null,null,{"$f":"IFERROR(IF(F35=\"تدوین\",+VLOOKUP(E35,param!$A$85:$C$88,2,FALSE),+VLOOKUP(E35,param!$A$85:$C$88,3,FALSE)),\"\")","v":""},{"$f":"IF($A35>0,\"D8_30\",\"\")","v":""}]
[null,null,null,null,null,null,null,{"$f":"IFERROR(IF(F36=\"تدوین\",+VLOOKUP(E36,param!$A$85:$C$88,2,FALSE),+VLOOKUP(E36,param!$A$85:$C$88,3,FALSE)),\"\")","v":""},{"$f":"IF($A36>0,\"D8_31\",\"\")","v":""}]
[null,null,null,null,null,null,null,{"$f":"IFERROR(IF(F37=\"تدوین\",+VLOOKUP(E37,param!$A$85:$C$88,2,FALSE),+VLOOKUP(E37,param!$A$85:$C$88,3,FALSE)),\"\")","v":""},{"$f":"IF($A37>0,\"D8_32\",\"\")","v":""}]
[null,null,null,null,null,null,null,{"$f":"IFERROR(IF(F38=\"تدوین\",+VLOOKUP(E38,param!$A$85:$C$88,2,FALSE),+VLOOKUP(E38,param!$A$85:$C$88,3,FALSE)),\"\")","v":""},{"$f":"IF($A38>0,\"D8_33\",\"\")","v":""}]
[null,null,null,null,null,null,null,{"$f":"IFERROR(IF(F39=\"تدوین\",+VLOOKUP(E39,param!$A$85:$C$88,2,FALSE),+VLOOKUP(E39,param!$A$85:$C$88,3,FALSE)),\"\")","v":""},{"$f":"IF($A39>0,\"D8_34\",\"\")","v":""}]
[null,null,null,null,null,null,null,{"$f":"IFERROR(IF(F40=\"تدوین\",+VLOOKUP(E40,param!$A$85:$C$88,2,FALSE),+VLOOKUP(E40,param!$A$85:$C$88,3,FALSE)),\"\")","v":""},{"$f":"IF($A40>0,\"D8_35\",\"\")","v":""}]
[null,null,null,null,null,null,null,{"$f":"IFERROR(IF(F41=\"تدوین\",+VLOOKUP(E41,param!$A$85:$C$88,2,FALSE),+VLOOKUP(E41,param!$A$85:$C$88,3,FALSE)),\"\")","v":""},{"$f":"IF($A41>0,\"D8_36\",\"\")","v":""}]
[null,null,null,null,null,null,null,{"$f":"IFERROR(IF(F42=\"تدوین\",+VLOOKUP(E42,param!$A$85:$C$88,2,FALSE),+VLOOKUP(E42,param!$A$85:$C$88,3,FALSE)),\"\")","v":""},{"$f":"IF($A42>0,\"D8_37\",\"\")","v":""}]
[null,null,null,null,null,null,null,{"$f":"IFERROR(IF(F43=\"تدوین\",+VLOOKUP(E43,param!$A$85:$C$88,2,FALSE),+VLOOKUP(E43,param!$A$85:$C$88,3,FALSE)),\"\")","v":""},{"$f":"IF($A43>0,\"D8_38\",\"\")","v":""}]
[null,null,null,null,null,null,null,{"$f":"IFERROR(IF(F44=\"تدوین\",+VLOOKUP(E44,param!$A$85:$C$88,2,FALSE),+VLOOKUP(E44,param!$A$85:$C$88,3,FALSE)),\"\")","v":""},{"$f":"IF($A44>0,\"D8_39\",\"\")","v":""}]
[null,null,null,null,null,null,null,{"$f":"IFERROR(IF(F45=\"تدوین\",+VLOOKUP(E45,param!$A$85:$C$88,2,FALSE),+VLOOKUP(E45,param!$A$85:$C$88,3,FALSE)),\"\")","v":""},{"$f":"IF($A45>0,\"D8_40\",\"\")","v":""}]

{"sheet":"d9","index":26,"n_rows":41,"n_cols":10,"rows_kept":41,"cut":false,"hidden":false,"merged":[[0,0,0,9],[2,0,2,9],[4,0,4,9],[1,0,1,9],[3,0,3,9]]}
[{"$f":"param!C29","v":"مدیریت اداری و پشتیبانی\nارتقای رتبه اعضای غیر هیأت علمی"}]
[]
["د 9: احصای فرآیندها و اصلاح روش های انجام کار"]
["فرآیندهای احصاء، تدوین یا اصلاح شده باید به تأیید کارشناس کارگروه بهبود فرآیندهای دانشگاه رسیده باشد."]
[{"$f":"IFERROR(\"امتیاز متقاضی: \"&SUM(H:H)&\"  | حداکثر امتیاز: \"&VLOOKUP(tahsilat!$F$4&rotbe!$G$5,param!$C$2:$AO$28,38,FALSE)&\"  | امتیاز قابل محاسبه: \"&MIN(SUM(H:H),VLOOKUP(tahsilat!$F$4&rotbe!$G$5,param!$C$2:$AO$28,38,FALSE)),\"\")","v":""}]
["ردیف","عنوان","تاریخ","شماره","سطح اجرایی","مالک/ مجری","احصاء، و تدوین/ اصلاح","امتیاز","حداکثر امتیاز","مستند"]
[null,null,null,null,null,null,null,null,{"$f":"IFERROR(IF(G7=\"احصاء، تدوین و اصلاح روش\",IF(F7=\"مالک\",VLOOKUP(E7,param!$A$92:$C$95,3,FALSE),VLOOKUP(E7,param!$A$92:$C$95,3,FALSE)/2),IF(F7=\"مالک\",VLOOKUP(E7,param!$A$92:$C$95,2,FALSE),VLOOKUP(E7,param!$A$92:$C$95,2,FALSE)/2)),\"\")","v":""},{"$f":"IF($A7>0,\"D9_1\",\"\")","v":""}]
[null,null,null,null,null,null,null,null,{"$f":"IFERROR(IF(G8=\"احصاء، تدوین و اصلاح روش\",IF(F8=\"مالک\",VLOOKUP(E8,param!$A$92:$C$95,3,FALSE),VLOOKUP(E8,param!$A$92:$C$95,3,FALSE)/2),IF(F8=\"مالک\",VLOOKUP(E8,param!$A$92:$C$95,2,FALSE),VLOOKUP(E8,param!$A$92:$C$95,2,FALSE)/2)),\"\")","v":""},{"$f":"IF($A8>0,\"D9_2\",\"\")","v":""}]
[null,null,null,null,null,null,null,null,{"$f":"IFERROR(IF(G9=\"احصاء، تدوین و اصلاح روش\",IF(F9=\"مالک\",VLOOKUP(E9,param!$A$92:$C$95,3,FALSE),VLOOKUP(E9,param!$A$92:$C$95,3,FALSE)/2),IF(F9=\"مالک\",VLOOKUP(E9,param!$A$92:$C$95,2,FALSE),VLOOKUP(E9,param!$A$92:$C$95,2,FALSE)/2)),\"\")","v":""},{"$f":"IF($A9>0,\"D9_3\",\"\")","v":""}]
[null,null,null,null,null,null,null,null,{"$f":"IFERROR(IF(G10=\"احصاء، تدوین و اصلاح روش\",IF(F10=\"مالک\",VLOOKUP(E10,param!$A$92:$C$95,3,FALSE),VLOOKUP(E10,param!$A$92:$C$95,3,FALSE)/2),IF(F10=\"مالک\",VLOOKUP(E10,param!$A$92:$C$95,2,FALSE),VLOOKUP(E10,param!$A$92:$C$95,2,FALSE)/2)),\"\")","v":""},{"$f":"IF($A10>0,\"D9_4\",\"\")","v":""}]
[null,null,null,null,null,null,null,null,{"$f":"IFERROR(IF(G11=\"احصاء، تدوین و اصلاح روش\",IF(F11=\"مالک\",VLOOKUP(E11,param!$A$92:$C$95,3,FALSE),VLOOKUP(E11,param!$A$92:$C$95,3,FALSE)/2),IF(F11=\"مالک\",VLOOKUP(E11,param!$A$92:$C$95,2,FALSE),VLOOKUP(E11,param!$A$92:$C$95,2,FALSE)/2)),\"\")","v":""},{"$f":"IF($A11>0,\"D9_5\",\"\")","v":""}]
[null,null,null,null,null,null,null,null,{"$f":"IFERROR(IF(G12=\"احصاء، تدوین و اصلاح روش\",IF(F12=\"مالک\",VLOOKUP(E12,param!$A$92:$C$95,3,FALSE),VLOOKUP(E12,param!$A$92:$C$95,3,FALSE)/2),IF(F12=\"مالک\",VLOOKUP(E12,param!$A$92:$C$95,2,FALSE),VLOOKUP(E12,param!$A$92:$C$95,2,FALSE)/2)),\"\")","v":""},{"$f":"IF($A12>0,\"D9_6\",\"\")","v":""}]
[null,null,null,null,null,null,null,null,{"$f":"IFERROR(IF(G13=\"احصاء، تدوین و اصلاح روش\",IF(F13=\"مالک\",VLOOKUP(E13,param!$A$92:$C$95,3,FALSE),VLOOKUP(E13,param!$A$92:$C$95,3,FALSE)/2),IF(F13=\"مالک\",VLOOKUP(E13,param!$A$92:$C$95,2,FALSE),VLOOKUP(E13,param!$A$92:$C$95,2,FALSE)/2)),\"\")","v":""},{"$f":"IF($A13>0,\"D9_7\",\"\")","v":""}]
[null,null,null,null,null,null,null,null,{"$f":"IFERROR(IF(G14=\"احصاء، تدوین و اصلاح روش\",IF(F14=\"مالک\",VLOOKUP(E14,param!$A$92:$C$95,3,FALSE),VLOOKUP(E14,param!$A$92:$C$95,3,FALSE)/2),IF(F14=\"مالک\",VLOOKUP(E14,param!$A$92:$C$95,2,FALSE),VLOOKUP(E14,param!$A$92:$C$95,2,FALSE)/2)),\"\")","v":""},{"$f":"IF($A14>0,\"D9_8\",\"\")","v":""}]
[null,null,null,null,null,null,null,null,{"$f":"IFERROR(IF(G15=\"احصاء، تدوین و اصلاح روش\",IF(F15=\"مالک\",VLOOKUP(E15,param!$A$92:$C$95,3,FALSE),VLOOKUP(E15,param!$A$92:$C$95,3,FALSE)/2),IF(F15=\"مالک\",VLOOKUP(E15,param!$A$92:$C$95,2,FALSE),VLOOKUP(E15,param!$A$92:$C$95,2,FALSE)/2)),\"\")","v":""},{"$f":"IF($A15>0,\"D9_9\",\"\")","v":""}]
[null,null,null,null,null,null,null,null,{"$f":"IFERROR(IF(G16=\"احصاء، تدوین و اصلاح روش\",IF(F16=\"مالک\",VLOOKUP(E16,param!$A$92:$C$95,3,FALSE),VLOOKUP(E16,param!$A$92:$C$95,3,FALSE)/2),IF(F16=\"مالک\",VLOOKUP(E16,param!$A$92:$C$95,2,FALSE),VLOOKUP(E16,param!$A$92:$C$95,2,FALSE)/2)),\"\")","v":""},{"$f":"IF($A16>0,\"D9_10\",\"\")","v":""}]
[null,null,null,null,null,null,null,null,{"$f":"IFERROR(IF(G17=\"احصاء، تدوین و اصلاح روش\",IF(F17=\"مالک\",VLOOKUP(E17,param!$A$92:$C$95,3,FALSE),VLOOKUP(E17,param!$A$92:$C$95,3,FALSE)/2),IF(F17=\"مالک\",VLOOKUP(E17,param!$A$92:$C$95,2,FALSE),VLOOKUP(E17,param!$A$92:$C$95,2,FALSE)/2)),\"\")","v":""},{"$f":"IF($A17>0,\"D9_11\",\"\")","v":""}]
[null,null,null,null,null,null,null,null,{"$f":"IFERROR(IF(G18=\"احصاء، تدوین و اصلاح روش\",IF(F18=\"مالک\",VLOOKUP(E18,param!$A$92:$C$95,3,FALSE),VLOOKUP(E18,param!$A$92:$C$95,3,FALSE)/2),IF(F18=\"مالک\",VLOOKUP(E18,param!$A$92:$C$95,2,FALSE),VLOOKUP(E18,param!$A$92:$C$95,2,FALSE)/2)),\"\")","v":""},{"$f":"IF($A18>0,\"D9_12\",\"\")","v":""}]
[null,null,null,null,null,null,null,null,{"$f":"IFERROR(IF(G19=\"احصاء، تدوین و اصلاح روش\",IF(F19=\"مالک\",VLOOKUP(E19,param!$A$92:$C$95,3,FALSE),VLOOKUP(E19,param!$A$92:$C$95,3,FALSE)/2),IF(F19=\"مالک\",VLOOKUP(E19,param!$A$92:$C$95,2,FALSE),VLOOKUP(E19,param!$A$92:$C$95,2,FALSE)/2)),\"\")","v":""},{"$f":"IF($A19>0,\"D9_13\",\"\")","v":""}]
[null,null,null,null,null,null,null,null,{"$f":"IFERROR(IF(G20=\"احصاء، تدوین و اصلاح روش\",IF(F20=\"مالک\",VLOOKUP(E20,param!$A$92:$C$95,3,FALSE),VLOOKUP(E20,param!$A$92:$C$95,3,FALSE)/2),IF(F20=\"مالک\",VLOOKUP(E20,param!$A$92:$C$95,2,FALSE),VLOOKUP(E20,param!$A$92:$C$95,2,FALSE)/2)),\"\")","v":""},{"$f":"IF($A20>0,\"D9_14\",\"\")","v":""}]
[null,null,null,null,null,null,null,null,{"$f":"IFERROR(IF(G21=\"احصاء، تدوین و اصلاح روش\",IF(F21=\"مالک\",VLOOKUP(E21,param!$A$92:$C$95,3,FALSE),VLOOKUP(E21,param!$A$92:$C$95,3,FALSE)/2),IF(F21=\"مالک\",VLOOKUP(E21,param!$A$92:$C$95,2,FALSE),VLOOKUP(E21,param!$A$92:$C$95,2,FALSE)/2)),\"\")","v":""},{"$f":"IF($A21>0,\"D9_15\",\"\")","v":""}]
[null,null,null,null,null,null,null,null,{"$f":"IFERROR(IF(G22=\"احصاء، تدوین و اصلاح روش\",IF(F22=\"مالک\",VLOOKUP(E22,param!$A$92:$C$95,3,FALSE),VLOOKUP(E22,param!$A$92:$C$95,3,FALSE)/2),IF(F22=\"مالک\",VLOOKUP(E22,param!$A$92:$C$95,2,FALSE),VLOOKUP(E22,param!$A$92:$C$95,2,FALSE)/2)),\"\")","v":""},{"$f":"IF($A22>0,\"D9_16\",\"\")","v":""}]
[null,null,null,null,null,null,null,null,{"$f":"IFERROR(IF(G23=\"احصاء، تدوین و اصلاح روش\",IF(F23=\"مالک\",VLOOKUP(E23,param!$A$92:$C$95,3,FALSE),VLOOKUP(E23,param!$A$92:$C$95,3,FALSE)/2),IF(F23=\"مالک\",VLOOKUP(E23,param!$A$92:$C$95,2,FALSE),VLOOKUP(E23,param!$A$92:$C$95,2,FALSE)/2)),\"\")","v":""},{"$f":"IF($A23>0,\"D9_17\",\"\")","v":""}]
[null,null,null,null,null,null,null,null,{"$f":"IFERROR(IF(G24=\"احصاء، تدوین و اصلاح روش\",IF(F24=\"مالک\",VLOOKUP(E24,param!$A$92:$C$95,3,FALSE),VLOOKUP(E24,param!$A$92:$C$95,3,FALSE)/2),IF(F24=\"مالک\",VLOOKUP(E24,param!$A$92:$C$95,2,FALSE),VLOOKUP(E24,param!$A$92:$C$95,2,FALSE)/2)),\"\")","v":""},{"$f":"IF($A24>0,\"D9_18\",\"\")","v":""}]
[null,null,null,null,null,null,null,null,{"$f":"IFERROR(IF(G25=\"احصاء، تدوین و اصلاح روش\",IF(F25=\"مالک\",VLOOKUP(E25,param!$A$92:$C$95,3,FALSE),VLOOKUP(E25,param!$A$92:$C$95,3,FALSE)/2),IF(F25=\"مالک\",VLOOKUP(E25,param!$A$92:$C$95,2,FALSE),VLOOKUP(E25,param!$A$92:$C$95,2,FALSE)/2)),\"\")","v":""},{"$f":"IF($A25>0,\"D9_19\",\"\")","v":""}]
[null,null,null,null,null,null,null,null,{"$f":"IFERROR(IF(G26=\"احصاء، تدوین و اصلاح روش\",IF(F26=\"مالک\",VLOOKUP(E26,param!$A$92:$C$95,3,FALSE),VLOOKUP(E26,param!$A$92:$C$95,3,FALSE)/2),IF(F26=\"مالک\",VLOOKUP(E26,param!$A$92:$C$95,2,FALSE),VLOOKUP(E26,param!$A$92:$C$95,2,FALSE)/2)),\"\")","v":""},{"$f":"IF($A26>0,\"D9_20\",\"\")","v":""}]
[null,null,null,null,null,null,null,null,{"$f":"IFERROR(IF(G27=\"احصاء، تدوین و اصلاح روش\",IF(F27=\"مالک\",VLOOKUP(E27,param!$A$92:$C$95,3,FALSE),VLOOKUP(E27,param!$A$92:$C$95,3,FALSE)/2),IF(F27=\"مالک\",VLOOKUP(E27,param!$A$92:$C$95,2,FALSE),VLOOKUP(E27,param!$A$92:$C$95,2,FALSE)/2)),\"\")","v":""},{"$f":"IF($A27>0,\"D9_21\",\"\")","v":""}]
[null,null,null,null,null,null,null,null,{"$f":"IFERROR(IF(G28=\"احصاء، تدوین و اصلاح روش\",IF(F28=\"مالک\",VLOOKUP(E28,param!$A$92:$C$95,3,FALSE),VLOOKUP(E28,param!$A$92:$C$95,3,FALSE)/2),IF(F28=\"مالک\",VLOOKUP(E28,param!$A$92:$C$95,2,FALSE),VLOOKUP(E28,param!$A$92:$C$95,2,FALSE)/2)),\"\")","v":""},{"$f":"IF($A28>0,\"D9_22\",\"\")","v":""}]
[null,null,null,null,null,null,null,null,{"$f":"IFERROR(IF(G29=\"احصاء، تدوین و اصلاح روش\",IF(F29=\"مالک\",VLOOKUP(E29,param!$A$92:$C$95,3,FALSE),VLOOKUP(E29,param!$A$92:$C$95,3,FALSE)/2),IF(F29=\"مالک\",VLOOKUP(E29,param!$A$92:$C$95,2,FALSE),VLOOKUP(E29,param!$A$92:$C$95,2,FALSE)/2)),\"\")","v":""},{"$f":"IF($A29>0,\"D9_23\",\"\")","v":""}]
[null,null,null,null,null,null,null,null,{"$f":"IFERROR(IF(G30=\"احصاء، تدوین و اصلاح روش\",IF(F30=\"مالک\",VLOOKUP(E30,param!$A$92:$C$95,3,FALSE),VLOOKUP(E30,param!$A$92:$C$95,3,FALSE)/2),IF(F30=\"مالک\",VLOOKUP(E30,param!$A$92:$C$95,2,FALSE),VLOOKUP(E30,param!$A$92:$C$95,2,FALSE)/2)),\"\")","v":""},{"$f":"IF($A30>0,\"D9_24\",\"\")","v":""}]
[null,null,null,null,null,null,null,null,{"$f":"IFERROR(IF(G31=\"احصاء، تدوین و اصلاح روش\",IF(F31=\"مالک\",VLOOKUP(E31,param!$A$92:$C$95,3,FALSE),VLOOKUP(E31,param!$A$92:$C$95,3,FALSE)/2),IF(F31=\"مالک\",VLOOKUP(E31,param!$A$92:$C$95,2,FALSE),VLOOKUP(E31,param!$A$92:$C$95,2,FALSE)/2)),\"\")","v":""},{"$f":"IF($A31>0,\"D9_25\",\"\")","v":""}]
[null,null,null,null,null,null,null,null,{"$f":"IFERROR(IF(G32=\"احصاء، تدوین و اصلاح روش\",IF(F32=\"مالک\",VLOOKUP(E32,param!$A$92:$C$95,3,FALSE),VLOOKUP(E32,param!$A$92:$C$95,3,FALSE)/2),IF(F32=\"مالک\",VLOOKUP(E32,param!$A$92:$C$95,2,FALSE),VLOOKUP(E32,param!$A$92:$C$95,2,FALSE)/2)),\"\")","v":""},{"$f":"IF($A32>0,\"D9_26\",\"\")","v":""}]
[null,null,null,null,null,null,null,null,{"$f":"IFERROR(IF(G33=\"احصاء، تدوین و اصلاح روش\",IF(F33=\"مالک\",VLOOKUP(E33,param!$A$92:$C$95,3,FALSE),VLOOKUP(E33,param!$A$92:$C$95,3,FALSE)/2),IF(F33=\"مالک\",VLOOKUP(E33,param!$A$92:$C$95,2,FALSE),VLOOKUP(E33,param!$A$92:$C$95,2,FALSE)/2)),\"\")","v":""},{"$f":"IF($A33>0,\"D9_27\",\"\")","v":""}]
[null,null,null,null,null,null,null,null,{"$f":"IFERROR(IF(G34=\"احصاء، تدوین و اصلاح روش\",IF(F34=\"مالک\",VLOOKUP(E34,param!$A$92:$C$95,3,FALSE),VLOOKUP(E34,param!$A$92:$C$95,3,FALSE)/2),IF(F34=\"مالک\",VLOOKUP(E34,param!$A$92:$C$95,2,FALSE),VLOOKUP(E34,param!$A$92:$C$95,2,FALSE)/2)),\"\")","v":""},{"$f":"IF($A34>0,\"D9_28\",\"\")","v":""}]
[null,null,null,null,null,null,null,null,{"$f":"IFERROR(IF(G35=\"احصاء، تدوین و اصلاح روش\",IF(F35=\"مالک\",VLOOKUP(E35,param!$A$92:$C$95,3,FALSE),VLOOKUP(E35,param!$A$92:$C$95,3,FALSE)/2),IF(F35=\"مالک\",VLOOKUP(E35,param!$A$92:$C$95,2,FALSE),VLOOKUP(E35,param!$A$92:$C$95,2,FALSE)/2)),\"\")","v":""},{"$f":"IF($A35>0,\"D9_29\",\"\")","v":""}]
[null,null,null,null,null,null,null,null,{"$f":"IFERROR(IF(G36=\"احصاء، تدوین و اصلاح روش\",IF(F36=\"مالک\",VLOOKUP(E36,param!$A$92:$C$95,3,FALSE),VLOOKUP(E36,param!$A$92:$C$95,3,FALSE)/2),IF(F36=\"مالک\",VLOOKUP(E36,param!$A$92:$C$95,2,FALSE),VLOOKUP(E36,param!$A$92:$C$95,2,FALSE)/2)),\"\")","v":""},{"$f":"IF($A36>0,\"D9_30\",\"\")","v":""}]
[null,null,null,null,null,null,null,null,{"$f":"IFERROR(IF(G37=\"احصاء، تدوین و اصلاح روش\",IF(F37=\"مالک\",VLOOKUP(E37,param!$A$92:$C$95,3,FALSE),VLOOKUP(E37,param!$A$92:$C$95,3,FALSE)/2),IF(F37=\"مالک\",VLOOKUP(E37,param!$A$92:$C$95,2,FALSE),VLOOKUP(E37,param!$A$92:$C$95,2,FALSE)/2)),\"\")","v":""},{"$f":"IF($A37>0,\"D9_31\",\"\")","v":""}]
[null,null,null,null,null,null,null,null,{"$f":"IFERROR(IF(G38=\"احصاء، تدوین و اصلاح روش\",IF(F38=\"مالک\",VLOOKUP(E38,param!$A$92:$C$95,3,FALSE),VLOOKUP(E38,param!$A$92:$C$95,3,FALSE)/2),IF(F38=\"مالک\",VLOOKUP(E38,param!$A$92:$C$95,2,FALSE),VLOOKUP(E38,param!$A$92:$C$95,2,FALSE)/2)),\"\")","v":""},{"$f":"IF($A38>0,\"D9_32\",\"\")","v":""}]
[null,null,null,null,null,null,null,null,{"$f":"IFERROR(IF(G39=\"احصاء، تدوین و اصلاح روش\",IF(F39=\"مالک\",VLOOKUP(E39,param!$A$92:$C$95,3,FALSE),VLOOKUP(E39,param!$A$92:$C$95,3,FALSE)/2),IF(F39=\"مالک\",VLOOKUP(E39,param!$A$92:$C$95,2,FALSE),VLOOKUP(E39,param!$A$92:$C$95,2,FALSE)/2)),\"\")","v":""},{"$f":"IF($A39>0,\"D9_33\",\"\")","v":""}]
[null,null,null,null,null,null,null,null,{"$f":"IFERROR(IF(G40=\"احصاء، تدوین و اصلاح روش\",IF(F40=\"مالک\",VLOOKUP(E40,param!$A$92:$C$95,3,FALSE),VLOOKUP(E40,param!$A$92:$C$95,3,FALSE)/2),IF(F40=\"مالک\",VLOOKUP(E40,param!$A$92:$C$95,2,FALSE),VLOOKUP(E40,param!$A$92:$C$95,2,FALSE)/2)),\"\")","v":""},{"$f":"IF($A40>0,\"D9_34\",\"\")","v":""}]
[null,null,null,null,null,null,null,null,{"$f":"IFERROR(IF(G41=\"احصاء، تدوین و اصلاح روش\",IF(F41=\"مالک\",VLOOKUP(E41,param!$A$92:$C$95,3,FALSE),VLOOKUP(E41,param!$A$92:$C$95,3,FALSE)/2),IF(F41=\"مالک\",VLOOKUP(E41,param!$A$92:$C$95,2,FALSE),VLOOKUP(E41,param!$A$92:$C$95,2,FALSE)/2)),\"\")","v":""},{"$f":"IF($A41>0,\"D9_35\",\"\")","v":""}]

{"sheet":"d10","index":27,"n_rows":46,"n_cols":6,"rows_kept":46,"cut":false,"hidden":false,"merged":[[2,0,2,5],[4,0,4,5],[0,0,0,5],[1,0,1,5],[5,2,5,3],[3,0,3,5],[6,2,6,3],[7,2,7,3],[8,2,8,3],[9,2,9,3],[10,2,10,3],[11,2,11,3],[12,2,12,3],[13,2,13,3],[14,2,14,3],[15,2,15,3],[16,2,16,3],[17,2,17,3],[18,2,18,3],[19,2,19,3],[20,2,20,3],[21,2,21,3],[22,2,22,3],[23,2,23,3],[24,2,24,3],[25,2,25,3],[26,2,26,3],[27,2,27,3],[28,2,28,3],[29,2,29,3],[30,2,30,3],[31,2,31,3],[32,2,32,3],[33,2,33,3],[34,2,34,3],[35,2,35,3],[36,2,36,3],[37,2,37,3],[38,2,38,3],[39,2,39,3],[40,2,40,3],[41,2,41,3],[42,2,42,3],[43,2,43,3],[44,2,44,3],[45,2,45,3]]}
[{"$f":"param!C29","v":"مدیریت اداری و پشتیبانی\nارتقای رتبه اعضای غیر هیأت علمی"}]
[]
["د 10: مستندسازی فعالیت ها و تجربیات"]
["مستندی که بعد از شما، شخص جایگزین پست سازمانی شما، با مراجعه به آن، توانایی کامل و بی نقص انجام وظایف پست سازمانی را داشته باشد. این مستند باید؛ (1) دارای فهرست و شماره صفحات باشد. (2) شامل کلیه آیین نامه، دستورالعمل ها و ... دانشگاهی یا وزراتی مورد استفاده در پست سازمانی شما باشد. (3) شامل نحوه به کارگیری سامانه های آنلاین و نرم افزارها باشد."]
[{"$f":"IFERROR(\"امتیاز متقاضی: \"&SUM(E:E)&\"  | حداکثر امتیاز: \"&VLOOKUP(tahsilat!$F$4&rotbe!$G$5,param!$C$2:$AO$28,39,FALSE)&\"  | امتیاز قابل محاسبه: \"&MIN(SUM(E:E),VLOOKUP(tahsilat!$F$4&rotbe!$G$5,param!$C$2:$AO$28,39,FALSE)),\"\")","v":""}]
["ردیف","عنوان","الکترونیکی/ کاغذی",null,"امتیاز","مستند"]
[null,null,null,null,null,{"$f":"IF($A7>0,\"D10_1\",\"\")","v":""}]
[null,null,null,null,null,{"$f":"IF($A8>0,\"D10_2\",\"\")","v":""}]
[null,null,null,null,null,{"$f":"IF($A9>0,\"D10_3\",\"\")","v":""}]
[null,null,null,null,null,{"$f":"IF($A10>0,\"D10_4\",\"\")","v":""}]
[null,null,null,null,null,{"$f":"IF($A11>0,\"D10_5\",\"\")","v":""}]
[null,null,null,null,null,{"$f":"IF($A12>0,\"D10_6\",\"\")","v":""}]
[null,null,null,null,null,{"$f":"IF($A13>0,\"D10_7\",\"\")","v":""}]
[null,null,null,null,null,{"$f":"IF($A14>0,\"D10_8\",\"\")","v":""}]
[null,null,null,null,null,{"$f":"IF($A15>0,\"D10_9\",\"\")","v":""}]
[null,null,null,null,null,{"$f":"IF($A16>0,\"D10_10\",\"\")","v":""}]
[null,null,null,null,null,{"$f":"IF($A17>0,\"D10_11\",\"\")","v":""}]
[null,null,null,null,null,{"$f":"IF($A18>0,\"D10_12\",\"\")","v":""}]
[null,null,null,null,null,{"$f":"IF($A19>0,\"D10_13\",\"\")","v":""}]
[null,null,null,null,null,{"$f":"IF($A20>0,\"D10_14\",\"\")","v":""}]
[null,null,null,null,null,{"$f":"IF($A21>0,\"D10_15\",\"\")","v":""}]
[null,null,null,null,null,{"$f":"IF($A22>0,\"D10_16\",\"\")","v":""}]
[null,null,null,null,null,{"$f":"IF($A23>0,\"D10_17\",\"\")","v":""}]
[null,null,null,null,null,{"$f":"IF($A24>0,\"D10_18\",\"\")","v":""}]
[null,null,null,null,null,{"$f":"IF($A25>0,\"D10_19\",\"\")","v":""}]
[null,null,null,null,null,{"$f":"IF($A26>0,\"D10_20\",\"\")","v":""}]
[null,null,null,null,null,{"$f":"IF($A27>0,\"D10_21\",\"\")","v":""}]
[null,null,null,null,null,{"$f":"IF($A28>0,\"D10_22\",\"\")","v":""}]
[null,null,null,null,null,{"$f":"IF($A29>0,\"D10_23\",\"\")","v":""}]
[null,null,null,null,null,{"$f":"IF($A30>0,\"D10_24\",\"\")","v":""}]
[null,null,null,null,null,{"$f":"IF($A31>0,\"D10_25\",\"\")","v":""}]
[null,null,null,null,null,{"$f":"IF($A32>0,\"D10_26\",\"\")","v":""}]
[null,null,null,null,null,{"$f":"IF($A33>0,\"D10_27\",\"\")","v":""}]
[null,null,null,null,null,{"$f":"IF($A34>0,\"D10_28\",\"\")","v":""}]
[null,null,null,null,null,{"$f":"IF($A35>0,\"D10_29\",\"\")","v":""}]
[null,null,null,null,null,{"$f":"IF($A36>0,\"D10_30\",\"\")","v":""}]
[null,null,null,null,null,{"$f":"IF($A37>0,\"D10_31\",\"\")","v":""}]
[null,null,null,null,null,{"$f":"IF($A38>0,\"D10_32\",\"\")","v":""}]
[null,null,null,null,null,{"$f":"IF($A39>0,\"D10_33\",\"\")","v":""}]
[null,null,null,null,null,{"$f":"IF($A40>0,\"D10_34\",\"\")","v":""}]
[null,null,null,null,null,{"$f":"IF($A41>0,\"D10_35\",\"\")","v":""}]
[null,null,null,null,null,{"$f":"IF($A42>0,\"D10_36\",\"\")","v":""}]
[null,null,null,null,null,{"$f":"IF($A43>0,\"D10_37\",\"\")","v":""}]
[null,null,null,null,null,{"$f":"IF($A44>0,\"D10_38\",\"\")","v":""}]
[null,null,null,null,null,{"$f":"IF($A45>0,\"D10_39\",\"\")","v":""}]
[null,null,null,null,null,{"$f":"IF($A46>0,\"D10_40\",\"\")","v":""}]

{"sheet":"emtiyaz","index":28,"n_rows":48,"n_cols":6,"rows_kept":48,"cut":false,"hidden":false,"merged":[[0,0,0,5],[44,0,44,5],[6,0,7,0],[1,0,1,5],[7,1,7,3],[7,4,7,5],[10,0,10,5],[8,0,8,5],[4,1,4,5],[9,0,9,5],[2,1,2,2],[3,1,3,2],[45,4,45,5],[46,4,46,5],[47,4,47,5],[47,2,47,3],[45,0,45,1],[46,0,46,1],[47,0,47,1],[46,2,46,3],[45,2,45,3]]}
[{"$f":"param!C29","v":"مدیریت اداری و پشتیبانی\nارتقای رتبه اعضای غیر هیأت علمی"}]
[]
["نام","نام خانوادگی",null,"رتبه درخواستی","سابقه","شماره پرسنلی"]
[{"$f":"moshakhasat!B5","v":0},{"$f":"moshakhasat!C5","v":0},null,{"$f":"rotbe!G5","v":"مهارتی"},{"$f":"IFERROR(ROUNDDOWN(SUM(sanavat!$G:$G)/365,0)&\" سال و \"&ROUNDDOWN((((SUM(sanavat!$G:$G)/365)-LEFT(SUM(sanavat!$G:$G)/365,(SEARCH(\".\",SUM(sanavat!$G:$G)/365))-1))*365)/30,0)&\" ماه\",0)","v":0},{"$f":"moshakhasat!G5","v":0}]
[{"$f":"moshakhasat!B5&\" \"&moshakhasat!C5","v":" "},"مجموع امتیازات"]
[null,"امتیاز کسب شده","حداقل امتیاز","حداکثر امتیاز","امتیاز نهایی",{"$f":"IF(rotbe!$G$5=\"یک\",\"\",\"امتیاز ذخیره\")","v":"امتیاز ذخیره"}]
["مجموع محورها",{"$f":"IFERROR(ROUND(B13+B19+B24+B32,0),0)","v":110},{"$f":"IFERROR(VLOOKUP(tahsilat!$F$4&rotbe!$G$5,param!$C$2:$AO$28,5,FALSE),\"\")","v":""},{"$f":"IFERROR(VLOOKUP(tahsilat!$F$4&rotbe!$G$5,param!$C$2:$AP$28,40,FALSE),\"\")","v":""},{"$f":"IFERROR(ROUND(E13+E19+E24+E32,0),0)+A47","v":110},{"$f":"IF(rotbe!$G$5=\"یک\",\"\",IFERROR(ROUND(F24+F32,0),\"\"))","v":0}]
[null,{"$f":"farsaran_Persian_Function.Horof(B7)&\" امتیاز\"","v":"یکصد و ده امتیاز"},null,null,{"$f":"farsaran_Persian_Function.Horof(E7)&\" امتیاز\"","v":"یکصد و ده امتیاز"}]
["نتیجه ابتدایی ارتقا بر اساس داده های وارد شده، این نتیجه پس از بررسی و تأیید کمیته، نهایی می شود."]
[{"$f":"IF($E$7<$C$7,\"عدم کسب امتیاز لازم برای ارتقاء به رتبه \"&rotbe!$G$5,\"کسب امتیاز لازم جهت ارتقاء به رتبه \"&rotbe!$G$5)","v":"عدم کسب امتیاز لازم برای ارتقاء به رتبه مهارتی"}]
[{"$f":"IF($E$7<$C$7,\" تا تاریخ \"&LEFT(rotbe!$H$5,4)&\"/\"&MID(rotbe!$H$5,5,2)&\"/\"&RIGHT(rotbe!$H$5,2)&\" (\"&TbH(rotbe!$H$5,1)&\")\",\" از تاریخ \"&rotbe!$H$5&\" (\"&TbH(rotbe!$H$5,1)&\")\")","v":{"$error":"#NUM!"}}]
[]
[{"$f":"a!A3","v":"محور الف: سوابق تحصیلی"},{"$f":"SUM(B14:B17)","v":0},"-",{"$f":"IFERROR(VLOOKUP(IF(moshakhasat!$D$5=\"بله\",tahsilat!$F$7,tahsilat!$F$4)&rotbe!$G$5,param!$C$2:$AO$28,7,FALSE),\"\")","v":""},{"$f":"MIN(B13,D13)","v":0}]
[{"$f":"a!B6","v":"الف 1: مقطع تحصیلی"},{"$f":"MIN(D14,a!$C$8)","v":0},"-",{"$f":"IFERROR(VLOOKUP(IF(moshakhasat!$D$5=\"بله\",tahsilat!$F$7,tahsilat!$F$4)&rotbe!$G$5,param!$C$2:$AO$28,8,FALSE),\"\")","v":""}]
[{"$f":"a!D6","v":"الف 2: ارتباط مدرک تحصیلی"},{"$f":"MIN(D15,a!$E$8)","v":0},"-",{"$f":"IFERROR(VLOOKUP(IF(moshakhasat!$D$5=\"بله\",tahsilat!$F$7,tahsilat!$F$4)&rotbe!$G$5,param!$C$2:$AO$28,9,FALSE),\"\")","v":""}]
[{"$f":"a!F6","v":"الف 3: محل اخذ مدرک"},{"$f":"MIN(D16,a!$H$8)","v":0},"-",{"$f":"IFERROR(VLOOKUP(IF(moshakhasat!$D$5=\"بله\",tahsilat!$F$7,tahsilat!$F$4)&rotbe!$G$5,param!$C$2:$AO$28,10,FALSE),\"\")","v":""}]
[{"$f":"a!I6","v":"الف 4: معدل"},{"$f":"MIN(D17,a!$J$8)","v":0},"-",{"$f":"IFERROR(VLOOKUP(IF(moshakhasat!$D$5=\"بله\",tahsilat!$F$7,tahsilat!$F$4)&rotbe!$G$5,param!$C$2:$AO$28,11,FALSE),\"\")","v":""}]
[]
["محور ب: سوابق اجرایی و تجربی",{"$f":"SUM(B20:B22)","v":0},{"$f":"IFERROR(VLOOKUP(tahsilat!$F$4&rotbe!$G$5,param!$C$2:$AO$28,12,FALSE),\"\")","v":""},{"$f":"IFERROR(VLOOKUP(tahsilat!$F$4&rotbe!$G$5,param!$C$2:$AO$28,13,FALSE),\"\")","v":""},{"$f":"MIN(B19,D19)","v":0}]
[{"$f":"'b1'!A3","v":"ب1: سنوات خدمتی"},{"$f":"MIN(D20,SUM('b1'!H:H)-'b1'!$E$5)","v":0},"-",{"$f":"IFERROR(VLOOKUP(tahsilat!$F$4&rotbe!$G$5,param!$C$2:$AO$28,14,FALSE),\"\")","v":""}]
[{"$f":"'b2'!A3","v":"ب 2: سوابق اجرایی، مدیریتی و سرپرستی"},{"$f":"MIN(D21,SUM('b2'!H:H))","v":0},"-",{"$f":"IFERROR(VLOOKUP(tahsilat!$F$4&rotbe!$G$5,param!$C$2:$AO$28,17,FALSE),\"\")","v":""}]
[{"$f":"'b3'!A3","v":"ب 3: عضویت در کمیته ها، شوراها"},{"$f":"MIN(D22,SUM('b3'!F:F))","v":0},"-",{"$f":"IFERROR(VLOOKUP(tahsilat!$F$4&rotbe!$G$5,param!$C$2:$AO$28,18,FALSE),\"\")","v":""}]
[]
["محور ج: سوابق آموزشی",{"$f":"SUM(B25:B30)","v":30},{"$f":"IFERROR(VLOOKUP(tahsilat!$F$4&rotbe!$G$5,param!$C$2:$AO$28,19,FALSE),\"\")","v":""},{"$f":"IFERROR(VLOOKUP(tahsilat!$F$4&rotbe!$G$5,param!$C$2:$AO$28,20,FALSE),\"\")","v":""},{"$f":"MIN(B24,D24)","v":30},{"$f":"B24-E24","v":0}]
[{"$f":"'g1-1'!A3","v":"ج 1-1: دوره های آموزشی"},{"$f":"IF(SUM('g1-1'!E:E)>0,MIN(D25,SUM('g1-1'!E:E)),0)","v":0},"-",{"$f":"IFERROR(VLOOKUP(tahsilat!$F$4&rotbe!$G$5,param!$C$2:$AO$28,21,FALSE),\"\")","v":""}]
[{"$f":"'g1-2'!A3","v":"ج 1-2: شرکت در کارگاه ها و همایش های آموزشی"},{"$f":"IF(SUM('g1-2'!C:C)>0,MIN(D26,SUM('g1-2'!C:C)),0)","v":0},"-",{"$f":"IFERROR(VLOOKUP(tahsilat!$F$4&rotbe!$G$5,param!$C$2:$AO$28,22,FALSE),\"\")","v":""}]
[{"$f":"'g2-1'!A3","v":"ج 2-1: آموزش به همکاران"},{"$f":"IF('g2-1'!$C$6>0,MIN(D27,'g2-1'!$C$6),0)","v":0},"-",{"$f":"IFERROR(VLOOKUP(tahsilat!$F$4&rotbe!$G$5,param!$C$2:$AO$28,23,FALSE),\"\")","v":""}]
[{"$f":"'g2-2'!A3","v":"ج 2-2: تدریس به همکاران"},{"$f":"IF('g2-2'!$C$6>0,MIN(D28,'g2-2'!$C$6),0)","v":0},"-",{"$f":"IFERROR(VLOOKUP(tahsilat!$F$4&rotbe!$G$5,param!$C$2:$AO$28,24,FALSE),\"\")","v":""}]
[{"$f":"'g3'!A3","v":"ج 3: تسلط به نرم افزار"},{"$f":"IF(SUM('g3'!D:D)>0,MIN(D29,SUM('g3'!D:D)),0)","v":30},"-",{"$f":"IFERROR(VLOOKUP(tahsilat!$F$4&rotbe!$G$5,param!$C$2:$AO$28,25,FALSE),\"\")","v":""}]
[{"$f":"'g4'!A3","v":"ج 4: تسلط به زبان خارجی"},{"$f":"IF(IFERROR(MAX(IF('g4'!$C$7=\"بله\",50,0),VLOOKUP(tahsilat!$F$4,param!$A$2:$AB$6,28,FALSE)),0)>0,MIN(D30,IFERROR(MAX(IF('g4'!$C$7=\"بله\",50,0),VLOOKUP(tahsilat!$F$4,param!$A$2:$AB$6,28,FALSE)),0)),0)","v":0},"-",50]
[]
["محور د: علمی، پژوهشی و فرهنگی",{"$f":"SUM(B33:B43)","v":80},"-",{"$f":"IFERROR(VLOOKUP(tahsilat!$F$4&rotbe!$G$5,param!$C$2:$AO$28,27,FALSE),\"\")","v":""},{"$f":"MIN(SUM(B33:B43),D32)","v":80},{"$f":"B32-E32","v":0}]
[{"$f":"'d1'!A3","v":"د 1: ارائه پیشنهادات نو و ابتکاری"},{"$f":"IF(SUM('d1'!$F:$F)>0,MIN(D33,SUM('d1'!$F:$F)),0)","v":0},"-",{"$f":"IFERROR(VLOOKUP(tahsilat!$F$4&rotbe!$G$5,param!$C$2:$AO$28,28,FALSE),\"\")","v":""}]
[{"$f":"'d2'!A3","v":"د 2: فعالیت های پژوهشی"},{"$f":"IF(SUM('d2'!E:E)>0,MIN(D34,SUM('d2'!E:E)),0)","v":0},"-",{"$f":"IFERROR(VLOOKUP(tahsilat!$F$4&rotbe!$G$5,param!$C$2:$AO$28,29,FALSE),\"\")","v":""}]
["د 3 الف: گزارش تحلیلی و تحقیقی شغلی",{"$f":"IF(SUMIF('d3'!C:C,param!A172,'d3'!E:E)>0,MIN(D35,+SUMIF('d3'!C:C,param!A172,'d3'!E:E)),0)","v":0},"-",{"$f":"IFERROR(VLOOKUP(tahsilat!$F$4&rotbe!$G$5,param!$C$2:$AO$28,31,FALSE),\"\")","v":""}]
["د 3 ب: گزارش عملکرد شغلی",{"$f":"IF(SUMIF('d3'!C:C,param!A173,'d3'!E:E)>0,MIN(D36,+SUMIF('d3'!C:C,param!A173,'d3'!E:E)),0)","v":0},"-",{"$f":"IFERROR(VLOOKUP(tahsilat!$F$4&rotbe!$G$5,param!$C$2:$AO$28,32,FALSE),\"\")","v":""}]
[{"$f":"'d4'!A3","v":"د 4: دریافت لوح تقدیر و تشویق"},{"$f":"IF(SUM('d4'!F:F)>0,MIN(D37,SUM('d4'!F:F)),0)","v":0},"-",{"$f":"IFERROR(VLOOKUP(tahsilat!$F$4&rotbe!$G$5,param!$C$2:$AO$28,33,FALSE),\"\")","v":""}]
[{"$f":"'d5'!A3","v":"د 5: کسب عنوان «کارمند یا مدیر نمونه»"},{"$f":"IF(SUM('d5'!G:G)>0,MIN(D38,SUM('d5'!G:G)),0)","v":0},"-",{"$f":"IFERROR(VLOOKUP(tahsilat!$F$4&rotbe!$G$5,param!$C$2:$AO$28,34,FALSE),\"\")","v":""}]
["د 6: تکریم ارباب رجوع",50,"-",{"$f":"IFERROR(VLOOKUP(tahsilat!$F$4&rotbe!$G$5,param!$C$2:$AO$28,35,FALSE),\"\")","v":""}]
["د 7: تعظیم شعائر اسلامی و مذهبی",30,"-",{"$f":"IFERROR(VLOOKUP(tahsilat!$F$4&rotbe!$G$5,param!$C$2:$AO$28,36,FALSE),\"\")","v":""}]
[{"$f":"'d8'!A3","v":"د 8: تدوین یا بازنگری آیین نامه ها، دستورالعمل ها و مجموعه مقررات جاری"},{"$f":"IF(SUM('d8'!G:G)>0,MIN(D41,SUM('d8'!G:G)),0)","v":0},"-",{"$f":"IFERROR(VLOOKUP(tahsilat!$F$4&rotbe!$G$5,param!$C$2:$AO$28,37,FALSE),\"\")","v":""}]
[{"$f":"'d9'!A3","v":"د 9: احصای فرآیندها و اصلاح روش های انجام کار"},{"$f":"IF(SUM('d9'!H:H)>0,MIN(D42,SUM('d9'!H:H)),0)","v":0},"-",{"$f":"IFERROR(VLOOKUP(tahsilat!$F$4&rotbe!$G$5,param!$C$2:$AO$28,38,FALSE),\"\")","v":""}]
[{"$f":"'d10'!A3","v":"د 10: مستندسازی فعالیت ها و تجربیات"},{"$f":"IF(SUM('d10'!E:E)>0,MIN(D43,SUM('d10'!E:E)),0)","v":0},"-",{"$f":"IFERROR(VLOOKUP(tahsilat!$F$4&rotbe!$G$5,param!$C$2:$AO$28,39,FALSE),\"\")","v":""}]
[]
["مجموع امتیازات ذخیره شده"]
["امتیاز ذخیره شده در رتبه قبلی\n(این امتیاز توسط اداراه کارگزینی تکمیل می شود.)",null,{"$f":"IF(rotbe!$G$5=\"یک\",\"\",\"امتیاز ذخیره شده برای رتبه بالاتر\")","v":"امتیاز ذخیره شده برای رتبه بالاتر"},null,{"$f":"IF(rotbe!$G$5=\"یک\",\"\",\"حداکثر امتیاز قابل ذخیره\")","v":"حداکثر امتیاز قابل ذخیره"}]
[0,null,{"$f":"IF(rotbe!$G$5=\"یک\",\"\",IFERROR(MIN(E47,F7),\"\"))","v":0},null,{"$f":"IF(rotbe!$G$5=\"یک\",\"\",IFERROR(VLOOKUP(tahsilat!$F$4&rotbe!$G$5,param!$C$2:$AO$28,6,FALSE),0))","v":0}]
[{"$f":"farsaran_Persian_Function.Horof(A47)&\" امتیاز\"","v":"صفر امتیاز"},null,{"$f":"IF(rotbe!$G$5=\"یک\",\"\",farsaran_Persian_Function.Horof(C47)&\" امتیاز\")","v":"صفر امتیاز"},null,{"$f":"IF(rotbe!$G$5=\"یک\",\"\",farsaran_Persian_Function.Horof(E47)&\" امتیاز\")","v":"صفر امتیاز"}]

{"sheet":"souratjalase","index":29,"n_rows":49,"n_cols":8,"rows_kept":49,"cut":false,"hidden":false,"merged":[[41,0,41,7],[16,6,16,7],[31,0,31,2],[32,0,32,2],[17,0,17,2],[35,0,35,2],[26,0,26,2],[27,0,27,2],[28,0,28,2],[29,0,29,2],[30,0,30,2],[37,5,37,7],[38,5,38,7],[39,5,39,7],[39,3,39,4],[37,3,37,4],[47,1,48,1],[9,0,9,2],[10,0,10,2],[11,0,11,2],[12,0,12,2],[13,0,13,2],[45,2,45,3],[39,0,39,2],[40,0,40,7],[42,0,42,7],[36,0,36,7],[37,0,37,2],[38,0,38,2],[14,0,14,2],[43,2,43,3],[44,2,44,3],[15,6,15,7],[8,6,8,7],[9,6,9,7],[10,6,10,7],[11,6,11,7],[12,6,12,7],[13,6,13,7],[14,6,14,7],[38,3,38,4],[8,0,8,2],[34,0,34,2],[33,0,33,2],[18,0,18,2],[19,0,19,2],[20,0,20,2],[24,0,24,2],[25,0,25,2],[15,0,15,2],[16,0,16,2],[21,0,21,2],[22,0,22,2],[23,0,23,2],[0,0,1,0],[1,1,1,6],[3,0,3,1],[2,2,2,4],[3,2,3,4],[0,1,0,6],[2,0,2,1],[4,0,4,7],[7,3,7,5],[7,6,7,7],[5,0,5,2],[6,0,7,2],[6,6,6,7]]}
[null,{"$f":"param!C29","v":"مدیریت اداری و پشتیبانی\nارتقای رتبه اعضای غیر هیأت علمی"},null,null,null,null,null,"تاریخ"]
[null,"صورتجلسه امتیازدهی",null,null,null,null,null,14030701]
["نام",null,"نام خانوادگی",null,null,"رتبه درخواستی","سابقه","شماره پرسنلی"]
[{"$f":"moshakhasat!B5","v":0},null,{"$f":"moshakhasat!C5","v":0},null,null,{"$f":"rotbe!G5","v":"مهارتی"},{"$f":"IFERROR(ROUNDDOWN(SUM(sanavat!$G:$G)/365,0)&\" سال و \"&ROUNDDOWN((((SUM(sanavat!$G:$G)/365)-LEFT(SUM(sanavat!$G:$G)/365,(SEARCH(\".\",SUM(sanavat!$G:$G)/365))-1))*365)/30,0)&\" ماه\",0)","v":0},{"$f":"moshakhasat!G5","v":0}]
[{"$f":"emtiyaz!B5","v":"مجموع امتیازات"}]
[null,null,null,{"$f":"emtiyaz!B6","v":"امتیاز کسب شده"},{"$f":"emtiyaz!C6","v":"حداقل امتیاز"},{"$f":"emtiyaz!D6","v":"حداکثر امتیاز"},{"$f":"emtiyaz!E6","v":"امتیاز نهایی"},{"$f":"emtiyaz!F6","v":"امتیاز ذخیره"}]
[{"$f":"emtiyaz!A7","v":"مجموع محورها"},null,null,{"$f":"emtiyaz!B7","v":110},{"$f":"emtiyaz!C7","v":""},{"$f":"emtiyaz!D7","v":""},{"$f":"emtiyaz!E7","v":110}]
[null,null,null,{"$f":"emtiyaz!B8","v":"یکصد و ده امتیاز"},null,null,{"$f":"emtiyaz!E8","v":"یکصد و ده امتیاز"}]
["محور الف: سوابق تحصیلی",null,null,{"$f":"emtiyaz!B13","v":0},{"$f":"emtiyaz!C13","v":"-"},{"$f":"emtiyaz!D13","v":""},{"$f":"emtiyaz!E13","v":0}]
[{"$f":"emtiyaz!A14","v":"الف 1: مقطع تحصیلی"},null,null,{"$f":"emtiyaz!B14","v":0},{"$f":"emtiyaz!C14","v":"-"},{"$f":"emtiyaz!D14","v":""}]
[{"$f":"emtiyaz!A15","v":"الف 2: ارتباط مدرک تحصیلی"},null,null,{"$f":"emtiyaz!B15","v":0},{"$f":"emtiyaz!C15","v":"-"},{"$f":"emtiyaz!D15","v":""}]
[{"$f":"emtiyaz!A16","v":"الف 3: محل اخذ مدرک"},null,null,{"$f":"emtiyaz!B16","v":0},{"$f":"emtiyaz!C16","v":"-"},{"$f":"emtiyaz!D16","v":""}]
[{"$f":"emtiyaz!A17","v":"الف 4: معدل"},null,null,{"$f":"emtiyaz!B17","v":0},{"$f":"emtiyaz!C17","v":"-"},{"$f":"emtiyaz!D17","v":""}]
[{"$f":"emtiyaz!A19","v":"محور ب: سوابق اجرایی و تجربی"},null,null,{"$f":"emtiyaz!B19","v":0},{"$f":"emtiyaz!C19","v":""},{"$f":"emtiyaz!D19","v":""},{"$f":"emtiyaz!E19","v":0}]
[{"$f":"emtiyaz!A20","v":"ب1: سنوات خدمتی"},null,null,{"$f":"emtiyaz!B20","v":0},{"$f":"emtiyaz!C20","v":"-"},{"$f":"emtiyaz!D20","v":""}]
[{"$f":"emtiyaz!A21","v":"ب 2: سوابق اجرایی، مدیریتی و سرپرستی"},null,null,{"$f":"emtiyaz!B21","v":0},{"$f":"emtiyaz!C21","v":"-"},{"$f":"emtiyaz!D21","v":""}]
[{"$f":"emtiyaz!A22","v":"ب 3: عضویت در کمیته ها، شوراها"},null,null,{"$f":"emtiyaz!B22","v":0},{"$f":"emtiyaz!C22","v":"-"},{"$f":"emtiyaz!D22","v":""}]
[{"$f":"emtiyaz!A24","v":"محور ج: سوابق آموزشی"},null,null,{"$f":"emtiyaz!B24","v":30},{"$f":"emtiyaz!C24","v":""},{"$f":"emtiyaz!D24","v":""},{"$f":"emtiyaz!E24","v":30},{"$f":"emtiyaz!F24","v":0}]
[{"$f":"emtiyaz!A25","v":"ج 1-1: دوره های آموزشی"},null,null,{"$f":"emtiyaz!B25","v":0},{"$f":"emtiyaz!C25","v":"-"},{"$f":"emtiyaz!D25","v":""}]
[{"$f":"emtiyaz!A26","v":"ج 1-2: شرکت در کارگاه ها و همایش های آموزشی"},null,null,{"$f":"emtiyaz!B26","v":0},{"$f":"emtiyaz!C26","v":"-"},{"$f":"emtiyaz!D26","v":""}]
[{"$f":"emtiyaz!A27","v":"ج 2-1: آموزش به همکاران"},null,null,{"$f":"emtiyaz!B27","v":0},{"$f":"emtiyaz!C27","v":"-"},{"$f":"emtiyaz!D27","v":""}]
[{"$f":"emtiyaz!A28","v":"ج 2-2: تدریس به همکاران"},null,null,{"$f":"emtiyaz!B28","v":0},{"$f":"emtiyaz!C28","v":"-"},{"$f":"emtiyaz!D28","v":""}]
[{"$f":"emtiyaz!A29","v":"ج 3: تسلط به نرم افزار"},null,null,{"$f":"emtiyaz!B29","v":30},{"$f":"emtiyaz!C29","v":"-"},{"$f":"emtiyaz!D29","v":""}]
[{"$f":"emtiyaz!A30","v":"ج 4: تسلط به زبان خارجی"},null,null,{"$f":"emtiyaz!B30","v":0},{"$f":"emtiyaz!C30","v":"-"},{"$f":"emtiyaz!D30","v":50}]
[{"$f":"emtiyaz!A32","v":"محور د: علمی، پژوهشی و فرهنگی"},null,null,{"$f":"emtiyaz!B32","v":80},{"$f":"emtiyaz!C32","v":"-"},{"$f":"emtiyaz!D32","v":""},{"$f":"emtiyaz!E32","v":80},{"$f":"emtiyaz!F32","v":0}]
[{"$f":"emtiyaz!A33","v":"د 1: ارائه پیشنهادات نو و ابتکاری"},null,null,{"$f":"emtiyaz!B33","v":0},{"$f":"emtiyaz!C33","v":"-"},{"$f":"emtiyaz!D33","v":""}]
[{"$f":"emtiyaz!A34","v":"د 2: فعالیت های پژوهشی"},null,null,{"$f":"emtiyaz!B34","v":0},{"$f":"emtiyaz!C34","v":"-"},{"$f":"emtiyaz!D34","v":""}]
[{"$f":"emtiyaz!A35","v":"د 3 الف: گزارش تحلیلی و تحقیقی شغلی"},null,null,{"$f":"emtiyaz!B35","v":0},{"$f":"emtiyaz!C35","v":"-"},{"$f":"emtiyaz!D35","v":""}]
[{"$f":"emtiyaz!A36","v":"د 3 ب: گزارش عملکرد شغلی"},null,null,{"$f":"emtiyaz!B36","v":0},{"$f":"emtiyaz!C36","v":"-"},{"$f":"emtiyaz!D36","v":""}]
[{"$f":"emtiyaz!A37","v":"د 4: دریافت لوح تقدیر و تشویق"},null,null,{"$f":"emtiyaz!B37","v":0},{"$f":"emtiyaz!C37","v":"-"},{"$f":"emtiyaz!D37","v":""}]
[{"$f":"emtiyaz!A38","v":"د 5: کسب عنوان «کارمند یا مدیر نمونه»"},null,null,{"$f":"emtiyaz!B38","v":0},{"$f":"emtiyaz!C38","v":"-"},{"$f":"emtiyaz!D38","v":""}]
[{"$f":"emtiyaz!A39","v":"د 6: تکریم ارباب رجوع"},null,null,{"$f":"emtiyaz!B39","v":50},{"$f":"emtiyaz!C39","v":"-"},{"$f":"emtiyaz!D39","v":""}]
[{"$f":"emtiyaz!A40","v":"د 7: تعظیم شعائر اسلامی و مذهبی"},null,null,{"$f":"emtiyaz!B40","v":30},{"$f":"emtiyaz!C40","v":"-"},{"$f":"emtiyaz!D40","v":""}]
[{"$f":"emtiyaz!A41","v":"د 8: تدوین یا بازنگری آیین نامه ها، دستورالعمل ها و مجموعه مقررات جاری"},null,null,{"$f":"emtiyaz!B41","v":0},{"$f":"emtiyaz!C41","v":"-"},{"$f":"emtiyaz!D41","v":""}]
[{"$f":"emtiyaz!A42","v":"د 9: احصای فرآیندها و اصلاح روش های انجام کار"},null,null,{"$f":"emtiyaz!B42","v":0},{"$f":"emtiyaz!C42","v":"-"},{"$f":"emtiyaz!D42","v":""}]
[{"$f":"emtiyaz!A43","v":"د 10: مستندسازی فعالیت ها و تجربیات"},null,null,{"$f":"emtiyaz!B43","v":0},{"$f":"emtiyaz!C43","v":"-"},{"$f":"emtiyaz!D43","v":""}]
[{"$f":"emtiyaz!A45","v":"مجموع امتیازات ذخیره شده"}]
["امتیاز ذخیره شده در رتبه قبلی",null,null,{"$f":"emtiyaz!C46","v":"امتیاز ذخیره شده برای رتبه بالاتر"},null,{"$f":"emtiyaz!E46","v":"حداکثر امتیاز قابل ذخیره"}]
[{"$f":"emtiyaz!A47","v":0},null,null,{"$f":"emtiyaz!C47","v":0},null,{"$f":"emtiyaz!E47","v":0}]
[{"$f":"emtiyaz!A48","v":"صفر امتیاز"},null,null,{"$f":"emtiyaz!C48","v":"صفر امتیاز"},null,{"$f":"emtiyaz!E48","v":"صفر امتیاز"}]
["نتیجه بررسی پرونده متقاضی"]
[{"$f":"emtiyaz!A10","v":"عدم کسب امتیاز لازم برای ارتقاء به رتبه مهارتی"}]
[{"$f":"emtiyaz!A11","v":{"$error":"#NUM!"}}]
[{"$f":"komite!B2","v":"ایوب پروینی"},{"$f":"komite!B3","v":"اسماعیل عبدالهاشمی"},{"$f":"komite!B4","v":0},null,{"$f":"komite!B5","v":"رمضان خوئینی"},{"$f":"komite!B6","v":"حمید نظری"},{"$f":"komite!B7","v":"مهدی اسمعیلی"},{"$f":"komite!B8","v":"علی درودیان"}]
[{"$f":"komite!C2","v":"دبیر کمیته و مدیر امور اداری و پشتیبانی"},{"$f":"komite!C3","v":"عضو کمیته"},{"$f":"komite!C4","v":"عضو کمیته"},null,{"$f":"komite!C5","v":"عضو کمیته"},{"$f":"komite!C6","v":"عضو کمیته"},{"$f":"komite!C7","v":"عضو کمیته"},{"$f":"komite!C8","v":"عضو کمیته"}]
[]
[]
[{"$f":"komite!B9","v":"بهروز اینانلو"}]
[{"$f":"komite!C9","v":"مسئول دبیرخانه کمیته ارتقای کارکنان"}]